BEGIN:VCALENDAR
VERSION:2.0
PRODID:-//GoiásFomento - Agência de Fomento - ECPv6.15.20//NONSGML v1.0//EN
CALSCALE:GREGORIAN
METHOD:PUBLISH
X-WR-CALNAME:GoiásFomento - Agência de Fomento
X-ORIGINAL-URL:https://www.goiasfomento.com
X-WR-CALDESC:Eventos para GoiásFomento - Agência de Fomento
REFRESH-INTERVAL;VALUE=DURATION:PT1H
X-Robots-Tag:noindex
X-PUBLISHED-TTL:PT1H
BEGIN:VTIMEZONE
TZID:America/Sao_Paulo
BEGIN:STANDARD
TZOFFSETFROM:-0300
TZOFFSETTO:-0300
TZNAME:-03
DTSTART:20230101T000000
END:STANDARD
END:VTIMEZONE
BEGIN:VEVENT
DTSTART;VALUE=DATE:20241004
DTEND;VALUE=DATE:20241005
DTSTAMP:20260425T075744
CREATED:20241001T111637Z
LAST-MODIFIED:20241001T111637Z
UID:37209-1728000000-1728086399@www.goiasfomento.com
SUMMARY:Cargo Vago desde 02/07/2024.
DESCRIPTION:
URL:https://www.goiasfomento.com/agenda/cargo-vago-desde-02-07-2024-66/
LOCATION:Chefia de Gabinete – Agência de Fomento de Goiás
CATEGORIES:Chefia de Gabinete
END:VEVENT
BEGIN:VEVENT
DTSTART;TZID=America/Sao_Paulo:20241004T080000
DTEND;TZID=America/Sao_Paulo:20241004T120000
DTSTAMP:20260425T075744
CREATED:20241004T105934Z
LAST-MODIFIED:20241004T105934Z
UID:37256-1728028800-1728043200@www.goiasfomento.com
SUMMARY:Vinícius Luz: Despachos Internos.
DESCRIPTION:
URL:https://www.goiasfomento.com/agenda/vinicius-luz-despachos-internos-94/
LOCATION:Gabinete da Diretoria de Operações da GoiásFomento – Agência de Fomento de Goiás.
CATEGORIES:Diretoria de Operações
END:VEVENT
BEGIN:VEVENT
DTSTART;TZID=America/Sao_Paulo:20241004T080000
DTEND;TZID=America/Sao_Paulo:20241004T120000
DTSTAMP:20260425T075744
CREATED:20241004T110119Z
LAST-MODIFIED:20241004T110415Z
UID:37260-1728028800-1728043200@www.goiasfomento.com
SUMMARY:Lucas Fernandes – Diretor Presidente (Interino): Goiás Social.
DESCRIPTION:
URL:https://www.goiasfomento.com/agenda/lucas-fernandes-diretor-presidente-interino-goias-social-3/
LOCATION:Praça da Feira do Conjunto. Vera Cruz II – Avenida Dona Gercina Borges Teixeira.  Bairro: Conjunto Vera Cruz II – Goiânia-GO.
CATEGORIES:Presidência
END:VEVENT
BEGIN:VEVENT
DTSTART;TZID=America/Sao_Paulo:20241004T080000
DTEND;TZID=America/Sao_Paulo:20241004T120000
DTSTAMP:20260425T075744
CREATED:20241004T110257Z
LAST-MODIFIED:20241004T110456Z
UID:37262-1728028800-1728043200@www.goiasfomento.com
SUMMARY:Lucas Fernandes: Goiás Social.
DESCRIPTION:
URL:https://www.goiasfomento.com/agenda/lucas-fernandes-goias-social/
LOCATION:Praça da Feira do Conjunto. Vera Cruz II –  Avenida Dona Gercina Borges Teixeira.  Bairro: Conjunto Vera Cruz II – Goiânia-GO.
CATEGORIES:Diretoria Administrativa e Financeira
END:VEVENT
BEGIN:VEVENT
DTSTART;TZID=America/Sao_Paulo:20241004T140000
DTEND;TZID=America/Sao_Paulo:20241004T180000
DTSTAMP:20260425T075744
CREATED:20241004T110008Z
LAST-MODIFIED:20241004T110008Z
UID:37258-1728050400-1728064800@www.goiasfomento.com
SUMMARY:Vinícius Luz: Despachos Internos.
DESCRIPTION:
URL:https://www.goiasfomento.com/agenda/vinicius-luz-despachos-internos-95/
LOCATION:Gabinete da Diretoria de Operações da GoiásFomento – Agência de Fomento de Goiás.
CATEGORIES:Diretoria de Operações
END:VEVENT
BEGIN:VEVENT
DTSTART;TZID=America/Sao_Paulo:20241004T140000
DTEND;TZID=America/Sao_Paulo:20241004T180000
DTSTAMP:20260425T075744
CREATED:20241004T110559Z
LAST-MODIFIED:20241004T110559Z
UID:37266-1728050400-1728064800@www.goiasfomento.com
SUMMARY:Lucas Fernandes – Diretor Presidente (Interino): Despachos Internos.
DESCRIPTION:
URL:https://www.goiasfomento.com/agenda/lucas-fernandes-diretor-presidente-interino-despachos-internos-93/
LOCATION:Gabinete da Presidência da GoiásFomento – Agência de Fomento de Goiás.
CATEGORIES:Presidência
END:VEVENT
BEGIN:VEVENT
DTSTART;TZID=America/Sao_Paulo:20241004T140000
DTEND;TZID=America/Sao_Paulo:20241004T180000
DTSTAMP:20260425T075744
CREATED:20241004T110642Z
LAST-MODIFIED:20241004T110642Z
UID:37268-1728050400-1728064800@www.goiasfomento.com
SUMMARY:Lucas Fernandes: Despachos Internos.
DESCRIPTION:
URL:https://www.goiasfomento.com/agenda/lucas-fernandes-despachos-internos-541/
LOCATION:Gabinete da Diretoria Administrativa e Financeira – Agência de Fomento de Goiás.
CATEGORIES:Diretoria Administrativa e Financeira
END:VEVENT
BEGIN:VEVENT
DTSTART;VALUE=DATE:20241007
DTEND;VALUE=DATE:20241008
DTSTAMP:20260425T075744
CREATED:20241007T131647Z
LAST-MODIFIED:20241007T131647Z
UID:37275-1728259200-1728345599@www.goiasfomento.com
SUMMARY:Cargo Vago desde 02/07/2024.
DESCRIPTION:
URL:https://www.goiasfomento.com/agenda/cargo-vago-desde-02-07-2024-67/
LOCATION:Chefia de Gabinete – Agência de Fomento de Goiás
CATEGORIES:Chefia de Gabinete
END:VEVENT
BEGIN:VEVENT
DTSTART;TZID=America/Sao_Paulo:20241007T080000
DTEND;TZID=America/Sao_Paulo:20241007T090000
DTSTAMP:20260425T075744
CREATED:20241007T131745Z
LAST-MODIFIED:20241007T133521Z
UID:37277-1728288000-1728291600@www.goiasfomento.com
SUMMARY:Lucas Fernandes – Diretor Presidente (Interino): Despachos Internos.
DESCRIPTION:
URL:https://www.goiasfomento.com/agenda/lucas-fernandes-diretor-presidente-interino-goias-social-4/
LOCATION:Gabinete da Presidência da GoiásFomento – Agência de Fomento de Goiás.
CATEGORIES:Presidência
END:VEVENT
BEGIN:VEVENT
DTSTART;TZID=America/Sao_Paulo:20241007T080000
DTEND;TZID=America/Sao_Paulo:20241007T090000
DTSTAMP:20260425T075744
CREATED:20241007T133609Z
LAST-MODIFIED:20241007T133609Z
UID:37283-1728288000-1728291600@www.goiasfomento.com
SUMMARY:Lucas Fernandes: Despachos Internos.
DESCRIPTION:
URL:https://www.goiasfomento.com/agenda/lucas-fernandes-despachos-internos-542/
LOCATION:Gabinete da Diretoria Administrativa e Financeira – Agência de Fomento de Goiás.
CATEGORIES:Diretoria Administrativa e Financeira
END:VEVENT
BEGIN:VEVENT
DTSTART;TZID=America/Sao_Paulo:20241007T080000
DTEND;TZID=America/Sao_Paulo:20241007T120000
DTSTAMP:20260425T075744
CREATED:20241007T131518Z
LAST-MODIFIED:20241007T131518Z
UID:37271-1728288000-1728302400@www.goiasfomento.com
SUMMARY:Vinícius Luz: Despachos Internos.
DESCRIPTION:
URL:https://www.goiasfomento.com/agenda/vinicius-luz-despachos-internos-96/
LOCATION:Gabinete da Diretoria de Operações da GoiásFomento – Agência de Fomento de Goiás.
CATEGORIES:Diretoria de Operações
END:VEVENT
BEGIN:VEVENT
DTSTART;TZID=America/Sao_Paulo:20241007T090000
DTEND;TZID=America/Sao_Paulo:20241007T100000
DTSTAMP:20260425T075744
CREATED:20241007T133948Z
LAST-MODIFIED:20241007T133948Z
UID:37285-1728291600-1728295200@www.goiasfomento.com
SUMMARY:Lucas Fernandes – Diretor Presidente (Interino): Reunião com os Gerentes.
DESCRIPTION:
URL:https://www.goiasfomento.com/agenda/lucas-fernandes-diretor-presidente-interino-reuniao-com-os-gerentes-2/
LOCATION:Gabinete da Presidência da GoiásFomento – Agência de Fomento de Goiás.
CATEGORIES:Presidência
END:VEVENT
BEGIN:VEVENT
DTSTART;TZID=America/Sao_Paulo:20241007T090000
DTEND;TZID=America/Sao_Paulo:20241007T100000
DTSTAMP:20260425T075744
CREATED:20241007T134030Z
LAST-MODIFIED:20241007T134806Z
UID:37287-1728291600-1728295200@www.goiasfomento.com
SUMMARY:Lucas Fernandes: Reunião com os Gerentes.
DESCRIPTION:
URL:https://www.goiasfomento.com/agenda/lucas-fernandes-reuniao-com-os-gerentes-2/
LOCATION:Gabinete da Diretoria Administrativa e Financeira – Agência de Fomento de Goiás.
CATEGORIES:Diretoria Administrativa e Financeira
END:VEVENT
BEGIN:VEVENT
DTSTART;TZID=America/Sao_Paulo:20241007T100000
DTEND;TZID=America/Sao_Paulo:20241007T120000
DTSTAMP:20260425T075744
CREATED:20241007T134126Z
LAST-MODIFIED:20241007T134126Z
UID:37289-1728295200-1728302400@www.goiasfomento.com
SUMMARY:Lucas Fernandes – Diretor Presidente (Interino): Despachos Internos.
DESCRIPTION:
URL:https://www.goiasfomento.com/agenda/lucas-fernandes-diretor-presidente-interino-despachos-internos-94/
LOCATION:Gabinete da Presidência da GoiásFomento – Agência de Fomento de Goiás.
CATEGORIES:Presidência
END:VEVENT
BEGIN:VEVENT
DTSTART;TZID=America/Sao_Paulo:20241007T100000
DTEND;TZID=America/Sao_Paulo:20241007T120000
DTSTAMP:20260425T075744
CREATED:20241007T134705Z
LAST-MODIFIED:20241007T134705Z
UID:37293-1728295200-1728302400@www.goiasfomento.com
SUMMARY:Lucas Fernandes: Despachos Internos.
DESCRIPTION:
URL:https://www.goiasfomento.com/agenda/lucas-fernandes-despachos-internos-543/
LOCATION:Gabinete da Diretoria Administrativa e Financeira – Agência de Fomento de Goiás.
CATEGORIES:Diretoria Administrativa e Financeira
END:VEVENT
BEGIN:VEVENT
DTSTART;TZID=America/Sao_Paulo:20241007T140000
DTEND;TZID=America/Sao_Paulo:20241007T180000
DTSTAMP:20260425T075744
CREATED:20241007T131558Z
LAST-MODIFIED:20241007T131558Z
UID:37273-1728309600-1728324000@www.goiasfomento.com
SUMMARY:Vinícius Luz: Despachos Internos.
DESCRIPTION:
URL:https://www.goiasfomento.com/agenda/vinicius-luz-despachos-internos-97/
LOCATION:Gabinete da Diretoria de Operações da GoiásFomento – Agência de Fomento de Goiás.
CATEGORIES:Diretoria de Operações
END:VEVENT
BEGIN:VEVENT
DTSTART;TZID=America/Sao_Paulo:20241007T140000
DTEND;TZID=America/Sao_Paulo:20241007T180000
DTSTAMP:20260425T075744
CREATED:20241007T134401Z
LAST-MODIFIED:20241007T134401Z
UID:37291-1728309600-1728324000@www.goiasfomento.com
SUMMARY:Lucas Fernandes – Diretor Presidente (Interino): Despachos Internos.
DESCRIPTION:
URL:https://www.goiasfomento.com/agenda/lucas-fernandes-diretor-presidente-interino-despachos-internos-95/
LOCATION:Gabinete da Presidência da GoiásFomento – Agência de Fomento de Goiás.
CATEGORIES:Presidência
END:VEVENT
BEGIN:VEVENT
DTSTART;TZID=America/Sao_Paulo:20241007T140000
DTEND;TZID=America/Sao_Paulo:20241007T180000
DTSTAMP:20260425T075744
CREATED:20241007T134735Z
LAST-MODIFIED:20241007T134735Z
UID:37295-1728309600-1728324000@www.goiasfomento.com
SUMMARY:Lucas Fernandes: Despachos Internos.
DESCRIPTION:
URL:https://www.goiasfomento.com/agenda/lucas-fernandes-despachos-internos-544/
LOCATION:Gabinete da Diretoria Administrativa e Financeira – Agência de Fomento de Goiás.
CATEGORIES:Diretoria Administrativa e Financeira
END:VEVENT
BEGIN:VEVENT
DTSTART;VALUE=DATE:20241008
DTEND;VALUE=DATE:20241009
DTSTAMP:20260425T075744
CREATED:20241008T112929Z
LAST-MODIFIED:20241008T112929Z
UID:37304-1728345600-1728431999@www.goiasfomento.com
SUMMARY:Cargo Vago desde 02/07/2024.
DESCRIPTION:
URL:https://www.goiasfomento.com/agenda/cargo-vago-desde-02-07-2024-68/
LOCATION:Chefia de Gabinete – Agência de Fomento de Goiás
CATEGORIES:Chefia de Gabinete
END:VEVENT
BEGIN:VEVENT
DTSTART;TZID=America/Sao_Paulo:20241008T080000
DTEND;TZID=America/Sao_Paulo:20241008T120000
DTSTAMP:20260425T075744
CREATED:20241008T112805Z
LAST-MODIFIED:20241008T112805Z
UID:37300-1728374400-1728388800@www.goiasfomento.com
SUMMARY:Vinícius Luz: Despachos Internos.
DESCRIPTION:
URL:https://www.goiasfomento.com/agenda/vinicius-luz-despachos-internos-98/
LOCATION:Gabinete da Diretoria de Operações da GoiásFomento – Agência de Fomento de Goiás.
CATEGORIES:Diretoria de Operações
END:VEVENT
BEGIN:VEVENT
DTSTART;TZID=America/Sao_Paulo:20241008T080000
DTEND;TZID=America/Sao_Paulo:20241008T120000
DTSTAMP:20260425T075744
CREATED:20241008T113020Z
LAST-MODIFIED:20241008T113020Z
UID:37306-1728374400-1728388800@www.goiasfomento.com
SUMMARY:Lucas Fernandes – Diretor Presidente (Interino): Despachos Internos.
DESCRIPTION:
URL:https://www.goiasfomento.com/agenda/lucas-fernandes-diretor-presidente-interino-despachos-internos-96/
LOCATION:Gabinete da Presidência da GoiásFomento – Agência de Fomento de Goiás.
CATEGORIES:Presidência
END:VEVENT
BEGIN:VEVENT
DTSTART;TZID=America/Sao_Paulo:20241008T080000
DTEND;TZID=America/Sao_Paulo:20241008T120000
DTSTAMP:20260425T075744
CREATED:20241008T113127Z
LAST-MODIFIED:20241008T113127Z
UID:37310-1728374400-1728388800@www.goiasfomento.com
SUMMARY:Lucas Fernandes: Despachos Internos.
DESCRIPTION:
URL:https://www.goiasfomento.com/agenda/lucas-fernandes-despachos-internos-545/
LOCATION:Gabinete da Diretoria Administrativa e Financeira – Agência de Fomento de Goiás.
CATEGORIES:Diretoria Administrativa e Financeira
END:VEVENT
BEGIN:VEVENT
DTSTART;TZID=America/Sao_Paulo:20241008T140000
DTEND;TZID=America/Sao_Paulo:20241008T180000
DTSTAMP:20260425T075744
CREATED:20241008T112841Z
LAST-MODIFIED:20241008T112841Z
UID:37302-1728396000-1728410400@www.goiasfomento.com
SUMMARY:Vinícius Luz: Despachos Internos.
DESCRIPTION:
URL:https://www.goiasfomento.com/agenda/vinicius-luz-despachos-internos-99/
LOCATION:Gabinete da Diretoria de Operações da GoiásFomento – Agência de Fomento de Goiás.
CATEGORIES:Diretoria de Operações
END:VEVENT
BEGIN:VEVENT
DTSTART;TZID=America/Sao_Paulo:20241008T140000
DTEND;TZID=America/Sao_Paulo:20241008T180000
DTSTAMP:20260425T075744
CREATED:20241008T113051Z
LAST-MODIFIED:20241008T113051Z
UID:37308-1728396000-1728410400@www.goiasfomento.com
SUMMARY:Lucas Fernandes – Diretor Presidente (Interino): Despachos Internos.
DESCRIPTION:
URL:https://www.goiasfomento.com/agenda/lucas-fernandes-diretor-presidente-interino-despachos-internos-97/
LOCATION:Gabinete da Presidência da GoiásFomento – Agência de Fomento de Goiás.
CATEGORIES:Presidência
END:VEVENT
BEGIN:VEVENT
DTSTART;TZID=America/Sao_Paulo:20241008T140000
DTEND;TZID=America/Sao_Paulo:20241008T180000
DTSTAMP:20260425T075744
CREATED:20241008T113208Z
LAST-MODIFIED:20241008T113208Z
UID:37312-1728396000-1728410400@www.goiasfomento.com
SUMMARY:Lucas Fernandes: Despachos Internos.
DESCRIPTION:
URL:https://www.goiasfomento.com/agenda/lucas-fernandes-despachos-internos-546/
LOCATION:Gabinete da Diretoria Administrativa e Financeira – Agência de Fomento de Goiás.
CATEGORIES:Diretoria Administrativa e Financeira
END:VEVENT
BEGIN:VEVENT
DTSTART;VALUE=DATE:20241009
DTEND;VALUE=DATE:20241010
DTSTAMP:20260425T075744
CREATED:20241009T110819Z
LAST-MODIFIED:20241009T110819Z
UID:37318-1728432000-1728518399@www.goiasfomento.com
SUMMARY:Cargo Vago desde 02/07/2024.
DESCRIPTION:
URL:https://www.goiasfomento.com/agenda/cargo-vago-desde-02-07-2024-69/
LOCATION:Gabiente da Retomada – PPLT
CATEGORIES:Chefia de Gabinete
END:VEVENT
BEGIN:VEVENT
DTSTART;TZID=America/Sao_Paulo:20241009T080000
DTEND;TZID=America/Sao_Paulo:20241009T120000
DTSTAMP:20260425T075744
CREATED:20241009T110643Z
LAST-MODIFIED:20241009T110643Z
UID:37314-1728460800-1728475200@www.goiasfomento.com
SUMMARY:Vinícius Luz: Despachos Internos.
DESCRIPTION:
URL:https://www.goiasfomento.com/agenda/vinicius-luz-despachos-internos-100/
LOCATION:Gabinete da Diretoria de Operações da GoiásFomento – Agência de Fomento de Goiás.
CATEGORIES:Diretoria de Operações
END:VEVENT
BEGIN:VEVENT
DTSTART;TZID=America/Sao_Paulo:20241009T080000
DTEND;TZID=America/Sao_Paulo:20241009T120000
DTSTAMP:20260425T075744
CREATED:20241009T110913Z
LAST-MODIFIED:20241009T110913Z
UID:37320-1728460800-1728475200@www.goiasfomento.com
SUMMARY:Lucas Fernandes – Diretor Presidente (Interino): Despachos Internos.
DESCRIPTION:
URL:https://www.goiasfomento.com/agenda/lucas-fernandes-diretor-presidente-interino-despachos-internos-98/
LOCATION:Gabinete da Presidência da GoiásFomento – Agência de Fomento de Goiás.
CATEGORIES:Presidência
END:VEVENT
BEGIN:VEVENT
DTSTART;TZID=America/Sao_Paulo:20241009T080000
DTEND;TZID=America/Sao_Paulo:20241009T120000
DTSTAMP:20260425T075744
CREATED:20241009T111026Z
LAST-MODIFIED:20241009T111026Z
UID:37324-1728460800-1728475200@www.goiasfomento.com
SUMMARY:Lucas Fernandes: Despachos Internos.
DESCRIPTION:
URL:https://www.goiasfomento.com/agenda/lucas-fernandes-despachos-internos-547/
LOCATION:Gabinete da Diretoria Administrativa e Financeira – Agência de Fomento de Goiás.
CATEGORIES:Diretoria Administrativa e Financeira
END:VEVENT
BEGIN:VEVENT
DTSTART;TZID=America/Sao_Paulo:20241009T140000
DTEND;TZID=America/Sao_Paulo:20241009T180000
DTSTAMP:20260425T075744
CREATED:20241009T110728Z
LAST-MODIFIED:20241009T110728Z
UID:37316-1728482400-1728496800@www.goiasfomento.com
SUMMARY:Vinícius Luz: Despachos Internos.
DESCRIPTION:
URL:https://www.goiasfomento.com/agenda/vinicius-luz-despachos-internos-101/
LOCATION:Gabinete da Diretoria de Operações da GoiásFomento – Agência de Fomento de Goiás.
CATEGORIES:Diretoria de Operações
END:VEVENT
END:VCALENDAR