BEGIN:VCALENDAR
VERSION:2.0
PRODID:-//GoiásFomento - Agência de Fomento - ECPv6.15.20//NONSGML v1.0//EN
CALSCALE:GREGORIAN
METHOD:PUBLISH
X-WR-CALNAME:GoiásFomento - Agência de Fomento
X-ORIGINAL-URL:https://www.goiasfomento.com
X-WR-CALDESC:Eventos para GoiásFomento - Agência de Fomento
REFRESH-INTERVAL;VALUE=DURATION:PT1H
X-Robots-Tag:noindex
X-PUBLISHED-TTL:PT1H
BEGIN:VTIMEZONE
TZID:America/Sao_Paulo
BEGIN:STANDARD
TZOFFSETFROM:-0300
TZOFFSETTO:-0300
TZNAME:-03
DTSTART:20230101T000000
END:STANDARD
END:VTIMEZONE
BEGIN:VEVENT
DTSTART;VALUE=DATE:20240930
DTEND;VALUE=DATE:20241001
DTSTAMP:20260425T110542
CREATED:20240924T105530Z
LAST-MODIFIED:20240924T105530Z
UID:37085-1727654400-1727740799@www.goiasfomento.com
SUMMARY:Cargo Vago desde 02/07/2024.
DESCRIPTION:
URL:https://www.goiasfomento.com/agenda/cargo-vago-desde-02-07-2024-62/
LOCATION:Chefia de Gabinete – Agência de Fomento de Goiás
CATEGORIES:Chefia de Gabinete
END:VEVENT
BEGIN:VEVENT
DTSTART;TZID=America/Sao_Paulo:20240930T080000
DTEND;TZID=America/Sao_Paulo:20240930T090000
DTSTAMP:20260425T110542
CREATED:20240930T130447Z
LAST-MODIFIED:20240930T130447Z
UID:37180-1727683200-1727686800@www.goiasfomento.com
SUMMARY:Lucas Fernandes – Diretor Presidente (Interino): Despachos Internos.
DESCRIPTION:
URL:https://www.goiasfomento.com/agenda/lucas-fernandes-diretor-presidente-interino-despachos-internos-86/
LOCATION:Gabinete da Presidência da GoiásFomento – Agência de Fomento de Goiás.
CATEGORIES:Presidência
END:VEVENT
BEGIN:VEVENT
DTSTART;TZID=America/Sao_Paulo:20240930T080000
DTEND;TZID=America/Sao_Paulo:20240930T090000
DTSTAMP:20260425T110542
CREATED:20240930T130516Z
LAST-MODIFIED:20240930T130516Z
UID:37182-1727683200-1727686800@www.goiasfomento.com
SUMMARY:Lucas Fernandes: Despachos Internos.
DESCRIPTION:
URL:https://www.goiasfomento.com/agenda/lucas-fernandes-despachos-internos-534/
LOCATION:Gabinete da Diretoria Administrativa e Financeira – Agência de Fomento de Goiás.
CATEGORIES:Diretoria Administrativa e Financeira
END:VEVENT
BEGIN:VEVENT
DTSTART;TZID=America/Sao_Paulo:20240930T080000
DTEND;TZID=America/Sao_Paulo:20240930T120000
DTSTAMP:20260425T110542
CREATED:20240930T121007Z
LAST-MODIFIED:20240930T121007Z
UID:37162-1727683200-1727697600@www.goiasfomento.com
SUMMARY:Vinícius Luz: Despachos Internos.
DESCRIPTION:
URL:https://www.goiasfomento.com/agenda/vinicius-luz-despachos-internos-86/
LOCATION:Gabinete da Diretoria de Operações da GoiásFomento – Agência de Fomento de Goiás.
CATEGORIES:Diretoria de Operações
END:VEVENT
BEGIN:VEVENT
DTSTART;TZID=America/Sao_Paulo:20240930T090000
DTEND;TZID=America/Sao_Paulo:20240930T100000
DTSTAMP:20260425T110542
CREATED:20240930T130103Z
LAST-MODIFIED:20240930T130103Z
UID:37176-1727686800-1727690400@www.goiasfomento.com
SUMMARY:Lucas Fernandes – Diretor Presidente (Interino): Reunião com os Gerentes.
DESCRIPTION:
URL:https://www.goiasfomento.com/agenda/lucas-fernandes-diretor-presidente-interino-reuniao-com-os-gerentes/
LOCATION:Gabinete da Presidência da GoiásFomento – Agência de Fomento de Goiás.
CATEGORIES:Presidência
END:VEVENT
BEGIN:VEVENT
DTSTART;TZID=America/Sao_Paulo:20240930T090000
DTEND;TZID=America/Sao_Paulo:20240930T100000
DTSTAMP:20260425T110542
CREATED:20240930T130334Z
LAST-MODIFIED:20240930T130334Z
UID:37178-1727686800-1727690400@www.goiasfomento.com
SUMMARY:Lucas Fernandes: Reunião com os Gerentes.
DESCRIPTION:
URL:https://www.goiasfomento.com/agenda/lucas-fernandes-reuniao-com-os-gerentes/
LOCATION:Gabinete da Diretoria Administrativa e Financeira – Agência de Fomento de Goiás.
CATEGORIES:Diretoria Administrativa e Financeira
END:VEVENT
BEGIN:VEVENT
DTSTART;TZID=America/Sao_Paulo:20240930T100000
DTEND;TZID=America/Sao_Paulo:20240930T110000
DTSTAMP:20260425T110542
CREATED:20240930T122219Z
LAST-MODIFIED:20240930T122219Z
UID:37166-1727690400-1727694000@www.goiasfomento.com
SUMMARY:Lucas Fernandes – Diretor Presidente (Interino): Reunião com o  Diretor Ricardo Barbosa\,  Gerente Fernando Veloso  e Assessor jurídico Dr Mauro da AGEHAB.
DESCRIPTION:
URL:https://www.goiasfomento.com/agenda/lucas-fernandes-diretor-presidente-interino-reuniao-com-o-diretor-ricardo-barbosa-gerente-fernando-veloso-e-assessor-juridico-dr-mauro-da-agehab/
LOCATION:Gabinete da Presidência da GoiásFomento – Agência de Fomento de Goiás.
CATEGORIES:Presidência
END:VEVENT
BEGIN:VEVENT
DTSTART;TZID=America/Sao_Paulo:20240930T100000
DTEND;TZID=America/Sao_Paulo:20240930T110000
DTSTAMP:20260425T110542
CREATED:20240930T122305Z
LAST-MODIFIED:20240930T122305Z
UID:37168-1727690400-1727694000@www.goiasfomento.com
SUMMARY:Lucas Fernandes: Reunião com o  Diretor Ricardo Barbosa\,  Gerente Fernando Veloso  e Assessor jurídico Dr Mauro da AGEHAB.
DESCRIPTION:
URL:https://www.goiasfomento.com/agenda/lucas-fernandes-reuniao-com-o-diretor-ricardo-barbosa-gerente-fernando-veloso-e-assessor-juridico-dr-mauro-da-agehab/
LOCATION:Gabinete da Diretoria Administrativa e Financeira – Agência de Fomento de Goiás.
CATEGORIES:Diretoria Administrativa e Financeira
END:VEVENT
BEGIN:VEVENT
DTSTART;TZID=America/Sao_Paulo:20240930T110000
DTEND;TZID=America/Sao_Paulo:20240930T120000
DTSTAMP:20260425T110542
CREATED:20240930T122412Z
LAST-MODIFIED:20240930T125438Z
UID:37170-1727694000-1727697600@www.goiasfomento.com
SUMMARY:Lucas Fernandes – Diretor Presidente (Interino): Reunião com  a  Comissão de Cargos.
DESCRIPTION:
URL:https://www.goiasfomento.com/agenda/lucas-fernandes-diretor-presidente-interino-despachos-internos-85/
LOCATION:Gabinete da Presidência da GoiásFomento – Agência de Fomento de Goiás.
CATEGORIES:Presidência
END:VEVENT
BEGIN:VEVENT
DTSTART;TZID=America/Sao_Paulo:20240930T110000
DTEND;TZID=America/Sao_Paulo:20240930T120000
DTSTAMP:20260425T110542
CREATED:20240930T122517Z
LAST-MODIFIED:20240930T123853Z
UID:37172-1727694000-1727697600@www.goiasfomento.com
SUMMARY:Lucas Fernandes: Reunião com  a  Comissão de Cargos. .
DESCRIPTION:
URL:https://www.goiasfomento.com/agenda/lucas-fernandes-despachos-internos-533/
LOCATION:Gabinete da Diretoria Administrativa e Financeira – Agência de Fomento de Goiás.
CATEGORIES:Diretoria Administrativa e Financeira
END:VEVENT
BEGIN:VEVENT
DTSTART;TZID=America/Sao_Paulo:20240930T140000
DTEND;TZID=America/Sao_Paulo:20240930T150000
DTSTAMP:20260425T110542
CREATED:20241001T110145Z
LAST-MODIFIED:20241001T110145Z
UID:37189-1727704800-1727708400@www.goiasfomento.com
SUMMARY:Vinícius Luz: Reunião com Assessor de Estratégia e Planejamento.
DESCRIPTION:
URL:https://www.goiasfomento.com/agenda/vinicius-luz-reuniao-com-assessor-de-estrategia-e-planejamento/
LOCATION:Gabinete da Diretoria de Operações da GoiásFomento – Agência de Fomento de Goiás.
CATEGORIES:Diretoria de Operações
END:VEVENT
BEGIN:VEVENT
DTSTART;TZID=America/Sao_Paulo:20240930T140000
DTEND;TZID=America/Sao_Paulo:20240930T180000
DTSTAMP:20260425T110542
CREATED:20240930T130702Z
LAST-MODIFIED:20240930T130702Z
UID:37184-1727704800-1727719200@www.goiasfomento.com
SUMMARY:Lucas Fernandes: Despachos Internos.
DESCRIPTION:
URL:https://www.goiasfomento.com/agenda/lucas-fernandes-despachos-internos-535/
LOCATION:Gabinete da Diretoria Administrativa e Financeira – Agência de Fomento de Goiás.
CATEGORIES:Diretoria Administrativa e Financeira
END:VEVENT
BEGIN:VEVENT
DTSTART;TZID=America/Sao_Paulo:20240930T140000
DTEND;TZID=America/Sao_Paulo:20240930T180000
DTSTAMP:20260425T110542
CREATED:20240930T130908Z
LAST-MODIFIED:20240930T131013Z
UID:37186-1727704800-1727719200@www.goiasfomento.com
SUMMARY:Lucas Fernandes – Diretor Presidente (Interino): Despachos Internos.
DESCRIPTION:
URL:https://www.goiasfomento.com/agenda/lucas-fernandes-diretor-presidente-interino-despachos-internos-87/
LOCATION:Gabinete da Presidência da GoiásFomento – Agência de Fomento de Goiás.
CATEGORIES:Presidência
END:VEVENT
BEGIN:VEVENT
DTSTART;TZID=America/Sao_Paulo:20240930T150000
DTEND;TZID=America/Sao_Paulo:20240930T180000
DTSTAMP:20260425T110542
CREATED:20240930T121035Z
LAST-MODIFIED:20241001T110018Z
UID:37164-1727708400-1727719200@www.goiasfomento.com
SUMMARY:Vinícius Luz: Despachos Internos.
DESCRIPTION:
URL:https://www.goiasfomento.com/agenda/vinicius-luz-despachos-internos-87/
LOCATION:Gabinete da Diretoria de Operações da GoiásFomento – Agência de Fomento de Goiás.
CATEGORIES:Diretoria de Operações
END:VEVENT
BEGIN:VEVENT
DTSTART;VALUE=DATE:20241001
DTEND;VALUE=DATE:20241002
DTSTAMP:20260425T110542
CREATED:20241001T111523Z
LAST-MODIFIED:20241001T111523Z
UID:37203-1727740800-1727827199@www.goiasfomento.com
SUMMARY:Cargo Vago desde 02/07/2024.
DESCRIPTION:
URL:https://www.goiasfomento.com/agenda/cargo-vago-desde-02-07-2024-63/
LOCATION:Chefia de Gabinete – Agência de Fomento de Goiás
CATEGORIES:Chefia de Gabinete
END:VEVENT
BEGIN:VEVENT
DTSTART;TZID=America/Sao_Paulo:20241001T080000
DTEND;TZID=America/Sao_Paulo:20241001T120000
DTSTAMP:20260425T110542
CREATED:20241001T110439Z
LAST-MODIFIED:20241001T110439Z
UID:37191-1727769600-1727784000@www.goiasfomento.com
SUMMARY:Vinícius Luz: Despachos Internos.
DESCRIPTION:
URL:https://www.goiasfomento.com/agenda/vinicius-luz-despachos-internos-88/
LOCATION:Gabinete da Diretoria de Operações da GoiásFomento – Agência de Fomento de Goiás.
CATEGORIES:Diretoria de Operações
END:VEVENT
BEGIN:VEVENT
DTSTART;TZID=America/Sao_Paulo:20241001T080000
DTEND;TZID=America/Sao_Paulo:20241001T120000
DTSTAMP:20260425T110542
CREATED:20241001T111257Z
LAST-MODIFIED:20241001T111257Z
UID:37195-1727769600-1727784000@www.goiasfomento.com
SUMMARY:Lucas Fernandes – Diretor Presidente (Interino): Despachos Internos.
DESCRIPTION:
URL:https://www.goiasfomento.com/agenda/lucas-fernandes-diretor-presidente-interino-despachos-internos-88/
LOCATION:Gabinete da Presidência da GoiásFomento – Agência de Fomento de Goiás.
CATEGORIES:Presidência
END:VEVENT
BEGIN:VEVENT
DTSTART;TZID=America/Sao_Paulo:20241001T080000
DTEND;TZID=America/Sao_Paulo:20241001T120000
DTSTAMP:20260425T110542
CREATED:20241001T111401Z
LAST-MODIFIED:20241001T111401Z
UID:37199-1727769600-1727784000@www.goiasfomento.com
SUMMARY:Lucas Fernandes: Despachos Internos.
DESCRIPTION:
URL:https://www.goiasfomento.com/agenda/lucas-fernandes-despachos-internos-536/
LOCATION:Gabinete da Diretoria Administrativa e Financeira – Agência de Fomento de Goiás.
CATEGORIES:Diretoria Administrativa e Financeira
END:VEVENT
BEGIN:VEVENT
DTSTART;TZID=America/Sao_Paulo:20241001T140000
DTEND;TZID=America/Sao_Paulo:20241001T180000
DTSTAMP:20260425T110542
CREATED:20241001T110626Z
LAST-MODIFIED:20241001T110626Z
UID:37193-1727791200-1727805600@www.goiasfomento.com
SUMMARY:Vinícius Luz: Despachos Internos.
DESCRIPTION:
URL:https://www.goiasfomento.com/agenda/vinicius-luz-despachos-internos-89/
LOCATION:Gabinete da Diretoria de Operações da GoiásFomento – Agência de Fomento de Goiás.
CATEGORIES:Diretoria de Operações
END:VEVENT
BEGIN:VEVENT
DTSTART;TZID=America/Sao_Paulo:20241001T140000
DTEND;TZID=America/Sao_Paulo:20241001T180000
DTSTAMP:20260425T110542
CREATED:20241001T111327Z
LAST-MODIFIED:20241001T111327Z
UID:37197-1727791200-1727805600@www.goiasfomento.com
SUMMARY:Lucas Fernandes – Diretor Presidente (Interino): Despachos Internos.
DESCRIPTION:
URL:https://www.goiasfomento.com/agenda/lucas-fernandes-diretor-presidente-interino-despachos-internos-89/
LOCATION:Gabinete da Presidência da GoiásFomento – Agência de Fomento de Goiás.
CATEGORIES:Presidência
END:VEVENT
BEGIN:VEVENT
DTSTART;TZID=America/Sao_Paulo:20241001T140000
DTEND;TZID=America/Sao_Paulo:20241001T180000
DTSTAMP:20260425T110542
CREATED:20241001T111428Z
LAST-MODIFIED:20241001T111428Z
UID:37201-1727791200-1727805600@www.goiasfomento.com
SUMMARY:Lucas Fernandes: Despachos Internos.
DESCRIPTION:
URL:https://www.goiasfomento.com/agenda/lucas-fernandes-despachos-internos-537/
LOCATION:Gabinete da Diretoria Administrativa e Financeira – Agência de Fomento de Goiás.
CATEGORIES:Diretoria Administrativa e Financeira
END:VEVENT
BEGIN:VEVENT
DTSTART;VALUE=DATE:20241002
DTEND;VALUE=DATE:20241003
DTSTAMP:20260425T110542
CREATED:20241001T111550Z
LAST-MODIFIED:20241001T111550Z
UID:37205-1727827200-1727913599@www.goiasfomento.com
SUMMARY:Cargo Vago desde 02/07/2024.
DESCRIPTION:
URL:https://www.goiasfomento.com/agenda/cargo-vago-desde-02-07-2024-64/
LOCATION:Chefia de Gabinete – Agência de Fomento de Goiás
CATEGORIES:Chefia de Gabinete
END:VEVENT
BEGIN:VEVENT
DTSTART;TZID=America/Sao_Paulo:20241002T080000
DTEND;TZID=America/Sao_Paulo:20241002T120000
DTSTAMP:20260425T110542
CREATED:20241002T114027Z
LAST-MODIFIED:20241002T114027Z
UID:37223-1727856000-1727870400@www.goiasfomento.com
SUMMARY:Vinícius Luz: Despachos Internos.
DESCRIPTION:
URL:https://www.goiasfomento.com/agenda/vinicius-luz-despachos-internos-90/
LOCATION:Gabinete da Diretoria de Operações da GoiásFomento – Agência de Fomento de Goiás.
CATEGORIES:Diretoria de Operações
END:VEVENT
BEGIN:VEVENT
DTSTART;TZID=America/Sao_Paulo:20241002T080000
DTEND;TZID=America/Sao_Paulo:20241002T120000
DTSTAMP:20260425T110542
CREATED:20241002T115019Z
LAST-MODIFIED:20241002T115019Z
UID:37227-1727856000-1727870400@www.goiasfomento.com
SUMMARY:Lucas Fernandes – Diretor Presidente (Interino): Despachos Internos.
DESCRIPTION:
URL:https://www.goiasfomento.com/agenda/lucas-fernandes-diretor-presidente-interino-despachos-internos-90/
LOCATION:Gabinete da Presidência da GoiásFomento – Agência de Fomento de Goiás.
CATEGORIES:Presidência
END:VEVENT
BEGIN:VEVENT
DTSTART;TZID=America/Sao_Paulo:20241002T080000
DTEND;TZID=America/Sao_Paulo:20241002T120000
DTSTAMP:20260425T110542
CREATED:20241002T115200Z
LAST-MODIFIED:20241002T115200Z
UID:37231-1727856000-1727870400@www.goiasfomento.com
SUMMARY:Lucas Fernandes: Despachos Internos.
DESCRIPTION:
URL:https://www.goiasfomento.com/agenda/lucas-fernandes-despachos-internos-538/
LOCATION:Gabinete da Diretoria Administrativa e Financeira – Agência de Fomento de Goiás.
CATEGORIES:Diretoria Administrativa e Financeira
END:VEVENT
BEGIN:VEVENT
DTSTART;TZID=America/Sao_Paulo:20241002T140000
DTEND;TZID=America/Sao_Paulo:20241002T180000
DTSTAMP:20260425T110542
CREATED:20241002T114133Z
LAST-MODIFIED:20241002T114133Z
UID:37225-1727877600-1727892000@www.goiasfomento.com
SUMMARY:Vinícius Luz: Despachos Internos.
DESCRIPTION:
URL:https://www.goiasfomento.com/agenda/vinicius-luz-despachos-internos-91/
LOCATION:Gabinete da Diretoria de Operações da GoiásFomento – Agência de Fomento de Goiás.
CATEGORIES:Diretoria de Operações
END:VEVENT
BEGIN:VEVENT
DTSTART;TZID=America/Sao_Paulo:20241002T140000
DTEND;TZID=America/Sao_Paulo:20241002T180000
DTSTAMP:20260425T110542
CREATED:20241002T115115Z
LAST-MODIFIED:20241002T115115Z
UID:37229-1727877600-1727892000@www.goiasfomento.com
SUMMARY:Lucas Fernandes – Diretor Presidente (Interino): Despachos Internos.
DESCRIPTION:
URL:https://www.goiasfomento.com/agenda/lucas-fernandes-diretor-presidente-interino-despachos-internos-91/
LOCATION:Gabinete da Presidência da GoiásFomento – Agência de Fomento de Goiás.
CATEGORIES:Presidência
END:VEVENT
BEGIN:VEVENT
DTSTART;TZID=America/Sao_Paulo:20241002T140000
DTEND;TZID=America/Sao_Paulo:20241002T180000
DTSTAMP:20260425T110542
CREATED:20241002T115358Z
LAST-MODIFIED:20241002T115358Z
UID:37233-1727877600-1727892000@www.goiasfomento.com
SUMMARY:Lucas Fernandes: Despachos Internos.
DESCRIPTION:
URL:https://www.goiasfomento.com/agenda/lucas-fernandes-despachos-internos-539/
LOCATION:Gabinete da Diretoria Administrativa e Financeira – Agência de Fomento de Goiás.
CATEGORIES:Diretoria Administrativa e Financeira
END:VEVENT
BEGIN:VEVENT
DTSTART;VALUE=DATE:20241003
DTEND;VALUE=DATE:20241004
DTSTAMP:20260425T110542
CREATED:20241001T111611Z
LAST-MODIFIED:20241001T111611Z
UID:37207-1727913600-1727999999@www.goiasfomento.com
SUMMARY:Cargo Vago desde 02/07/2024.
DESCRIPTION:
URL:https://www.goiasfomento.com/agenda/cargo-vago-desde-02-07-2024-65/
LOCATION:Chefia de Gabinete – Agência de Fomento de Goiás
CATEGORIES:Chefia de Gabinete
END:VEVENT
BEGIN:VEVENT
DTSTART;TZID=America/Sao_Paulo:20241003T080000
DTEND;TZID=America/Sao_Paulo:20241003T120000
DTSTAMP:20260425T110542
CREATED:20241003T113902Z
LAST-MODIFIED:20241003T113902Z
UID:37235-1727942400-1727956800@www.goiasfomento.com
SUMMARY:Vinícius Luz: Despachos Internos.
DESCRIPTION:
URL:https://www.goiasfomento.com/agenda/vinicius-luz-despachos-internos-92/
LOCATION:Gabinete da Diretoria de Operações da GoiásFomento – Agência de Fomento de Goiás.
CATEGORIES:Diretoria de Operações
END:VEVENT
END:VCALENDAR