BEGIN:VCALENDAR
VERSION:2.0
PRODID:-//GoiásFomento - Agência de Fomento - ECPv6.15.20//NONSGML v1.0//EN
CALSCALE:GREGORIAN
METHOD:PUBLISH
X-WR-CALNAME:GoiásFomento - Agência de Fomento
X-ORIGINAL-URL:https://www.goiasfomento.com
X-WR-CALDESC:Eventos para GoiásFomento - Agência de Fomento
REFRESH-INTERVAL;VALUE=DURATION:PT1H
X-Robots-Tag:noindex
X-PUBLISHED-TTL:PT1H
BEGIN:VTIMEZONE
TZID:America/Sao_Paulo
BEGIN:STANDARD
TZOFFSETFROM:-0300
TZOFFSETTO:-0300
TZNAME:-03
DTSTART:20230101T000000
END:STANDARD
END:VTIMEZONE
BEGIN:VEVENT
DTSTART;VALUE=DATE:20240913
DTEND;VALUE=DATE:20240914
DTSTAMP:20260425T093915
CREATED:20240912T112510Z
LAST-MODIFIED:20240912T112510Z
UID:36772-1726185600-1726271999@www.goiasfomento.com
SUMMARY:Cargo Vago desde 02/07/2024.
DESCRIPTION:
URL:https://www.goiasfomento.com/agenda/cargo-vago-desde-02-07-2024-50/
LOCATION:Chefia de Gabinete – Agência de Fomento de Goiás
CATEGORIES:Chefia de Gabinete
END:VEVENT
BEGIN:VEVENT
DTSTART;TZID=America/Sao_Paulo:20240913T080000
DTEND;TZID=America/Sao_Paulo:20240913T120000
DTSTAMP:20260425T093915
CREATED:20240913T110846Z
LAST-MODIFIED:20240913T110952Z
UID:36807-1726214400-1726228800@www.goiasfomento.com
SUMMARY:Vinícius Luz: Despachos Internos.
DESCRIPTION:
URL:https://www.goiasfomento.com/agenda/vinicius-luz-despachos-internos-64/
LOCATION:Gabinete da Diretoria de Operações da GoiásFomento – Agência de Fomento de Goiás.
CATEGORIES:Diretoria de Operações
END:VEVENT
BEGIN:VEVENT
DTSTART;TZID=America/Sao_Paulo:20240913T080000
DTEND;TZID=America/Sao_Paulo:20240913T120000
DTSTAMP:20260425T093915
CREATED:20240913T125736Z
LAST-MODIFIED:20240913T125736Z
UID:36811-1726214400-1726228800@www.goiasfomento.com
SUMMARY:Lucas Fernandes – Diretor Presidente (Interino): Despachos Internos.
DESCRIPTION:
URL:https://www.goiasfomento.com/agenda/lucas-fernandes-diretor-presidente-interino-despachos-internos-62/
LOCATION:Gabinete da Presidência da GoiásFomento – Agência de Fomento de Goiás.
CATEGORIES:Presidência
END:VEVENT
BEGIN:VEVENT
DTSTART;TZID=America/Sao_Paulo:20240913T080000
DTEND;TZID=America/Sao_Paulo:20240913T120000
DTSTAMP:20260425T093915
CREATED:20240913T130512Z
LAST-MODIFIED:20240913T130512Z
UID:36817-1726214400-1726228800@www.goiasfomento.com
SUMMARY:Lucas Fernandes: Despachos Internos.
DESCRIPTION:
URL:https://www.goiasfomento.com/agenda/lucas-fernandes-despachos-internos-510/
LOCATION:Gabinete da Diretoria Administrativa e Financeira – Agência de Fomento de Goiás.
CATEGORIES:Diretoria Administrativa e Financeira
END:VEVENT
BEGIN:VEVENT
DTSTART;TZID=America/Sao_Paulo:20240913T140000
DTEND;TZID=America/Sao_Paulo:20240913T180000
DTSTAMP:20260425T093915
CREATED:20240913T111120Z
LAST-MODIFIED:20240913T111120Z
UID:36809-1726236000-1726250400@www.goiasfomento.com
SUMMARY:Vinícius Luz: Despachos Internos.
DESCRIPTION:
URL:https://www.goiasfomento.com/agenda/vinicius-luz-despachos-internos-65/
LOCATION:Gabinete da Diretoria de Operações da GoiásFomento – Agência de Fomento de Goiás.
CATEGORIES:Diretoria de Operações
END:VEVENT
BEGIN:VEVENT
DTSTART;TZID=America/Sao_Paulo:20240913T140000
DTEND;TZID=America/Sao_Paulo:20240913T180000
DTSTAMP:20260425T093915
CREATED:20240913T125814Z
LAST-MODIFIED:20240913T125814Z
UID:36813-1726236000-1726250400@www.goiasfomento.com
SUMMARY:Lucas Fernandes – Diretor Presidente (Interino): Despachos Internos.
DESCRIPTION:
URL:https://www.goiasfomento.com/agenda/lucas-fernandes-diretor-presidente-interino-despachos-internos-63/
LOCATION:Gabinete da Presidência da GoiásFomento – Agência de Fomento de Goiás.
CATEGORIES:Presidência
END:VEVENT
BEGIN:VEVENT
DTSTART;TZID=America/Sao_Paulo:20240913T140000
DTEND;TZID=America/Sao_Paulo:20240913T180000
DTSTAMP:20260425T093915
CREATED:20240913T130544Z
LAST-MODIFIED:20240913T130544Z
UID:36819-1726236000-1726250400@www.goiasfomento.com
SUMMARY:Lucas Fernandes: Despachos Internos.
DESCRIPTION:
URL:https://www.goiasfomento.com/agenda/lucas-fernandes-despachos-internos-511/
LOCATION:Gabinete da Diretoria Administrativa e Financeira – Agência de Fomento de Goiás.
CATEGORIES:Diretoria Administrativa e Financeira
END:VEVENT
BEGIN:VEVENT
DTSTART;VALUE=DATE:20240916
DTEND;VALUE=DATE:20240917
DTSTAMP:20260425T093915
CREATED:20240916T110254Z
LAST-MODIFIED:20240916T110254Z
UID:36861-1726444800-1726531199@www.goiasfomento.com
SUMMARY:Cargo Vago desde 02/07/2024.
DESCRIPTION:
URL:https://www.goiasfomento.com/agenda/cargo-vago-desde-02-07-2024-52/
LOCATION:Chefia de Gabinete – Agência de Fomento de Goiás
CATEGORIES:Chefia de Gabinete
END:VEVENT
BEGIN:VEVENT
DTSTART;TZID=America/Sao_Paulo:20240916T080000
DTEND;TZID=America/Sao_Paulo:20240916T090000
DTSTAMP:20260425T093915
CREATED:20240916T110623Z
LAST-MODIFIED:20240916T133223Z
UID:36871-1726473600-1726477200@www.goiasfomento.com
SUMMARY:Lucas Fernandes – Diretor Presidente (Interino): Despachos Internos.
DESCRIPTION:
URL:https://www.goiasfomento.com/agenda/lucas-fernandes-diretor-presidente-interino-despachos-internos-64/
LOCATION:Gabinete da Presidência da GoiásFomento – Agência de Fomento de Goiás.
CATEGORIES:Presidência
END:VEVENT
BEGIN:VEVENT
DTSTART;TZID=America/Sao_Paulo:20240916T080000
DTEND;TZID=America/Sao_Paulo:20240916T090000
DTSTAMP:20260425T093915
CREATED:20240916T110730Z
LAST-MODIFIED:20240916T133322Z
UID:36875-1726473600-1726477200@www.goiasfomento.com
SUMMARY:Lucas Fernandes: Despachos Internos.
DESCRIPTION:
URL:https://www.goiasfomento.com/agenda/lucas-fernandes-despachos-internos-512/
LOCATION:Gabinete da Diretoria Administrativa e Financeira – Agência de Fomento de Goiás.
CATEGORIES:Diretoria Administrativa e Financeira
END:VEVENT
BEGIN:VEVENT
DTSTART;TZID=America/Sao_Paulo:20240916T080000
DTEND;TZID=America/Sao_Paulo:20240916T120000
DTSTAMP:20260425T093916
CREATED:20240916T105953Z
LAST-MODIFIED:20240916T105953Z
UID:36857-1726473600-1726488000@www.goiasfomento.com
SUMMARY:Vinícius Luz: Despachos Internos.
DESCRIPTION:
URL:https://www.goiasfomento.com/agenda/vinicius-luz-despachos-internos-66/
LOCATION:Gabinete da Diretoria de Operações da GoiásFomento – Agência de Fomento de Goiás.
CATEGORIES:Diretoria de Operações
END:VEVENT
BEGIN:VEVENT
DTSTART;TZID=America/Sao_Paulo:20240916T090000
DTEND;TZID=America/Sao_Paulo:20240916T110000
DTSTAMP:20260425T093916
CREATED:20240916T133607Z
LAST-MODIFIED:20240916T133628Z
UID:36898-1726477200-1726484400@www.goiasfomento.com
SUMMARY:Lucas Fernandes – Diretor Presidente (Interino): Reunião com os Gerentes da Diretoria Operacões.
DESCRIPTION:
URL:https://www.goiasfomento.com/agenda/lucas-fernandes-diretor-presidente-interino-reuinao-com-os-gerentes-da-diretoria-operacoes/
LOCATION:Gabinete da Presidência da GoiásFomento – Agência de Fomento de Goiás.
CATEGORIES:Presidência
END:VEVENT
BEGIN:VEVENT
DTSTART;TZID=America/Sao_Paulo:20240916T090000
DTEND;TZID=America/Sao_Paulo:20240916T110000
DTSTAMP:20260425T093916
CREATED:20240916T133727Z
LAST-MODIFIED:20240916T133727Z
UID:36901-1726477200-1726484400@www.goiasfomento.com
SUMMARY:Lucas Fernandes: Reunião com os Gerentes da Diretoria Operacões.
DESCRIPTION:
URL:https://www.goiasfomento.com/agenda/lucas-fernandes-reuniao-com-os-gerentes-da-diretoria-operacoes/
LOCATION:Gabinete da Diretoria Administrativa e Financeira – Agência de Fomento de Goiás.
CATEGORIES:Diretoria Administrativa e Financeira
END:VEVENT
BEGIN:VEVENT
DTSTART;TZID=America/Sao_Paulo:20240916T110000
DTEND;TZID=America/Sao_Paulo:20240916T120000
DTSTAMP:20260425T093916
CREATED:20240916T144900Z
LAST-MODIFIED:20240916T145206Z
UID:36966-1726484400-1726488000@www.goiasfomento.com
SUMMARY:Lucas Fernandes – Diretor Presidente (Interino): Reunião com o Secretario da Agência de Fomento de Goiás.
DESCRIPTION:
URL:https://www.goiasfomento.com/agenda/lucas-fernandes-diretor-presidente-interino-reuniao-com-o-secretario-da-agencia-de-fomento-de-goias/
CATEGORIES:Presidência
END:VEVENT
BEGIN:VEVENT
DTSTART;TZID=America/Sao_Paulo:20240916T110000
DTEND;TZID=America/Sao_Paulo:20240916T120000
DTSTAMP:20260425T093916
CREATED:20240916T145056Z
LAST-MODIFIED:20240916T145056Z
UID:36971-1726484400-1726488000@www.goiasfomento.com
SUMMARY:Lucas Fernandes: Reunião com o Secretario da Agência de Fomento de Goiás.
DESCRIPTION:
URL:https://www.goiasfomento.com/agenda/lucas-fernandes-reuniao-com-o-secretario-da-agencia-de-fomento-de-goias/
LOCATION:Gabinete da Diretoria Administrativa e Financeira – Agência de Fomento de Goiás.
CATEGORIES:Diretoria Administrativa e Financeira
END:VEVENT
BEGIN:VEVENT
DTSTART;TZID=America/Sao_Paulo:20240916T140000
DTEND;TZID=America/Sao_Paulo:20240916T180000
DTSTAMP:20260425T093916
CREATED:20240916T110124Z
LAST-MODIFIED:20240916T110124Z
UID:36859-1726495200-1726509600@www.goiasfomento.com
SUMMARY:Vinícius Luz: Despachos Internos.
DESCRIPTION:
URL:https://www.goiasfomento.com/agenda/vinicius-luz-despachos-internos-67/
LOCATION:Gabinete da Diretoria de Operações da GoiásFomento – Agência de Fomento de Goiás.
CATEGORIES:Diretoria de Operações
END:VEVENT
BEGIN:VEVENT
DTSTART;TZID=America/Sao_Paulo:20240916T140000
DTEND;TZID=America/Sao_Paulo:20240916T180000
DTSTAMP:20260425T093916
CREATED:20240916T110651Z
LAST-MODIFIED:20240916T110651Z
UID:36873-1726495200-1726509600@www.goiasfomento.com
SUMMARY:Lucas Fernandes – Diretor Presidente (Interino): Despachos Internos.
DESCRIPTION:
URL:https://www.goiasfomento.com/agenda/lucas-fernandes-diretor-presidente-interino-despachos-internos-65/
LOCATION:Gabinete da Presidência da GoiásFomento – Agência de Fomento de Goiás.
CATEGORIES:Presidência
END:VEVENT
BEGIN:VEVENT
DTSTART;TZID=America/Sao_Paulo:20240916T140000
DTEND;TZID=America/Sao_Paulo:20240916T180000
DTSTAMP:20260425T093916
CREATED:20240916T110801Z
LAST-MODIFIED:20240916T110801Z
UID:36877-1726495200-1726509600@www.goiasfomento.com
SUMMARY:Lucas Fernandes: Despachos Internos.
DESCRIPTION:
URL:https://www.goiasfomento.com/agenda/lucas-fernandes-despachos-internos-513/
LOCATION:Gabinete da Diretoria Administrativa e Financeira – Agência de Fomento de Goiás.
CATEGORIES:Diretoria Administrativa e Financeira
END:VEVENT
BEGIN:VEVENT
DTSTART;VALUE=DATE:20240917
DTEND;VALUE=DATE:20240918
DTSTAMP:20260425T093916
CREATED:20240916T110347Z
LAST-MODIFIED:20240916T110347Z
UID:36865-1726531200-1726617599@www.goiasfomento.com
SUMMARY:Cargo Vago desde 02/07/2024.
DESCRIPTION:
URL:https://www.goiasfomento.com/agenda/cargo-vago-desde-02-07-2024-54/
LOCATION:Chefia de Gabinete – Agência de Fomento de Goiás
CATEGORIES:Chefia de Gabinete
END:VEVENT
BEGIN:VEVENT
DTSTART;TZID=America/Sao_Paulo:20240917T080000
DTEND;TZID=America/Sao_Paulo:20240917T120000
DTSTAMP:20260425T093916
CREATED:20240917T112153Z
LAST-MODIFIED:20240917T112153Z
UID:36978-1726560000-1726574400@www.goiasfomento.com
SUMMARY:Vinícius Luz: Despachos Internos.
DESCRIPTION:
URL:https://www.goiasfomento.com/agenda/vinicius-luz-despachos-internos-68/
LOCATION:Gabinete da Diretoria de Operações da GoiásFomento – Agência de Fomento de Goiás.
CATEGORIES:Diretoria de Operações
END:VEVENT
BEGIN:VEVENT
DTSTART;TZID=America/Sao_Paulo:20240917T080000
DTEND;TZID=America/Sao_Paulo:20240917T120000
DTSTAMP:20260425T093916
CREATED:20240917T112842Z
LAST-MODIFIED:20240917T112842Z
UID:36982-1726560000-1726574400@www.goiasfomento.com
SUMMARY:Lucas Fernandes – Diretor Presidente (Interino): Despachos Internos.
DESCRIPTION:
URL:https://www.goiasfomento.com/agenda/lucas-fernandes-diretor-presidente-interino-despachos-internos-66/
LOCATION:Gabinete da Presidência da GoiásFomento – Agência de Fomento de Goiás.
CATEGORIES:Presidência
END:VEVENT
BEGIN:VEVENT
DTSTART;TZID=America/Sao_Paulo:20240917T080000
DTEND;TZID=America/Sao_Paulo:20240917T120000
DTSTAMP:20260425T093916
CREATED:20240917T113001Z
LAST-MODIFIED:20240917T113001Z
UID:36986-1726560000-1726574400@www.goiasfomento.com
SUMMARY:Lucas Fernandes: Despachos Internos.
DESCRIPTION:
URL:https://www.goiasfomento.com/agenda/lucas-fernandes-despachos-internos-514/
LOCATION:Gabinete da Diretoria Administrativa e Financeira – Agência de Fomento de Goiás.
CATEGORIES:Diretoria Administrativa e Financeira
END:VEVENT
BEGIN:VEVENT
DTSTART;TZID=America/Sao_Paulo:20240917T140000
DTEND;TZID=America/Sao_Paulo:20240917T180000
DTSTAMP:20260425T093916
CREATED:20240917T112537Z
LAST-MODIFIED:20240917T112537Z
UID:36980-1726581600-1726596000@www.goiasfomento.com
SUMMARY:Vinícius Luz: Despachos Internos.
DESCRIPTION:
URL:https://www.goiasfomento.com/agenda/vinicius-luz-despachos-internos-69/
LOCATION:Gabinete da Diretoria de Operações da GoiásFomento – Agência de Fomento de Goiás.
CATEGORIES:Diretoria de Operações
END:VEVENT
BEGIN:VEVENT
DTSTART;TZID=America/Sao_Paulo:20240917T140000
DTEND;TZID=America/Sao_Paulo:20240917T180000
DTSTAMP:20260425T093916
CREATED:20240917T112913Z
LAST-MODIFIED:20240917T112925Z
UID:36984-1726581600-1726596000@www.goiasfomento.com
SUMMARY:Lucas Fernandes – Diretor Presidente (Interino): Despachos Internos.
DESCRIPTION:
URL:https://www.goiasfomento.com/agenda/lucas-fernandes-diretor-presidente-interino-despachos-internos-67/
LOCATION:Gabinete da Presidência da GoiásFomento – Agência de Fomento de Goiás.
CATEGORIES:Presidência
END:VEVENT
BEGIN:VEVENT
DTSTART;TZID=America/Sao_Paulo:20240917T140000
DTEND;TZID=America/Sao_Paulo:20240917T180000
DTSTAMP:20260425T093916
CREATED:20240917T113030Z
LAST-MODIFIED:20240917T113030Z
UID:36988-1726581600-1726596000@www.goiasfomento.com
SUMMARY:Lucas Fernandes: Despachos Internos.
DESCRIPTION:
URL:https://www.goiasfomento.com/agenda/lucas-fernandes-despachos-internos-515/
LOCATION:Gabinete da Diretoria Administrativa e Financeira – Agência de Fomento de Goiás.
CATEGORIES:Diretoria Administrativa e Financeira
END:VEVENT
BEGIN:VEVENT
DTSTART;VALUE=DATE:20240918
DTEND;VALUE=DATE:20240919
DTSTAMP:20260425T093916
CREATED:20240916T110411Z
LAST-MODIFIED:20240916T110411Z
UID:36867-1726617600-1726703999@www.goiasfomento.com
SUMMARY:Cargo Vago desde 02/07/2024.
DESCRIPTION:
URL:https://www.goiasfomento.com/agenda/cargo-vago-desde-02-07-2024-55/
LOCATION:Chefia de Gabinete – Agência de Fomento de Goiás
CATEGORIES:Chefia de Gabinete
END:VEVENT
BEGIN:VEVENT
DTSTART;TZID=America/Sao_Paulo:20240918T080000
DTEND;TZID=America/Sao_Paulo:20240918T110000
DTSTAMP:20260425T093916
CREATED:20240920T113745Z
LAST-MODIFIED:20240920T113745Z
UID:37038-1726646400-1726657200@www.goiasfomento.com
SUMMARY:Vinícius Luz: Despachos Internos.
DESCRIPTION:
URL:https://www.goiasfomento.com/agenda/vinicius-luz-despachos-internos-72/
LOCATION:Gabinete da Diretoria de Operações da GoiásFomento – Agência de Fomento de Goiás.
CATEGORIES:Diretoria de Operações
END:VEVENT
BEGIN:VEVENT
DTSTART;TZID=America/Sao_Paulo:20240918T080000
DTEND;TZID=America/Sao_Paulo:20240918T120000
DTSTAMP:20260425T093916
CREATED:20240918T110843Z
LAST-MODIFIED:20240918T110843Z
UID:37010-1726646400-1726660800@www.goiasfomento.com
SUMMARY:Lucas Fernandes – Diretor Presidente (Interino): Despachos Internos.
DESCRIPTION:
URL:https://www.goiasfomento.com/agenda/lucas-fernandes-diretor-presidente-interino-despachos-internos-68/
LOCATION:Gabinete da Presidência da GoiásFomento – Agência de Fomento de Goiás.
CATEGORIES:Presidência
END:VEVENT
BEGIN:VEVENT
DTSTART;TZID=America/Sao_Paulo:20240918T080000
DTEND;TZID=America/Sao_Paulo:20240918T120000
DTSTAMP:20260425T093916
CREATED:20240918T110948Z
LAST-MODIFIED:20240918T110948Z
UID:37014-1726646400-1726660800@www.goiasfomento.com
SUMMARY:Lucas Fernandes: Despachos Internos.
DESCRIPTION:
URL:https://www.goiasfomento.com/agenda/lucas-fernandes-despachos-internos-516/
LOCATION:Gabinete da Diretoria Administrativa e Financeira – Agência de Fomento de Goiás.
CATEGORIES:Diretoria Administrativa e Financeira
END:VEVENT
BEGIN:VEVENT
DTSTART;TZID=America/Sao_Paulo:20240918T080000
DTEND;TZID=America/Sao_Paulo:20240918T170000
DTSTAMP:20260425T093916
CREATED:20240918T111043Z
LAST-MODIFIED:20240918T111043Z
UID:37016-1726646400-1726678800@www.goiasfomento.com
SUMMARY:Lucas Fernandes: Despachos Internos.
DESCRIPTION:
URL:https://www.goiasfomento.com/agenda/lucas-fernandes-despachos-internos-517/
LOCATION:Gabinete da Diretoria Administrativa e Financeira – Agência de Fomento de Goiás.
CATEGORIES:Diretoria Administrativa e Financeira
END:VEVENT
END:VCALENDAR