BEGIN:VCALENDAR
VERSION:2.0
PRODID:-//GoiásFomento - Agência de Fomento - ECPv6.15.20//NONSGML v1.0//EN
CALSCALE:GREGORIAN
METHOD:PUBLISH
X-WR-CALNAME:GoiásFomento - Agência de Fomento
X-ORIGINAL-URL:https://www.goiasfomento.com
X-WR-CALDESC:Eventos para GoiásFomento - Agência de Fomento
REFRESH-INTERVAL;VALUE=DURATION:PT1H
X-Robots-Tag:noindex
X-PUBLISHED-TTL:PT1H
BEGIN:VTIMEZONE
TZID:America/Sao_Paulo
BEGIN:STANDARD
TZOFFSETFROM:-0300
TZOFFSETTO:-0300
TZNAME:-03
DTSTART:20230101T000000
END:STANDARD
END:VTIMEZONE
BEGIN:VEVENT
DTSTART;VALUE=DATE:20240904
DTEND;VALUE=DATE:20240905
DTSTAMP:20260425T093058
CREATED:20240904T131037Z
LAST-MODIFIED:20240904T131037Z
UID:36568-1725408000-1725494399@www.goiasfomento.com
SUMMARY:Cargo Vago desde 02/07/2024.
DESCRIPTION:
URL:https://www.goiasfomento.com/agenda/cargo-vago-desde-02-07-2024-44/
LOCATION:Chefia de Gabinete – Agência de Fomento de Goiás
CATEGORIES:Chefia de Gabinete
END:VEVENT
BEGIN:VEVENT
DTSTART;TZID=America/Sao_Paulo:20240904T080000
DTEND;TZID=America/Sao_Paulo:20240904T100000
DTSTAMP:20260425T093058
CREATED:20240904T131144Z
LAST-MODIFIED:20240904T131144Z
UID:36570-1725436800-1725444000@www.goiasfomento.com
SUMMARY:Lucas Fernandes – Diretor Presidente (Interino): Despachos Internos.
DESCRIPTION:
URL:https://www.goiasfomento.com/agenda/lucas-fernandes-diretor-presidente-interino-despachos-internos-47/
LOCATION:Gabinete da Presidência da GoiásFomento – Agência de Fomento de Goiás.
CATEGORIES:Presidência
END:VEVENT
BEGIN:VEVENT
DTSTART;TZID=America/Sao_Paulo:20240904T080000
DTEND;TZID=America/Sao_Paulo:20240904T100000
DTSTAMP:20260425T093058
CREATED:20240904T131248Z
LAST-MODIFIED:20240904T131248Z
UID:36572-1725436800-1725444000@www.goiasfomento.com
SUMMARY:Lucas Fernandes: Despachos Internos.
DESCRIPTION:
URL:https://www.goiasfomento.com/agenda/lucas-fernandes-despachos-internos-495/
LOCATION:Gabinete da Diretoria Administrativa e Financeira – Agência de Fomento de Goiás.
CATEGORIES:Diretoria Administrativa e Financeira
END:VEVENT
BEGIN:VEVENT
DTSTART;TZID=America/Sao_Paulo:20240904T080000
DTEND;TZID=America/Sao_Paulo:20240904T120000
DTSTAMP:20260425T093058
CREATED:20240904T130909Z
LAST-MODIFIED:20240904T130909Z
UID:36564-1725436800-1725451200@www.goiasfomento.com
SUMMARY:Vinícius Luz: Despachos Internos.
DESCRIPTION:
URL:https://www.goiasfomento.com/agenda/vinicius-luz-despachos-internos-50/
LOCATION:Gabinete da Diretoria de Operações da GoiásFomento – Agência de Fomento de Goiás.
CATEGORIES:Diretoria de Operações
END:VEVENT
BEGIN:VEVENT
DTSTART;TZID=America/Sao_Paulo:20240904T100000
DTEND;TZID=America/Sao_Paulo:20240904T110000
DTSTAMP:20260425T093058
CREATED:20240904T131656Z
LAST-MODIFIED:20240916T144600Z
UID:36578-1725444000-1725447600@www.goiasfomento.com
SUMMARY:Lucas Fernandes – Diretor Presidente (Interino): Reunião com os Gerentes da Diretoria Administrativa e Financeira.
DESCRIPTION:
URL:https://www.goiasfomento.com/agenda/lucas-fernandes-diretor-presidente-interino-reuinao-com-os-gerentes-da-diretoria-administrativa-e-financeira/
LOCATION:Gabinete da Presidência da GoiásFomento – Agência de Fomento de Goiás.
CATEGORIES:Presidência
END:VEVENT
BEGIN:VEVENT
DTSTART;TZID=America/Sao_Paulo:20240904T100000
DTEND;TZID=America/Sao_Paulo:20240904T110000
DTSTAMP:20260425T093058
CREATED:20240904T131737Z
LAST-MODIFIED:20240916T144507Z
UID:36580-1725444000-1725447600@www.goiasfomento.com
SUMMARY:Lucas Fernandes: Reunião com os Gerentes da Diretoria Administrativa e Financeira.
DESCRIPTION:
URL:https://www.goiasfomento.com/agenda/lucas-fernandes-reuinao-com-os-gerentes-da-diretoria-administrativa-e-financeira/
LOCATION:Gabinete da Diretoria Administrativa e Financeira – Agência de Fomento de Goiás.
CATEGORIES:Diretoria Administrativa e Financeira
END:VEVENT
BEGIN:VEVENT
DTSTART;TZID=America/Sao_Paulo:20240904T110000
DTEND;TZID=America/Sao_Paulo:20240904T120000
DTSTAMP:20260425T093058
CREATED:20240904T131335Z
LAST-MODIFIED:20240904T131335Z
UID:36574-1725447600-1725451200@www.goiasfomento.com
SUMMARY:Lucas Fernandes – Diretor Presidente (Interino): Despachos Internos.
DESCRIPTION:
URL:https://www.goiasfomento.com/agenda/lucas-fernandes-diretor-presidente-interino-despachos-internos-48/
LOCATION:Gabinete da Presidência da GoiásFomento – Agência de Fomento de Goiás.
CATEGORIES:Presidência
END:VEVENT
BEGIN:VEVENT
DTSTART;TZID=America/Sao_Paulo:20240904T110000
DTEND;TZID=America/Sao_Paulo:20240904T120000
DTSTAMP:20260425T093058
CREATED:20240904T131410Z
LAST-MODIFIED:20240904T131410Z
UID:36576-1725447600-1725451200@www.goiasfomento.com
SUMMARY:Lucas Fernandes: Despachos Internos.
DESCRIPTION:
URL:https://www.goiasfomento.com/agenda/lucas-fernandes-despachos-internos-496/
LOCATION:Gabinete da Diretoria Administrativa e Financeira – Agência de Fomento de Goiás.
CATEGORIES:Diretoria Administrativa e Financeira
END:VEVENT
BEGIN:VEVENT
DTSTART;TZID=America/Sao_Paulo:20240904T140000
DTEND;TZID=America/Sao_Paulo:20240904T180000
DTSTAMP:20260425T093058
CREATED:20240904T130936Z
LAST-MODIFIED:20240904T130936Z
UID:36566-1725458400-1725472800@www.goiasfomento.com
SUMMARY:Vinícius Luz: Despachos Internos.
DESCRIPTION:
URL:https://www.goiasfomento.com/agenda/vinicius-luz-despachos-internos-51/
LOCATION:Gabinete da Diretoria de Operações da GoiásFomento – Agência de Fomento de Goiás.
CATEGORIES:Diretoria de Operações
END:VEVENT
BEGIN:VEVENT
DTSTART;TZID=America/Sao_Paulo:20240904T140000
DTEND;TZID=America/Sao_Paulo:20240904T180000
DTSTAMP:20260425T093058
CREATED:20240904T131839Z
LAST-MODIFIED:20240904T131839Z
UID:36582-1725458400-1725472800@www.goiasfomento.com
SUMMARY:Lucas Fernandes – Diretor Presidente (Interino): Despachos Internos.
DESCRIPTION:
URL:https://www.goiasfomento.com/agenda/lucas-fernandes-diretor-presidente-interino-despachos-internos-49/
LOCATION:Gabinete da Presidência da GoiásFomento – Agência de Fomento de Goiás.
CATEGORIES:Presidência
END:VEVENT
BEGIN:VEVENT
DTSTART;TZID=America/Sao_Paulo:20240904T140000
DTEND;TZID=America/Sao_Paulo:20240904T180000
DTSTAMP:20260425T093058
CREATED:20240904T131915Z
LAST-MODIFIED:20240904T131915Z
UID:36584-1725458400-1725472800@www.goiasfomento.com
SUMMARY:Lucas Fernandes: Despachos Internos.
DESCRIPTION:
URL:https://www.goiasfomento.com/agenda/lucas-fernandes-despachos-internos-497/
LOCATION:Gabinete da Diretoria Administrativa e Financeira – Agência de Fomento de Goiás.
CATEGORIES:Diretoria Administrativa e Financeira
END:VEVENT
BEGIN:VEVENT
DTSTART;VALUE=DATE:20240905
DTEND;VALUE=DATE:20240906
DTSTAMP:20260425T093058
CREATED:20240905T113136Z
LAST-MODIFIED:20240905T113136Z
UID:36594-1725494400-1725580799@www.goiasfomento.com
SUMMARY:Cargo Vago desde 02/07/2024.
DESCRIPTION:
URL:https://www.goiasfomento.com/agenda/cargo-vago-desde-02-07-2024-45/
LOCATION:Chefia de Gabinete – Agência de Fomento de Goiás
CATEGORIES:Chefia de Gabinete
END:VEVENT
BEGIN:VEVENT
DTSTART;TZID=America/Sao_Paulo:20240905T080000
DTEND;TZID=America/Sao_Paulo:20240905T120000
DTSTAMP:20260425T093058
CREATED:20240905T113004Z
LAST-MODIFIED:20240905T113004Z
UID:36590-1725523200-1725537600@www.goiasfomento.com
SUMMARY:Vinícius Luz: Despachos Internos.
DESCRIPTION:
URL:https://www.goiasfomento.com/agenda/vinicius-luz-despachos-internos-52/
LOCATION:Gabinete da Diretoria de Operações da GoiásFomento – Agência de Fomento de Goiás.
CATEGORIES:Diretoria de Operações
END:VEVENT
BEGIN:VEVENT
DTSTART;TZID=America/Sao_Paulo:20240905T080000
DTEND;TZID=America/Sao_Paulo:20240905T120000
DTSTAMP:20260425T093058
CREATED:20240905T113516Z
LAST-MODIFIED:20240905T113516Z
UID:36598-1725523200-1725537600@www.goiasfomento.com
SUMMARY:Lucas Fernandes – Diretor Presidente (Interino): Despachos Internos.
DESCRIPTION:
URL:https://www.goiasfomento.com/agenda/lucas-fernandes-diretor-presidente-interino-despachos-internos-50/
LOCATION:Gabinete da Presidência da GoiásFomento – Agência de Fomento de Goiás.
CATEGORIES:Presidência
END:VEVENT
BEGIN:VEVENT
DTSTART;TZID=America/Sao_Paulo:20240905T080000
DTEND;TZID=America/Sao_Paulo:20240905T120000
DTSTAMP:20260425T093058
CREATED:20240905T113615Z
LAST-MODIFIED:20240905T113615Z
UID:36602-1725523200-1725537600@www.goiasfomento.com
SUMMARY:Lucas Fernandes: Despachos Internos.
DESCRIPTION:
URL:https://www.goiasfomento.com/agenda/lucas-fernandes-despachos-internos-498/
LOCATION:Gabinete da Diretoria Administrativa e Financeira – Agência de Fomento de Goiás.
CATEGORIES:Diretoria Administrativa e Financeira
END:VEVENT
BEGIN:VEVENT
DTSTART;TZID=America/Sao_Paulo:20240905T140000
DTEND;TZID=America/Sao_Paulo:20240905T150000
DTSTAMP:20260425T093058
CREATED:20240905T113543Z
LAST-MODIFIED:20240905T142317Z
UID:36600-1725544800-1725548400@www.goiasfomento.com
SUMMARY:Lucas Fernandes – Diretor Presidente (Interino): Despachos Internos.
DESCRIPTION:
URL:https://www.goiasfomento.com/agenda/lucas-fernandes-diretor-presidente-interino-despachos-internos-51/
LOCATION:Gabinete da Presidência da GoiásFomento – Agência de Fomento de Goiás.
CATEGORIES:Presidência
END:VEVENT
BEGIN:VEVENT
DTSTART;TZID=America/Sao_Paulo:20240905T140000
DTEND;TZID=America/Sao_Paulo:20240905T150000
DTSTAMP:20260425T093058
CREATED:20240905T113648Z
LAST-MODIFIED:20240905T142339Z
UID:36604-1725544800-1725548400@www.goiasfomento.com
SUMMARY:Lucas Fernandes: Despachos Internos.
DESCRIPTION:
URL:https://www.goiasfomento.com/agenda/lucas-fernandes-despachos-internos-499/
LOCATION:Gabinete da Diretoria Administrativa e Financeira – Agência de Fomento de Goiás.
CATEGORIES:Diretoria Administrativa e Financeira
END:VEVENT
BEGIN:VEVENT
DTSTART;TZID=America/Sao_Paulo:20240905T140000
DTEND;TZID=America/Sao_Paulo:20240905T180000
DTSTAMP:20260425T093058
CREATED:20240905T113031Z
LAST-MODIFIED:20240905T113031Z
UID:36592-1725544800-1725559200@www.goiasfomento.com
SUMMARY:Vinícius Luz: Despachos Internos.
DESCRIPTION:
URL:https://www.goiasfomento.com/agenda/vinicius-luz-despachos-internos-53/
LOCATION:Gabinete da Diretoria de Operações da GoiásFomento – Agência de Fomento de Goiás.
CATEGORIES:Diretoria de Operações
END:VEVENT
BEGIN:VEVENT
DTSTART;TZID=America/Sao_Paulo:20240905T150000
DTEND;TZID=America/Sao_Paulo:20240905T180000
DTSTAMP:20260425T093058
CREATED:20240905T142515Z
LAST-MODIFIED:20240905T142515Z
UID:36613-1725548400-1725559200@www.goiasfomento.com
SUMMARY:Lucas Fernandes – Diretor Presidente (Interino): Expo Peças-Feira da Reparação Automotiva de Goiás.
DESCRIPTION:
URL:https://www.goiasfomento.com/agenda/lucas-fernandes-diretor-presidente-interino-expo-pecas-feira-da-reparacao-automotiva-de-goias/
LOCATION:Centro de Convenções de Goiânia.
CATEGORIES:Presidência
END:VEVENT
BEGIN:VEVENT
DTSTART;TZID=America/Sao_Paulo:20240905T150000
DTEND;TZID=America/Sao_Paulo:20240905T180000
DTSTAMP:20260425T093058
CREATED:20240905T142614Z
LAST-MODIFIED:20240905T142614Z
UID:36615-1725548400-1725559200@www.goiasfomento.com
SUMMARY:Lucas Fernandes: Expo Peças-Feira da Reparação Automotiva de Goiás.
DESCRIPTION:
URL:https://www.goiasfomento.com/agenda/lucas-fernandes-expo-pecas-feira-da-reparacao-automotiva-de-goias/
LOCATION:Centro de Convenções de Goiânia.
CATEGORIES:Diretoria Administrativa e Financeira
END:VEVENT
BEGIN:VEVENT
DTSTART;VALUE=DATE:20240906
DTEND;VALUE=DATE:20240907
DTSTAMP:20260425T093058
CREATED:20240905T113328Z
LAST-MODIFIED:20240905T113328Z
UID:36596-1725580800-1725667199@www.goiasfomento.com
SUMMARY:Cargo Vago desde 02/07/2024.
DESCRIPTION:
URL:https://www.goiasfomento.com/agenda/cargo-vago-desde-02-07-2024-46/
LOCATION:Chefia de Gabinete – Agência de Fomento de Goiás
CATEGORIES:Chefia de Gabinete
END:VEVENT
BEGIN:VEVENT
DTSTART;TZID=America/Sao_Paulo:20240906T080000
DTEND;TZID=America/Sao_Paulo:20240906T120000
DTSTAMP:20260425T093058
CREATED:20240906T113044Z
LAST-MODIFIED:20240906T113044Z
UID:36617-1725609600-1725624000@www.goiasfomento.com
SUMMARY:Vinícius Luz: Despachos Internos.
DESCRIPTION:
URL:https://www.goiasfomento.com/agenda/vinicius-luz-despachos-internos-54/
LOCATION:Gabinete da Diretoria de Operações da GoiásFomento – Agência de Fomento de Goiás.
CATEGORIES:Diretoria de Operações
END:VEVENT
BEGIN:VEVENT
DTSTART;TZID=America/Sao_Paulo:20240906T080000
DTEND;TZID=America/Sao_Paulo:20240906T120000
DTSTAMP:20260425T093058
CREATED:20240906T113229Z
LAST-MODIFIED:20240906T113229Z
UID:36621-1725609600-1725624000@www.goiasfomento.com
SUMMARY:Lucas Fernandes – Diretor Presidente (Interino): Despachos Internos.
DESCRIPTION:
URL:https://www.goiasfomento.com/agenda/lucas-fernandes-diretor-presidente-interino-despachos-internos-52/
LOCATION:Gabinete da Presidência da GoiásFomento – Agência de Fomento de Goiás.
CATEGORIES:Presidência
END:VEVENT
BEGIN:VEVENT
DTSTART;TZID=America/Sao_Paulo:20240906T080000
DTEND;TZID=America/Sao_Paulo:20240906T120000
DTSTAMP:20260425T093058
CREATED:20240906T113323Z
LAST-MODIFIED:20240906T113323Z
UID:36625-1725609600-1725624000@www.goiasfomento.com
SUMMARY:Lucas Fernandes: Despachos Internos.
DESCRIPTION:
URL:https://www.goiasfomento.com/agenda/lucas-fernandes-despachos-internos-500/
LOCATION:Gabinete da Diretoria Administrativa e Financeira – Agência de Fomento de Goiás.
CATEGORIES:Diretoria Administrativa e Financeira
END:VEVENT
BEGIN:VEVENT
DTSTART;TZID=America/Sao_Paulo:20240906T140000
DTEND;TZID=America/Sao_Paulo:20240906T180000
DTSTAMP:20260425T093058
CREATED:20240906T113113Z
LAST-MODIFIED:20240906T113113Z
UID:36619-1725631200-1725645600@www.goiasfomento.com
SUMMARY:Vinícius Luz: Despachos Internos.
DESCRIPTION:
URL:https://www.goiasfomento.com/agenda/vinicius-luz-despachos-internos-55/
LOCATION:Gabinete da Diretoria de Operações da GoiásFomento – Agência de Fomento de Goiás.
CATEGORIES:Diretoria de Operações
END:VEVENT
BEGIN:VEVENT
DTSTART;TZID=America/Sao_Paulo:20240906T140000
DTEND;TZID=America/Sao_Paulo:20240906T180000
DTSTAMP:20260425T093058
CREATED:20240906T113256Z
LAST-MODIFIED:20240906T113504Z
UID:36623-1725631200-1725645600@www.goiasfomento.com
SUMMARY:Lucas Fernandes – Diretor Presidente (Interino): Despachos Internos.
DESCRIPTION:
URL:https://www.goiasfomento.com/agenda/lucas-fernandes-diretor-presidente-interino-despachos-internos-53/
LOCATION:Gabinete da Presidência da GoiásFomento – Agência de Fomento de Goiás.
CATEGORIES:Presidência
END:VEVENT
BEGIN:VEVENT
DTSTART;TZID=America/Sao_Paulo:20240906T140000
DTEND;TZID=America/Sao_Paulo:20240906T180000
DTSTAMP:20260425T093058
CREATED:20240906T113357Z
LAST-MODIFIED:20240906T113357Z
UID:36627-1725631200-1725645600@www.goiasfomento.com
SUMMARY:Lucas Fernandes: Despachos Internos.
DESCRIPTION:
URL:https://www.goiasfomento.com/agenda/lucas-fernandes-despachos-internos-501/
LOCATION:Gabinete da Diretoria Administrativa e Financeira – Agência de Fomento de Goiás.
CATEGORIES:Diretoria Administrativa e Financeira
END:VEVENT
BEGIN:VEVENT
DTSTART;VALUE=DATE:20240909
DTEND;VALUE=DATE:20240910
DTSTAMP:20260425T093058
CREATED:20240909T114918Z
LAST-MODIFIED:20240909T114918Z
UID:36633-1725840000-1725926399@www.goiasfomento.com
SUMMARY:Cargo Vago desde 02/07/2024.
DESCRIPTION:
URL:https://www.goiasfomento.com/agenda/cargo-vago-desde-02-07-2024-47/
LOCATION:Chefia de Gabinete – Agência de Fomento de Goiás
CATEGORIES:Chefia de Gabinete
END:VEVENT
BEGIN:VEVENT
DTSTART;TZID=America/Sao_Paulo:20240909T080000
DTEND;TZID=America/Sao_Paulo:20240909T120000
DTSTAMP:20260425T093058
CREATED:20240909T114755Z
LAST-MODIFIED:20240909T114755Z
UID:36629-1725868800-1725883200@www.goiasfomento.com
SUMMARY:Vinícius Luz: Despachos Internos.
DESCRIPTION:
URL:https://www.goiasfomento.com/agenda/vinicius-luz-despachos-internos-56/
LOCATION:Gabinete da Diretoria de Operações da GoiásFomento – Agência de Fomento de Goiás.
CATEGORIES:Diretoria de Operações
END:VEVENT
BEGIN:VEVENT
DTSTART;TZID=America/Sao_Paulo:20240909T080000
DTEND;TZID=America/Sao_Paulo:20240909T120000
DTSTAMP:20260425T093058
CREATED:20240909T115010Z
LAST-MODIFIED:20240909T115010Z
UID:36635-1725868800-1725883200@www.goiasfomento.com
SUMMARY:Lucas Fernandes – Diretor Presidente (Interino): Despachos Internos.
DESCRIPTION:
URL:https://www.goiasfomento.com/agenda/lucas-fernandes-diretor-presidente-interino-despachos-internos-54/
LOCATION:Gabinete da Presidência da GoiásFomento – Agência de Fomento de Goiás.
CATEGORIES:Presidência
END:VEVENT
END:VCALENDAR