BEGIN:VCALENDAR
VERSION:2.0
PRODID:-//GoiásFomento - Agência de Fomento - ECPv6.15.20//NONSGML v1.0//EN
CALSCALE:GREGORIAN
METHOD:PUBLISH
X-WR-CALNAME:GoiásFomento - Agência de Fomento
X-ORIGINAL-URL:https://www.goiasfomento.com
X-WR-CALDESC:Eventos para GoiásFomento - Agência de Fomento
REFRESH-INTERVAL;VALUE=DURATION:PT1H
X-Robots-Tag:noindex
X-PUBLISHED-TTL:PT1H
BEGIN:VTIMEZONE
TZID:America/Sao_Paulo
BEGIN:STANDARD
TZOFFSETFROM:-0300
TZOFFSETTO:-0300
TZNAME:-03
DTSTART:20230101T000000
END:STANDARD
END:VTIMEZONE
BEGIN:VEVENT
DTSTART;VALUE=DATE:20240822
DTEND;VALUE=DATE:20240823
DTSTAMP:20260425T153100
CREATED:20240822T112222Z
LAST-MODIFIED:20240822T112222Z
UID:36376-1724284800-1724371199@www.goiasfomento.com
SUMMARY:Cargo Vago desde 02/07/2024.
DESCRIPTION:
URL:https://www.goiasfomento.com/agenda/cargo-vago-desde-02-07-2024-35/
LOCATION:Chefia de Gabinete – Agência de Fomento de Goiás
CATEGORIES:Chefia de Gabinete
END:VEVENT
BEGIN:VEVENT
DTSTART;TZID=America/Sao_Paulo:20240822T080000
DTEND;TZID=America/Sao_Paulo:20240822T120000
DTSTAMP:20260425T153100
CREATED:20240822T112102Z
LAST-MODIFIED:20240822T112102Z
UID:36372-1724313600-1724328000@www.goiasfomento.com
SUMMARY:Vinícius Luz: Despachos Internos.
DESCRIPTION:
URL:https://www.goiasfomento.com/agenda/vinicius-luz-despachos-internos-32/
LOCATION:Gabinete da Diretoria de Operações da GoiásFomento – Agência de Fomento de Goiás.
CATEGORIES:Diretoria de Operações
END:VEVENT
BEGIN:VEVENT
DTSTART;TZID=America/Sao_Paulo:20240822T080000
DTEND;TZID=America/Sao_Paulo:20240822T120000
DTSTAMP:20260425T153100
CREATED:20240822T112442Z
LAST-MODIFIED:20240822T112653Z
UID:36380-1724313600-1724328000@www.goiasfomento.com
SUMMARY:Lucas Fernandes – Diretor Presidente (Interino): Despachos Internos.
DESCRIPTION:
URL:https://www.goiasfomento.com/agenda/lucas-fernandes-de-andrade-diretor-presidente-interino-despachos-internos-51/
LOCATION:Gabinete da Presidência da GoiásFomento – Agência de Fomento de Goiás.
CATEGORIES:Presidência
END:VEVENT
BEGIN:VEVENT
DTSTART;TZID=America/Sao_Paulo:20240822T080000
DTEND;TZID=America/Sao_Paulo:20240822T120000
DTSTAMP:20260425T153100
CREATED:20240822T112553Z
LAST-MODIFIED:20240822T112553Z
UID:36384-1724313600-1724328000@www.goiasfomento.com
SUMMARY:Lucas Fernandes: Despachos Internos.
DESCRIPTION:
URL:https://www.goiasfomento.com/agenda/lucas-fernandes-despachos-internos-477/
LOCATION:Gabinete da Diretoria Administrativa e Financeira – Agência de Fomento de Goiás.
CATEGORIES:Diretoria Administrativa e Financeira
END:VEVENT
BEGIN:VEVENT
DTSTART;TZID=America/Sao_Paulo:20240822T120000
DTEND;TZID=America/Sao_Paulo:20240822T180000
DTSTAMP:20260425T153100
CREATED:20240822T112137Z
LAST-MODIFIED:20240822T112137Z
UID:36374-1724328000-1724349600@www.goiasfomento.com
SUMMARY:Vinícius Luz: Despachos Internos.
DESCRIPTION:
URL:https://www.goiasfomento.com/agenda/vinicius-luz-despachos-internos-33/
LOCATION:Gabinete da Diretoria de Operações da GoiásFomento – Agência de Fomento de Goiás.
CATEGORIES:Diretoria de Operações
END:VEVENT
BEGIN:VEVENT
DTSTART;TZID=America/Sao_Paulo:20240822T140000
DTEND;TZID=America/Sao_Paulo:20240822T180000
DTSTAMP:20260425T153100
CREATED:20240822T112513Z
LAST-MODIFIED:20240822T112637Z
UID:36382-1724335200-1724349600@www.goiasfomento.com
SUMMARY:Lucas Fernandes – Diretor Presidente (Interino): Despachos Internos.
DESCRIPTION:
URL:https://www.goiasfomento.com/agenda/lucas-fernandes-de-andrade-diretor-presidente-interino-despachos-internos-52/
LOCATION:Gabinete da Presidência da GoiásFomento – Agência de Fomento de Goiás.
CATEGORIES:Presidência
END:VEVENT
BEGIN:VEVENT
DTSTART;TZID=America/Sao_Paulo:20240822T140000
DTEND;TZID=America/Sao_Paulo:20240822T180000
DTSTAMP:20260425T153100
CREATED:20240822T112621Z
LAST-MODIFIED:20240822T112621Z
UID:36386-1724335200-1724349600@www.goiasfomento.com
SUMMARY:Lucas Fernandes: Despachos Internos.
DESCRIPTION:
URL:https://www.goiasfomento.com/agenda/lucas-fernandes-despachos-internos-478/
LOCATION:Gabinete da Diretoria Administrativa e Financeira – Agência de Fomento de Goiás.
CATEGORIES:Diretoria Administrativa e Financeira
END:VEVENT
BEGIN:VEVENT
DTSTART;VALUE=DATE:20240823
DTEND;VALUE=DATE:20240824
DTSTAMP:20260425T153100
CREATED:20240822T112250Z
LAST-MODIFIED:20240822T112316Z
UID:36378-1724371200-1724457599@www.goiasfomento.com
SUMMARY:Cargo Vago desde 02/07/2024.
DESCRIPTION:
URL:https://www.goiasfomento.com/agenda/cargo-vago-desde-02-07-2024-36/
LOCATION:Chefia de Gabinete – Agência de Fomento de Goiás
CATEGORIES:Chefia de Gabinete
END:VEVENT
BEGIN:VEVENT
DTSTART;TZID=America/Sao_Paulo:20240823T080000
DTEND;TZID=America/Sao_Paulo:20240823T120000
DTSTAMP:20260425T153100
CREATED:20240823T164853Z
LAST-MODIFIED:20240823T164853Z
UID:36393-1724400000-1724414400@www.goiasfomento.com
SUMMARY:Vinícius Luz: Despachos Internos.
DESCRIPTION:
URL:https://www.goiasfomento.com/agenda/vinicius-luz-despachos-internos-34/
LOCATION:Gabinete da Diretoria de Operações da GoiásFomento – Agência de Fomento de Goiás.
CATEGORIES:Diretoria de Operações
END:VEVENT
BEGIN:VEVENT
DTSTART;TZID=America/Sao_Paulo:20240823T080000
DTEND;TZID=America/Sao_Paulo:20240823T120000
DTSTAMP:20260425T153100
CREATED:20240823T170055Z
LAST-MODIFIED:20240823T170055Z
UID:36401-1724400000-1724414400@www.goiasfomento.com
SUMMARY:Lucas Fernandes: Despachos Internos.
DESCRIPTION:
URL:https://www.goiasfomento.com/agenda/lucas-fernandes-despachos-internos-479/
LOCATION:Gabinete da Diretoria Administrativa e Financeira – Agência de Fomento de Goiás.
CATEGORIES:Diretoria Administrativa e Financeira
END:VEVENT
BEGIN:VEVENT
DTSTART;TZID=America/Sao_Paulo:20240823T080000
DTEND;TZID=America/Sao_Paulo:20240823T120000
DTSTAMP:20260425T153100
CREATED:20240823T170413Z
LAST-MODIFIED:20240823T170413Z
UID:36405-1724400000-1724414400@www.goiasfomento.com
SUMMARY:Lucas Fernandes – Diretor Presidente (Interino): Despachos Internos.
DESCRIPTION:
URL:https://www.goiasfomento.com/agenda/lucas-fernandes-diretor-presidente-interino-despachos-internos-32/
LOCATION:Gabinete da Presidência da GoiásFomento – Agência de Fomento de Goiás.
CATEGORIES:Presidência
END:VEVENT
BEGIN:VEVENT
DTSTART;TZID=America/Sao_Paulo:20240823T140000
DTEND;TZID=America/Sao_Paulo:20240823T180000
DTSTAMP:20260425T153100
CREATED:20240823T164927Z
LAST-MODIFIED:20240823T164927Z
UID:36395-1724421600-1724436000@www.goiasfomento.com
SUMMARY:Vinícius Luz: Despachos Internos.
DESCRIPTION:
URL:https://www.goiasfomento.com/agenda/vinicius-luz-despachos-internos-35/
LOCATION:Gabinete da Diretoria de Operações da GoiásFomento – Agência de Fomento de Goiás.
CATEGORIES:Diretoria de Operações
END:VEVENT
BEGIN:VEVENT
DTSTART;TZID=America/Sao_Paulo:20240823T140000
DTEND;TZID=America/Sao_Paulo:20240823T180000
DTSTAMP:20260425T153100
CREATED:20240823T170016Z
LAST-MODIFIED:20240823T170016Z
UID:36399-1724421600-1724436000@www.goiasfomento.com
SUMMARY:Lucas Fernandes – Diretor Presidente (Interino): Despachos Internos.
DESCRIPTION:
URL:https://www.goiasfomento.com/agenda/lucas-fernandes-diretor-presidente-interino-despachos-internos-31/
LOCATION:Gabinete da Presidência da GoiásFomento – Agência de Fomento de Goiás.
CATEGORIES:Presidência
END:VEVENT
BEGIN:VEVENT
DTSTART;TZID=America/Sao_Paulo:20240823T140000
DTEND;TZID=America/Sao_Paulo:20240823T180000
DTSTAMP:20260425T153100
CREATED:20240823T170215Z
LAST-MODIFIED:20240823T170215Z
UID:36403-1724421600-1724436000@www.goiasfomento.com
SUMMARY:Lucas Fernandes: Despachos Internos.
DESCRIPTION:
URL:https://www.goiasfomento.com/agenda/lucas-fernandes-despachos-internos-480/
LOCATION:Diretoria Administrativa e Financeira da GoiásFomento – Agência de Fomento de Goiás.
CATEGORIES:Diretoria Administrativa e Financeira
END:VEVENT
BEGIN:VEVENT
DTSTART;VALUE=DATE:20240826
DTEND;VALUE=DATE:20240827
DTSTAMP:20260425T153100
CREATED:20240826T110321Z
LAST-MODIFIED:20240826T110321Z
UID:36436-1724630400-1724716799@www.goiasfomento.com
SUMMARY:Cargo Vago desde 02/07/2024.
DESCRIPTION:
URL:https://www.goiasfomento.com/agenda/cargo-vago-desde-02-07-2024-37/
LOCATION:Chefia de Gabinete – Agência de Fomento de Goiás
CATEGORIES:Chefia de Gabinete
END:VEVENT
BEGIN:VEVENT
DTSTART;TZID=America/Sao_Paulo:20240826T080000
DTEND;TZID=America/Sao_Paulo:20240826T090000
DTSTAMP:20260425T153100
CREATED:20240826T105840Z
LAST-MODIFIED:20240826T105840Z
UID:36428-1724659200-1724662800@www.goiasfomento.com
SUMMARY:Vinícius Luz: Despachos Internos.
DESCRIPTION:
URL:https://www.goiasfomento.com/agenda/vinicius-luz-despachos-internos-36/
LOCATION:Gabinete da Diretoria de Operações da GoiásFomento – Agência de Fomento de Goiás.
CATEGORIES:Diretoria de Operações
END:VEVENT
BEGIN:VEVENT
DTSTART;TZID=America/Sao_Paulo:20240826T080000
DTEND;TZID=America/Sao_Paulo:20240826T090000
DTSTAMP:20260425T153100
CREATED:20240826T110013Z
LAST-MODIFIED:20240826T110013Z
UID:36432-1724659200-1724662800@www.goiasfomento.com
SUMMARY:Lucas Fernandes – Diretor Presidente (Interino): Despachos Internos.
DESCRIPTION:
URL:https://www.goiasfomento.com/agenda/lucas-fernandes-diretor-presidente-interino-despachos-internos-30/
LOCATION:Gabinete da Presidência da GoiásFomento – Agência de Fomento de Goiás.
CATEGORIES:Presidência
END:VEVENT
BEGIN:VEVENT
DTSTART;TZID=America/Sao_Paulo:20240826T080000
DTEND;TZID=America/Sao_Paulo:20240826T090000
DTSTAMP:20260425T153100
CREATED:20240826T110043Z
LAST-MODIFIED:20240826T110043Z
UID:36434-1724659200-1724662800@www.goiasfomento.com
SUMMARY:Lucas Fernandes: Despachos Internos.
DESCRIPTION:
URL:https://www.goiasfomento.com/agenda/lucas-fernandes-despachos-internos-481/
LOCATION:Gabinete da Diretoria Administrativa e Financeira – Agência de Fomento de Goiás.
CATEGORIES:Diretoria Administrativa e Financeira
END:VEVENT
BEGIN:VEVENT
DTSTART;TZID=America/Sao_Paulo:20240826T090000
DTEND;TZID=America/Sao_Paulo:20240826T120000
DTSTAMP:20260425T153100
CREATED:20240823T171105Z
LAST-MODIFIED:20240823T181123Z
UID:36407-1724662800-1724673600@www.goiasfomento.com
SUMMARY:Vinícius Luz: Solenidade de Entrega do Cartão Bolsa Uniforme para os alunos do Colégios Militares da PMGO.
DESCRIPTION:
URL:https://www.goiasfomento.com/agenda/vinicius-luz-entrega-de-cartao-bolsa-uniforme-cepmg/
LOCATION:Centro Cultural Oscar Niemeyer\, Av. Dep. Jamel Cecílio\, Km 01 – Chácaras Alto da Glória\, Goiânia – GO\, 74891-135\, Brasil
CATEGORIES:Diretoria de Operações
END:VEVENT
BEGIN:VEVENT
DTSTART;TZID=America/Sao_Paulo:20240826T090000
DTEND;TZID=America/Sao_Paulo:20240826T120000
DTSTAMP:20260425T153100
CREATED:20240823T171618Z
LAST-MODIFIED:20240823T181159Z
UID:36409-1724662800-1724673600@www.goiasfomento.com
SUMMARY:Lucas Fernandes – Diretor Presidente (Interino): Solenidade de Entrega do Cartão Bolsa Uniforme para os alunos do Colégios Militares da PMGO.
DESCRIPTION:
URL:https://www.goiasfomento.com/agenda/lucas-fernandes-diretor-presidente-interino-entrega-de-cartao-bolsa-uniforme-cepmg/
LOCATION:Centro Cultural Oscar Niemeyer\, Av. Dep. Jamel Cecílio\, Km 01 – Chácaras Alto da Glória\, Goiânia – GO\, 74891-135\, Brasil
CATEGORIES:Presidência
END:VEVENT
BEGIN:VEVENT
DTSTART;TZID=America/Sao_Paulo:20240826T090000
DTEND;TZID=America/Sao_Paulo:20240826T120000
DTSTAMP:20260425T153100
CREATED:20240823T171713Z
LAST-MODIFIED:20240823T181044Z
UID:36411-1724662800-1724673600@www.goiasfomento.com
SUMMARY:Lucas Fernandes: Solenidade de Entrega do Cartão Bolsa Uniforme para os alunos do Colégios Militares da PMGO.
DESCRIPTION:
URL:https://www.goiasfomento.com/agenda/lucas-fernandes-entrega-de-cartao-bolsa-uniforme-cepmg/
LOCATION:Centro Cultural Oscar Niemeyer\, Av. Dep. Jamel Cecílio\, Km 01 – Chácaras Alto da Glória\, Goiânia – GO\, 74891-135\, Brasil
CATEGORIES:Diretoria Administrativa e Financeira
END:VEVENT
BEGIN:VEVENT
DTSTART;TZID=America/Sao_Paulo:20240826T140000
DTEND;TZID=America/Sao_Paulo:20240826T180000
DTSTAMP:20260425T153100
CREATED:20240826T105909Z
LAST-MODIFIED:20240826T105909Z
UID:36430-1724680800-1724695200@www.goiasfomento.com
SUMMARY:Vinícius Luz: Despachos Internos.
DESCRIPTION:
URL:https://www.goiasfomento.com/agenda/vinicius-luz-despachos-internos-37/
LOCATION:Gabinete da Diretoria de Operações da GoiásFomento – Agência de Fomento de Goiás.
CATEGORIES:Diretoria de Operações
END:VEVENT
BEGIN:VEVENT
DTSTART;VALUE=DATE:20240827
DTEND;VALUE=DATE:20240828
DTSTAMP:20260425T153100
CREATED:20240827T111335Z
LAST-MODIFIED:20240827T111335Z
UID:36446-1724716800-1724803199@www.goiasfomento.com
SUMMARY:Cargo Vago desde 02/07/2024.
DESCRIPTION:
URL:https://www.goiasfomento.com/agenda/cargo-vago-desde-02-07-2024-38/
LOCATION:Chefia de Gabinete – Agência de Fomento de Goiás
CATEGORIES:Chefia de Gabinete
END:VEVENT
BEGIN:VEVENT
DTSTART;TZID=America/Sao_Paulo:20240827T080000
DTEND;TZID=America/Sao_Paulo:20240827T120000
DTSTAMP:20260425T153100
CREATED:20240823T173811Z
LAST-MODIFIED:20240827T110747Z
UID:36413-1724745600-1724760000@www.goiasfomento.com
SUMMARY:Vinícius Luz: Instalação dos Poderes Executivo\, Legislativo e Judiciário em comemoração aos 295 anos do Município e Abertura do Goiás Social.
DESCRIPTION:
URL:https://www.goiasfomento.com/agenda/vinicius-luz-instalacao-dos-poderes-executivo-legislativo-e-judiciario-em-comemoracao-aos-295-anos-do-municipio-e-abertura-do-goias-social/
LOCATION:Santa Cruz de Goiás – praça da Matriz.
CATEGORIES:Diretoria de Operações
END:VEVENT
BEGIN:VEVENT
DTSTART;TZID=America/Sao_Paulo:20240827T080000
DTEND;TZID=America/Sao_Paulo:20240827T120000
DTSTAMP:20260425T153100
CREATED:20240823T173946Z
LAST-MODIFIED:20240827T110818Z
UID:36415-1724745600-1724760000@www.goiasfomento.com
SUMMARY:Lucas Fernandes – Diretor Presidente (Interino): Instalação dos Poderes Executivo\, Legislativo e Judiciário em comemoração aos 295 anos do Município e Abertura do Goiás Social.
DESCRIPTION:
URL:https://www.goiasfomento.com/agenda/ucas-fernandes-diretor-presidente-interino-instalacao-dos-poderes-executivo-legislativo-e-judiciario-em-comemoracao-aos-295-anos-do-municipio-e-abertura-do-goias-social/
LOCATION:Santa Cruz de Goiás – praça da Matriz.
CATEGORIES:Presidência
END:VEVENT
BEGIN:VEVENT
DTSTART;TZID=America/Sao_Paulo:20240827T080000
DTEND;TZID=America/Sao_Paulo:20240827T120000
DTSTAMP:20260425T153100
CREATED:20240823T174123Z
LAST-MODIFIED:20240827T110722Z
UID:36419-1724745600-1724760000@www.goiasfomento.com
SUMMARY:Lucas Fernandes: Instalação dos Poderes Executivo\, Legislativo e Judiciário em comemoração aos 295 anos do Município e Abertura do Goiás Social.
DESCRIPTION:
URL:https://www.goiasfomento.com/agenda/lucas-fernandes-instalacao-dos-poderes-executivo-legislativo-e-judiciario-em-comemoracao-aos-295-anos-do-municipio-e-abertura-do-goias-social/
LOCATION:Santa Cruz de Goiás – praça da Matriz.
CATEGORIES:Diretoria Administrativa e Financeira
END:VEVENT
BEGIN:VEVENT
DTSTART;TZID=America/Sao_Paulo:20240827T140000
DTEND;TZID=America/Sao_Paulo:20240827T180000
DTSTAMP:20260425T153100
CREATED:20240827T110916Z
LAST-MODIFIED:20240827T110916Z
UID:36440-1724767200-1724781600@www.goiasfomento.com
SUMMARY:Vinícius Luz: Despachos Internos.
DESCRIPTION:
URL:https://www.goiasfomento.com/agenda/vinicius-luz-despachos-internos-38/
LOCATION:Gabinete da Diretoria de Operações da GoiásFomento – Agência de Fomento de Goiás.
CATEGORIES:Diretoria de Operações
END:VEVENT
BEGIN:VEVENT
DTSTART;TZID=America/Sao_Paulo:20240827T140000
DTEND;TZID=America/Sao_Paulo:20240827T180000
DTSTAMP:20260425T153100
CREATED:20240827T111116Z
LAST-MODIFIED:20240827T111116Z
UID:36442-1724767200-1724781600@www.goiasfomento.com
SUMMARY:Lucas Fernandes – Diretor Presidente (Interino): Despachos Internos.
DESCRIPTION:
URL:https://www.goiasfomento.com/agenda/lucas-fernandes-diretor-presidente-interino-despachos-internos-33/
LOCATION:Gabinete da Presidência da GoiásFomento – Agência de Fomento de Goiás.
CATEGORIES:Presidência
END:VEVENT
BEGIN:VEVENT
DTSTART;TZID=America/Sao_Paulo:20240827T140000
DTEND;TZID=America/Sao_Paulo:20240827T180000
DTSTAMP:20260425T153100
CREATED:20240827T111245Z
LAST-MODIFIED:20240827T111245Z
UID:36444-1724767200-1724781600@www.goiasfomento.com
SUMMARY:Lucas Fernandes: Despachos Internos.
DESCRIPTION:
URL:https://www.goiasfomento.com/agenda/lucas-fernandes-despachos-internos-482/
LOCATION:Gabinete da Diretoria Administrativa e Financeira – Agência de Fomento de Goiás.
CATEGORIES:Diretoria Administrativa e Financeira
END:VEVENT
BEGIN:VEVENT
DTSTART;VALUE=DATE:20240828
DTEND;VALUE=DATE:20240829
DTSTAMP:20260425T153100
CREATED:20240828T110126Z
LAST-MODIFIED:20240828T110126Z
UID:36455-1724803200-1724889599@www.goiasfomento.com
SUMMARY:Cargo Vago desde 02/07/2024.
DESCRIPTION:
URL:https://www.goiasfomento.com/agenda/cargo-vago-desde-02-07-2024-39/
LOCATION:Chefia de Gabinete – Agência de Fomento de Goiás
CATEGORIES:Chefia de Gabinete
END:VEVENT
END:VCALENDAR