BEGIN:VCALENDAR
VERSION:2.0
PRODID:-//GoiásFomento - Agência de Fomento - ECPv6.15.20//NONSGML v1.0//EN
CALSCALE:GREGORIAN
METHOD:PUBLISH
X-WR-CALNAME:GoiásFomento - Agência de Fomento
X-ORIGINAL-URL:https://www.goiasfomento.com
X-WR-CALDESC:Eventos para GoiásFomento - Agência de Fomento
REFRESH-INTERVAL;VALUE=DURATION:PT1H
X-Robots-Tag:noindex
X-PUBLISHED-TTL:PT1H
BEGIN:VTIMEZONE
TZID:America/Sao_Paulo
BEGIN:STANDARD
TZOFFSETFROM:-0300
TZOFFSETTO:-0300
TZNAME:-03
DTSTART:20230101T000000
END:STANDARD
END:VTIMEZONE
BEGIN:VEVENT
DTSTART;VALUE=DATE:20240802
DTEND;VALUE=DATE:20240803
DTSTAMP:20260425T153055
CREATED:20240802T120342Z
LAST-MODIFIED:20240802T120342Z
UID:36031-1722556800-1722643199@www.goiasfomento.com
SUMMARY:Cargo Vago desde 02/07/2024.
DESCRIPTION:
URL:https://www.goiasfomento.com/agenda/cargo-vago-desde-02-07-2024-21/
LOCATION:Chefia de Gabinete – Agência de Fomento de Goiás
CATEGORIES:Chefia de Gabinete
END:VEVENT
BEGIN:VEVENT
DTSTART;TZID=America/Sao_Paulo:20240802T080000
DTEND;TZID=America/Sao_Paulo:20240802T120000
DTSTAMP:20260425T153055
CREATED:20240802T114945Z
LAST-MODIFIED:20240802T114945Z
UID:36013-1722585600-1722600000@www.goiasfomento.com
SUMMARY:Vinícius Luz: Despachos Internos.
DESCRIPTION:
URL:https://www.goiasfomento.com/agenda/vinicius-luz-despachos-internos-4/
LOCATION:Gabinete da Diretoria de Operações da GoiásFomento – Agência de Fomento de Goiás.
CATEGORIES:Diretoria de Operações
END:VEVENT
BEGIN:VEVENT
DTSTART;TZID=America/Sao_Paulo:20240802T080000
DTEND;TZID=America/Sao_Paulo:20240802T120000
DTSTAMP:20260425T153055
CREATED:20240802T120145Z
LAST-MODIFIED:20240802T120145Z
UID:36023-1722585600-1722600000@www.goiasfomento.com
SUMMARY:Lucas Fernandes: Despachos Internos.
DESCRIPTION:
URL:https://www.goiasfomento.com/agenda/lucas-fernandes-despachos-internos-448/
LOCATION:Diretoria Administrativa e Financeira da GoiásFomento – Agência de Fomento de Goiás.
CATEGORIES:Diretoria Administrativa e Financeira
END:VEVENT
BEGIN:VEVENT
DTSTART;TZID=America/Sao_Paulo:20240802T080000
DTEND;TZID=America/Sao_Paulo:20240802T120000
DTSTAMP:20260425T153055
CREATED:20240802T120247Z
LAST-MODIFIED:20240802T120247Z
UID:36027-1722585600-1722600000@www.goiasfomento.com
SUMMARY:Lucas Fernandes – Diretor Presidente (Interino): Despachos Internos.
DESCRIPTION:
URL:https://www.goiasfomento.com/agenda/lucas-fernandes-diretor-presidente-interino-despachos-internos-3/
LOCATION:Gabinete da Presidência da GoiásFomento – Agência de Fomento de Goiás.
CATEGORIES:Presidência
END:VEVENT
BEGIN:VEVENT
DTSTART;TZID=America/Sao_Paulo:20240802T140000
DTEND;TZID=America/Sao_Paulo:20240802T180000
DTSTAMP:20260425T153055
CREATED:20240802T115016Z
LAST-MODIFIED:20240802T115016Z
UID:36015-1722607200-1722621600@www.goiasfomento.com
SUMMARY:Vinícius Luz: Despachos Internos.
DESCRIPTION:
URL:https://www.goiasfomento.com/agenda/vinicius-luz-despachos-internos-5/
LOCATION:Gabinete da Diretoria de Operações da GoiásFomento – Agência de Fomento de Goiás.
CATEGORIES:Diretoria de Operações
END:VEVENT
BEGIN:VEVENT
DTSTART;TZID=America/Sao_Paulo:20240802T140000
DTEND;TZID=America/Sao_Paulo:20240802T180000
DTSTAMP:20260425T153055
CREATED:20240802T120207Z
LAST-MODIFIED:20240802T120207Z
UID:36025-1722607200-1722621600@www.goiasfomento.com
SUMMARY:Lucas Fernandes: Despachos Internos.
DESCRIPTION:
URL:https://www.goiasfomento.com/agenda/lucas-fernandes-despachos-internos-449/
LOCATION:Diretoria Administrativa e Financeira da GoiásFomento – Agência de Fomento de Goiás.
CATEGORIES:Diretoria Administrativa e Financeira
END:VEVENT
BEGIN:VEVENT
DTSTART;TZID=America/Sao_Paulo:20240802T140000
DTEND;TZID=America/Sao_Paulo:20240802T180000
DTSTAMP:20260425T153055
CREATED:20240802T120310Z
LAST-MODIFIED:20240802T120310Z
UID:36029-1722607200-1722621600@www.goiasfomento.com
SUMMARY:Lucas Fernandes – Diretor Presidente (Interino): Despachos Internos.
DESCRIPTION:
URL:https://www.goiasfomento.com/agenda/lucas-fernandes-diretor-presidente-interino-despachos-internos-4/
LOCATION:Gabinete da Presidência da GoiásFomento – Agência de Fomento de Goiás.
CATEGORIES:Presidência
END:VEVENT
BEGIN:VEVENT
DTSTART;VALUE=DATE:20240805
DTEND;VALUE=DATE:20240806
DTSTAMP:20260425T153055
CREATED:20240805T113527Z
LAST-MODIFIED:20240805T113527Z
UID:36037-1722816000-1722902399@www.goiasfomento.com
SUMMARY:Cargo Vago desde 02/07/2024.
DESCRIPTION:
URL:https://www.goiasfomento.com/agenda/cargo-vago-desde-02-07-2024-22/
LOCATION:Chefia de Gabinete – Agência de Fomento de Goiás
CATEGORIES:Chefia de Gabinete
END:VEVENT
BEGIN:VEVENT
DTSTART;TZID=America/Sao_Paulo:20240805T080000
DTEND;TZID=America/Sao_Paulo:20240805T090000
DTSTAMP:20260425T153055
CREATED:20240805T113635Z
LAST-MODIFIED:20240805T115941Z
UID:36039-1722844800-1722848400@www.goiasfomento.com
SUMMARY:Lucas Fernandes – Diretor Presidente (Interino): Despachos Internos.
DESCRIPTION:
URL:https://www.goiasfomento.com/agenda/lucas-fernandes-de-andrade-diretor-presidente-interino-despachos-internos-48/
LOCATION:Gabinete da Presidência da GoiásFomento – Agência de Fomento de Goiás.
CATEGORIES:Presidência
END:VEVENT
BEGIN:VEVENT
DTSTART;TZID=America/Sao_Paulo:20240805T080000
DTEND;TZID=America/Sao_Paulo:20240805T090000
DTSTAMP:20260425T153055
CREATED:20240805T113911Z
LAST-MODIFIED:20240805T120024Z
UID:36043-1722844800-1722848400@www.goiasfomento.com
SUMMARY:Lucas Fernandes: Despachos Internos.
DESCRIPTION:
URL:https://www.goiasfomento.com/agenda/lucas-fernandes-despachos-internos-450/
LOCATION:Diretoria Administrativa e Financeira da GoiásFomento – Agência de Fomento de Goiás.
CATEGORIES:Diretoria Administrativa e Financeira
END:VEVENT
BEGIN:VEVENT
DTSTART;TZID=America/Sao_Paulo:20240805T080000
DTEND;TZID=America/Sao_Paulo:20240805T120000
DTSTAMP:20260425T153055
CREATED:20240805T113403Z
LAST-MODIFIED:20240805T113403Z
UID:36033-1722844800-1722859200@www.goiasfomento.com
SUMMARY:Vinícius Luz: Despachos Internos.
DESCRIPTION:
URL:https://www.goiasfomento.com/agenda/vinicius-luz-despachos-internos-6/
LOCATION:Gabinete da Diretoria de Operações da GoiásFomento – Agência de Fomento de Goiás.
CATEGORIES:Diretoria de Operações
END:VEVENT
BEGIN:VEVENT
DTSTART;TZID=America/Sao_Paulo:20240805T090000
DTEND;TZID=America/Sao_Paulo:20240805T100000
DTSTAMP:20260425T153055
CREATED:20240805T120158Z
LAST-MODIFIED:20240805T120158Z
UID:36050-1722848400-1722852000@www.goiasfomento.com
SUMMARY:Lucas Fernandes – Diretor Presidente (Interino): Reunião com os Gerentes da Agência de Fomento de Goiás.
DESCRIPTION:
URL:https://www.goiasfomento.com/agenda/lucas-fernandes-diretor-presidente-interino-reuniao-com-os-gerentes-da-agencia-de-fomento-de-goias/
LOCATION:Gabinete da Presidência da GoiásFomento – Agência de Fomento de Goiás.
CATEGORIES:Presidência
END:VEVENT
BEGIN:VEVENT
DTSTART;TZID=America/Sao_Paulo:20240805T090000
DTEND;TZID=America/Sao_Paulo:20240805T100000
DTSTAMP:20260425T153055
CREATED:20240805T120236Z
LAST-MODIFIED:20240805T120236Z
UID:36052-1722848400-1722852000@www.goiasfomento.com
SUMMARY:Lucas Fernandes: Reunião com os Gerentes da Agência de Fomento de Goiás.
DESCRIPTION:
URL:https://www.goiasfomento.com/agenda/lucas-fernandes-reuniao-com-os-gerentes-da-agencia-de-fomento-de-goias-6/
LOCATION:Diretoria Administrativa e Financeira da GoiásFomento – Agência de Fomento de Goiás.
CATEGORIES:Diretoria Administrativa e Financeira
END:VEVENT
BEGIN:VEVENT
DTSTART;TZID=America/Sao_Paulo:20240805T100000
DTEND;TZID=America/Sao_Paulo:20240805T120000
DTSTAMP:20260425T153055
CREATED:20240805T120406Z
LAST-MODIFIED:20240805T120406Z
UID:36054-1722852000-1722859200@www.goiasfomento.com
SUMMARY:Lucas Fernandes: Despachos Internos.
DESCRIPTION:
URL:https://www.goiasfomento.com/agenda/lucas-fernandes-despachos-internos-452/
LOCATION:Diretoria Administrativa e Financeira da GoiásFomento – Agência de Fomento de Goiás.
CATEGORIES:Diretoria Administrativa e Financeira
END:VEVENT
BEGIN:VEVENT
DTSTART;TZID=America/Sao_Paulo:20240805T100000
DTEND;TZID=America/Sao_Paulo:20240805T120000
DTSTAMP:20260425T153055
CREATED:20240805T120507Z
LAST-MODIFIED:20240805T120507Z
UID:36056-1722852000-1722859200@www.goiasfomento.com
SUMMARY:Lucas Fernandes – Diretor Presidente (Interino): Despachos Internos.
DESCRIPTION:
URL:https://www.goiasfomento.com/agenda/lucas-fernandes-diretor-presidente-interino-despachos-internos-5/
LOCATION:Gabinete da Presidência da GoiásFomento – Agência de Fomento de Goiás.
CATEGORIES:Presidência
END:VEVENT
BEGIN:VEVENT
DTSTART;TZID=America/Sao_Paulo:20240805T140000
DTEND;TZID=America/Sao_Paulo:20240805T180000
DTSTAMP:20260425T153055
CREATED:20240805T113431Z
LAST-MODIFIED:20240805T113431Z
UID:36035-1722866400-1722880800@www.goiasfomento.com
SUMMARY:Vinícius Luz: Despachos Internos.
DESCRIPTION:
URL:https://www.goiasfomento.com/agenda/vinicius-luz-despachos-internos-7/
LOCATION:Gabinete da Diretoria de Operações da GoiásFomento – Agência de Fomento de Goiás.
CATEGORIES:Diretoria de Operações
END:VEVENT
BEGIN:VEVENT
DTSTART;TZID=America/Sao_Paulo:20240805T140000
DTEND;TZID=America/Sao_Paulo:20240805T180000
DTSTAMP:20260425T153055
CREATED:20240805T113705Z
LAST-MODIFIED:20240805T114116Z
UID:36041-1722866400-1722880800@www.goiasfomento.com
SUMMARY:Lucas Fernandes – Diretor Presidente (Interino): Despachos Internos.
DESCRIPTION:
URL:https://www.goiasfomento.com/agenda/lucas-fernandes-de-andrade-diretor-presidente-interino-despachos-internos-49/
LOCATION:Gabinete da Presidência da GoiásFomento – Agência de Fomento de Goiás.
CATEGORIES:Presidência
END:VEVENT
BEGIN:VEVENT
DTSTART;TZID=America/Sao_Paulo:20240805T140000
DTEND;TZID=America/Sao_Paulo:20240805T180000
DTSTAMP:20260425T153055
CREATED:20240805T114006Z
LAST-MODIFIED:20240805T114006Z
UID:36045-1722866400-1722880800@www.goiasfomento.com
SUMMARY:Lucas Fernandes: Despachos Internos.
DESCRIPTION:
URL:https://www.goiasfomento.com/agenda/lucas-fernandes-despachos-internos-451/
LOCATION:Diretoria Administrativa e Financeira da GoiásFomento – Agência de Fomento de Goiás.
CATEGORIES:Diretoria Administrativa e Financeira
END:VEVENT
BEGIN:VEVENT
DTSTART;VALUE=DATE:20240806
DTEND;VALUE=DATE:20240807
DTSTAMP:20260425T153055
CREATED:20240806T120219Z
LAST-MODIFIED:20240806T120219Z
UID:36060-1722902400-1722988799@www.goiasfomento.com
SUMMARY:Cargo Vago desde 02/07/2024.
DESCRIPTION:
URL:https://www.goiasfomento.com/agenda/cargo-vago-desde-02-07-2024-23/
LOCATION:Chefia de Gabinete – Agência de Fomento de Goiás
CATEGORIES:Chefia de Gabinete
END:VEVENT
BEGIN:VEVENT
DTSTART;TZID=America/Sao_Paulo:20240806T080000
DTEND;TZID=America/Sao_Paulo:20240806T110000
DTSTAMP:20260425T153055
CREATED:20240806T120803Z
LAST-MODIFIED:20240806T120803Z
UID:36070-1722931200-1722942000@www.goiasfomento.com
SUMMARY:Vinícius Luz: Despachos Internos.
DESCRIPTION:
URL:https://www.goiasfomento.com/agenda/vinicius-luz-despachos-internos-8/
LOCATION:Gabinete da Diretoria de Operações da GoiásFomento – Agência de Fomento de Goiás.
CATEGORIES:Diretoria de Operações
END:VEVENT
BEGIN:VEVENT
DTSTART;TZID=America/Sao_Paulo:20240806T080000
DTEND;TZID=America/Sao_Paulo:20240806T120000
DTSTAMP:20260425T153055
CREATED:20240806T120314Z
LAST-MODIFIED:20240806T120314Z
UID:36062-1722931200-1722945600@www.goiasfomento.com
SUMMARY:Lucas Fernandes – Diretor Presidente (Interino): Despachos Internos.
DESCRIPTION:
URL:https://www.goiasfomento.com/agenda/lucas-fernandes-diretor-presidente-interino-despachos-internos-6/
LOCATION:Gabinete da Presidência da GoiásFomento – Agência de Fomento de Goiás.
CATEGORIES:Presidência
END:VEVENT
BEGIN:VEVENT
DTSTART;TZID=America/Sao_Paulo:20240806T080000
DTEND;TZID=America/Sao_Paulo:20240806T120000
DTSTAMP:20260425T153055
CREATED:20240806T120436Z
LAST-MODIFIED:20240806T120436Z
UID:36066-1722931200-1722945600@www.goiasfomento.com
SUMMARY:Lucas Fernandes: Despachos Internos.
DESCRIPTION:
URL:https://www.goiasfomento.com/agenda/lucas-fernandes-despachos-internos-453/
LOCATION:Diretoria Administrativa e Financeira da GoiásFomento – Agência de Fomento de Goiás.
CATEGORIES:Diretoria Administrativa e Financeira
END:VEVENT
BEGIN:VEVENT
DTSTART;TZID=America/Sao_Paulo:20240806T110000
DTEND;TZID=America/Sao_Paulo:20240806T120000
DTSTAMP:20260425T153055
CREATED:20240806T121004Z
LAST-MODIFIED:20240806T121004Z
UID:36072-1722942000-1722945600@www.goiasfomento.com
SUMMARY:Vinícius Luz: Reunião com os Gerentes da Agência de Fomento de Goiás.
DESCRIPTION:
URL:https://www.goiasfomento.com/agenda/vinicius-luz-reuniao-com-os-gerentes-da-agencia-de-fomento-de-goias/
LOCATION:Gabinete da Diretoria de Operações da GoiásFomento – Agência de Fomento de Goiás.
CATEGORIES:Diretoria de Operações
END:VEVENT
BEGIN:VEVENT
DTSTART;TZID=America/Sao_Paulo:20240806T140000
DTEND;TZID=America/Sao_Paulo:20240806T180000
DTSTAMP:20260425T153055
CREATED:20240806T120353Z
LAST-MODIFIED:20240806T120353Z
UID:36064-1722952800-1722967200@www.goiasfomento.com
SUMMARY:Lucas Fernandes – Diretor Presidente (Interino): Despachos Internos.
DESCRIPTION:
URL:https://www.goiasfomento.com/agenda/lucas-fernandes-diretor-presidente-interino-despachos-internos-7/
LOCATION:Gabinete da Presidência da GoiásFomento – Agência de Fomento de Goiás.
CATEGORIES:Presidência
END:VEVENT
BEGIN:VEVENT
DTSTART;TZID=America/Sao_Paulo:20240806T140000
DTEND;TZID=America/Sao_Paulo:20240806T180000
DTSTAMP:20260425T153055
CREATED:20240806T120503Z
LAST-MODIFIED:20240806T120503Z
UID:36068-1722952800-1722967200@www.goiasfomento.com
SUMMARY:Lucas Fernandes: Despachos Internos.
DESCRIPTION:
URL:https://www.goiasfomento.com/agenda/lucas-fernandes-despachos-internos-454/
LOCATION:Diretoria Administrativa e Financeira da GoiásFomento – Agência de Fomento de Goiás.
CATEGORIES:Diretoria Administrativa e Financeira
END:VEVENT
BEGIN:VEVENT
DTSTART;TZID=America/Sao_Paulo:20240806T140000
DTEND;TZID=America/Sao_Paulo:20240806T180000
DTSTAMP:20260425T153055
CREATED:20240806T121107Z
LAST-MODIFIED:20240806T121107Z
UID:36074-1722952800-1722967200@www.goiasfomento.com
SUMMARY:Vinícius Luz: Despachos Internos.
DESCRIPTION:
URL:https://www.goiasfomento.com/agenda/vinicius-luz-despachos-internos-9/
LOCATION:Gabinete da Diretoria de Operações da GoiásFomento – Agência de Fomento de Goiás.
CATEGORIES:Diretoria de Operações
END:VEVENT
BEGIN:VEVENT
DTSTART;VALUE=DATE:20240807
DTEND;VALUE=DATE:20240808
DTSTAMP:20260425T153055
CREATED:20240807T120848Z
LAST-MODIFIED:20240807T120848Z
UID:36080-1722988800-1723075199@www.goiasfomento.com
SUMMARY:Cargo Vago desde 02/07/2024.
DESCRIPTION:
URL:https://www.goiasfomento.com/agenda/cargo-vago-desde-02-07-2024-24/
LOCATION:Chefia de Gabinete – Agência de Fomento de Goiás
CATEGORIES:Chefia de Gabinete
END:VEVENT
BEGIN:VEVENT
DTSTART;TZID=America/Sao_Paulo:20240807T080000
DTEND;TZID=America/Sao_Paulo:20240807T115000
DTSTAMP:20260425T153055
CREATED:20240807T121100Z
LAST-MODIFIED:20240807T121100Z
UID:36082-1723017600-1723031400@www.goiasfomento.com
SUMMARY:Lucas Fernandes – Diretor Presidente (Interino): Despachos Internos.
DESCRIPTION:
URL:https://www.goiasfomento.com/agenda/lucas-fernandes-diretor-presidente-interino-despachos-internos-8/
LOCATION:Gabinete da Presidência da GoiásFomento – Agência de Fomento de Goiás.
CATEGORIES:Presidência
END:VEVENT
BEGIN:VEVENT
DTSTART;TZID=America/Sao_Paulo:20240807T080000
DTEND;TZID=America/Sao_Paulo:20240807T115000
DTSTAMP:20260425T153055
CREATED:20240807T121532Z
LAST-MODIFIED:20240807T121532Z
UID:36090-1723017600-1723031400@www.goiasfomento.com
SUMMARY:Lucas Fernandes: Despachos Internos.
DESCRIPTION:
URL:https://www.goiasfomento.com/agenda/lucas-fernandes-despachos-internos-455/
LOCATION:Diretoria Administrativa e Financeira da GoiásFomento – Agência de Fomento de Goiás.
CATEGORIES:Diretoria Administrativa e Financeira
END:VEVENT
BEGIN:VEVENT
DTSTART;TZID=America/Sao_Paulo:20240807T080000
DTEND;TZID=America/Sao_Paulo:20240807T120000
DTSTAMP:20260425T153055
CREATED:20240807T120741Z
LAST-MODIFIED:20240807T120741Z
UID:36076-1723017600-1723032000@www.goiasfomento.com
SUMMARY:Vinícius Luz: Despachos Internos.
DESCRIPTION:
URL:https://www.goiasfomento.com/agenda/vinicius-luz-despachos-internos-10/
LOCATION:Gabinete da Diretoria de Operações da GoiásFomento – Agência de Fomento de Goiás.
CATEGORIES:Diretoria de Operações
END:VEVENT
END:VCALENDAR