BEGIN:VCALENDAR
VERSION:2.0
PRODID:-//GoiásFomento - Agência de Fomento - ECPv6.15.20//NONSGML v1.0//EN
CALSCALE:GREGORIAN
METHOD:PUBLISH
X-WR-CALNAME:GoiásFomento - Agência de Fomento
X-ORIGINAL-URL:https://www.goiasfomento.com
X-WR-CALDESC:Eventos para GoiásFomento - Agência de Fomento
REFRESH-INTERVAL;VALUE=DURATION:PT1H
X-Robots-Tag:noindex
X-PUBLISHED-TTL:PT1H
BEGIN:VTIMEZONE
TZID:America/Sao_Paulo
BEGIN:STANDARD
TZOFFSETFROM:-0300
TZOFFSETTO:-0300
TZNAME:-03
DTSTART:20230101T000000
END:STANDARD
END:VTIMEZONE
BEGIN:VEVENT
DTSTART;VALUE=DATE:20240726
DTEND;VALUE=DATE:20240727
DTSTAMP:20260425T171516
CREATED:20240726T120358Z
LAST-MODIFIED:20240726T120358Z
UID:35924-1721952000-1722038399@www.goiasfomento.com
SUMMARY:Cargo Vago desde 02/07/2024.
DESCRIPTION:
URL:https://www.goiasfomento.com/agenda/cargo-vago-desde-02-07-2024-16/
LOCATION:Chefia de Gabinete – Agência de Fomento de Goiás
CATEGORIES:Chefia de Gabinete
END:VEVENT
BEGIN:VEVENT
DTSTART;TZID=America/Sao_Paulo:20240726T080000
DTEND;TZID=America/Sao_Paulo:20240726T090000
DTSTAMP:20260425T171516
CREATED:20240726T120439Z
LAST-MODIFIED:20240726T120810Z
UID:35926-1721980800-1721984400@www.goiasfomento.com
SUMMARY:Lucas Fernandes de Andrade – Diretor Presidente (Interino): Despachos Internos.
DESCRIPTION:
URL:https://www.goiasfomento.com/agenda/lucas-fernandes-de-andrade-diretor-presidente-interino-despachos-internos-38/
LOCATION:Gabinete da Presidência da GoiásFomento – Agência de Fomento de Goiás.
CATEGORIES:Presidência
END:VEVENT
BEGIN:VEVENT
DTSTART;TZID=America/Sao_Paulo:20240726T080000
DTEND;TZID=America/Sao_Paulo:20240726T090000
DTSTAMP:20260425T171516
CREATED:20240726T122258Z
LAST-MODIFIED:20240726T122258Z
UID:35940-1721980800-1721984400@www.goiasfomento.com
SUMMARY:Lucas Fernandes de Andrade: Despachos Internos.
DESCRIPTION:
URL:https://www.goiasfomento.com/agenda/lucas-fernandes-de-andrade-despachos-internos-28/
LOCATION:Diretoria Administrativa e Financeira da GoiásFomento – Agência de Fomento de Goiás.
CATEGORIES:Diretoria Administrativa e Financeira
END:VEVENT
BEGIN:VEVENT
DTSTART;TZID=America/Sao_Paulo:20240726T080000
DTEND;TZID=America/Sao_Paulo:20240726T120000
DTSTAMP:20260425T171516
CREATED:20240726T120230Z
LAST-MODIFIED:20240726T120230Z
UID:35922-1721980800-1721995200@www.goiasfomento.com
SUMMARY:Vinícius de Cecílio Luz: Despachos Internos.
DESCRIPTION:
URL:https://www.goiasfomento.com/agenda/vinicius-de-cecilio-luz-despachos-internos-194/
LOCATION:Gabinete da Diretoria de Operações da GoiásFomento – Agência de Fomento de Goiás.
CATEGORIES:Diretoria de Operações
END:VEVENT
BEGIN:VEVENT
DTSTART;TZID=America/Sao_Paulo:20240726T090000
DTEND;TZID=America/Sao_Paulo:20240726T100000
DTSTAMP:20260425T171516
CREATED:20240726T121756Z
LAST-MODIFIED:20240726T121921Z
UID:35933-1721984400-1721988000@www.goiasfomento.com
SUMMARY:Lucas Fernandes de Andrade – Diretor Presidente (Interino): Reunião com os Gerentes da Agência de Fomento de Goiás.
DESCRIPTION:
URL:https://www.goiasfomento.com/agenda/lucas-fernandes-de-andrade-diretor-presidente-interino-reuniao-com-os-gerentes-da-agencia-de-fomento-de-goias-10/
LOCATION:Gabinete da Presidência da GoiásFomento – Agência de Fomento de Goiás.
CATEGORIES:Presidência
END:VEVENT
BEGIN:VEVENT
DTSTART;TZID=America/Sao_Paulo:20240726T090000
DTEND;TZID=America/Sao_Paulo:20240726T100000
DTSTAMP:20260425T171516
CREATED:20240726T122115Z
LAST-MODIFIED:20240726T122134Z
UID:35937-1721984400-1721988000@www.goiasfomento.com
SUMMARY:Lucas Fernandes de Andrade: Reunião com os Gerentes da Agência de Fomento de Goiás.
DESCRIPTION:
URL:https://www.goiasfomento.com/agenda/lucas-fernandes-de-andrade-reuniao-com-os-gerentes-da-agencia-de-fomento-de-goias-5/
LOCATION:Diretoria Administrativa e Financeira da GoiásFomento – Agência de Fomento de Goiás.
CATEGORIES:Diretoria Administrativa e Financeira
END:VEVENT
BEGIN:VEVENT
DTSTART;TZID=America/Sao_Paulo:20240726T100000
DTEND;TZID=America/Sao_Paulo:20240726T120000
DTSTAMP:20260425T171516
CREATED:20240726T121520Z
LAST-MODIFIED:20240726T121815Z
UID:35931-1721988000-1721995200@www.goiasfomento.com
SUMMARY:Lucas Fernandes de Andrade – Diretor Presidente (Interino): Despachos Internos.
DESCRIPTION:
URL:https://www.goiasfomento.com/agenda/lucas-fernandes-de-andrade-diretor-presidente-interino-despachos-internos-40/
LOCATION:Gabinete da Presidência da GoiásFomento – Agência de Fomento de Goiás.
CATEGORIES:Presidência
END:VEVENT
BEGIN:VEVENT
DTSTART;TZID=America/Sao_Paulo:20240726T100000
DTEND;TZID=America/Sao_Paulo:20240726T120000
DTSTAMP:20260425T171516
CREATED:20240726T122322Z
LAST-MODIFIED:20240726T122322Z
UID:35942-1721988000-1721995200@www.goiasfomento.com
SUMMARY:Lucas Fernandes de Andrade: Despachos Internos.
DESCRIPTION:
URL:https://www.goiasfomento.com/agenda/lucas-fernandes-de-andrade-despachos-internos-29/
LOCATION:Diretoria Administrativa e Financeira da GoiásFomento – Agência de Fomento de Goiás.
CATEGORIES:Diretoria Administrativa e Financeira
END:VEVENT
BEGIN:VEVENT
DTSTART;TZID=America/Sao_Paulo:20240726T140000
DTEND;TZID=America/Sao_Paulo:20240726T180000
DTSTAMP:20260425T171516
CREATED:20240726T120207Z
LAST-MODIFIED:20240726T120207Z
UID:35920-1722002400-1722016800@www.goiasfomento.com
SUMMARY:Vinícius de Cecílio Luz: Despachos Internos.
DESCRIPTION:
URL:https://www.goiasfomento.com/agenda/vinicius-de-cecilio-luz-despachos-internos-193/
LOCATION:Gabinete da Diretoria de Operações da GoiásFomento – Agência de Fomento de Goiás.
CATEGORIES:Diretoria de Operações
END:VEVENT
BEGIN:VEVENT
DTSTART;TZID=America/Sao_Paulo:20240726T140000
DTEND;TZID=America/Sao_Paulo:20240726T180000
DTSTAMP:20260425T171516
CREATED:20240726T120711Z
LAST-MODIFIED:20240726T120711Z
UID:35929-1722002400-1722016800@www.goiasfomento.com
SUMMARY:Lucas Fernandes de Andrade – Diretor Presidente (Interino): Despachos Internos.
DESCRIPTION:
URL:https://www.goiasfomento.com/agenda/lucas-fernandes-de-andrade-diretor-presidente-interino-despachos-internos-39/
LOCATION:Gabinete da Presidência da GoiásFomento – Agência de Fomento de Goiás.
CATEGORIES:Presidência
END:VEVENT
BEGIN:VEVENT
DTSTART;TZID=America/Sao_Paulo:20240726T140000
DTEND;TZID=America/Sao_Paulo:20240726T180000
DTSTAMP:20260425T171516
CREATED:20240726T122036Z
LAST-MODIFIED:20240726T122237Z
UID:35935-1722002400-1722016800@www.goiasfomento.com
SUMMARY:Lucas Fernandes de Andrade: Despachos Internos.
DESCRIPTION:
URL:https://www.goiasfomento.com/agenda/lucas-fernandes-de-andrade-reuniao-com-os-gerentes-da-agencia-de-fomento-de-goias-4/
LOCATION:Diretoria Administrativa e Financeira da GoiásFomento – Agência de Fomento de Goiás.
CATEGORIES:Diretoria Administrativa e Financeira
END:VEVENT
BEGIN:VEVENT
DTSTART;VALUE=DATE:20240729
DTEND;VALUE=DATE:20240730
DTSTAMP:20260425T171516
CREATED:20240729T111627Z
LAST-MODIFIED:20240729T111627Z
UID:35948-1722211200-1722297599@www.goiasfomento.com
SUMMARY:Cargo Vago desde 02/07/2024.
DESCRIPTION:
URL:https://www.goiasfomento.com/agenda/cargo-vago-desde-02-07-2024-17/
LOCATION:Chefia de Gabinete – Agência de Fomento de Goiás
CATEGORIES:Chefia de Gabinete
END:VEVENT
BEGIN:VEVENT
DTSTART;TZID=America/Sao_Paulo:20240729T080000
DTEND;TZID=America/Sao_Paulo:20240729T120000
DTSTAMP:20260425T171516
CREATED:20240729T111508Z
LAST-MODIFIED:20240729T111508Z
UID:35944-1722240000-1722254400@www.goiasfomento.com
SUMMARY:Vinícius de Cecílio Luz: Despachos Internos.
DESCRIPTION:
URL:https://www.goiasfomento.com/agenda/vinicius-de-cecilio-luz-despachos-internos-195/
LOCATION:Gabinete da Diretoria de Operações da GoiásFomento – Agência de Fomento de Goiás.
CATEGORIES:Diretoria de Operações
END:VEVENT
BEGIN:VEVENT
DTSTART;TZID=America/Sao_Paulo:20240729T080000
DTEND;TZID=America/Sao_Paulo:20240729T120000
DTSTAMP:20260425T171516
CREATED:20240729T111733Z
LAST-MODIFIED:20240729T111733Z
UID:35950-1722240000-1722254400@www.goiasfomento.com
SUMMARY:Lucas Fernandes de Andrade – Diretor Presidente (Interino): Despachos Internos.
DESCRIPTION:
URL:https://www.goiasfomento.com/agenda/lucas-fernandes-de-andrade-diretor-presidente-interino-despachos-internos-41/
LOCATION:Gabinete da Presidência da GoiásFomento – Agência de Fomento de Goiás.
CATEGORIES:Presidência
END:VEVENT
BEGIN:VEVENT
DTSTART;TZID=America/Sao_Paulo:20240729T080000
DTEND;TZID=America/Sao_Paulo:20240729T120000
DTSTAMP:20260425T171516
CREATED:20240729T111900Z
LAST-MODIFIED:20240729T111900Z
UID:35954-1722240000-1722254400@www.goiasfomento.com
SUMMARY:Lucas Fernandes de Andrade: Despachos Internos.
DESCRIPTION:
URL:https://www.goiasfomento.com/agenda/lucas-fernandes-de-andrade-despachos-internos-30/
LOCATION:Diretoria Administrativa e Financeira da GoiásFomento – Agência de Fomento de Goiás.
CATEGORIES:Diretoria Administrativa e Financeira
END:VEVENT
BEGIN:VEVENT
DTSTART;TZID=America/Sao_Paulo:20240729T120000
DTEND;TZID=America/Sao_Paulo:20240729T180000
DTSTAMP:20260425T171516
CREATED:20240729T111534Z
LAST-MODIFIED:20240729T111534Z
UID:35946-1722254400-1722276000@www.goiasfomento.com
SUMMARY:Vinícius de Cecílio Luz: Despachos Internos.
DESCRIPTION:
URL:https://www.goiasfomento.com/agenda/vinicius-de-cecilio-luz-despachos-internos-196/
LOCATION:Gabinete da Diretoria de Operações da GoiásFomento – Agência de Fomento de Goiás.
CATEGORIES:Diretoria de Operações
END:VEVENT
BEGIN:VEVENT
DTSTART;TZID=America/Sao_Paulo:20240729T140000
DTEND;TZID=America/Sao_Paulo:20240729T180000
DTSTAMP:20260425T171516
CREATED:20240729T111802Z
LAST-MODIFIED:20240729T111802Z
UID:35952-1722261600-1722276000@www.goiasfomento.com
SUMMARY:Lucas Fernandes de Andrade – Diretor Presidente (Interino): Despachos Internos.
DESCRIPTION:
URL:https://www.goiasfomento.com/agenda/lucas-fernandes-de-andrade-diretor-presidente-interino-despachos-internos-42/
LOCATION:Gabinete da Presidência da GoiásFomento – Agência de Fomento de Goiás.
CATEGORIES:Presidência
END:VEVENT
BEGIN:VEVENT
DTSTART;TZID=America/Sao_Paulo:20240729T140000
DTEND;TZID=America/Sao_Paulo:20240729T180000
DTSTAMP:20260425T171516
CREATED:20240729T111939Z
LAST-MODIFIED:20240729T111939Z
UID:35956-1722261600-1722276000@www.goiasfomento.com
SUMMARY:Lucas Fernandes de Andrade: Despachos Internos.
DESCRIPTION:
URL:https://www.goiasfomento.com/agenda/lucas-fernandes-de-andrade-despachos-internos-31/
LOCATION:Gabinete da Diretoria Administrativa e Financeira – Agência de Fomento de Goiás.
CATEGORIES:Diretoria Administrativa e Financeira
END:VEVENT
BEGIN:VEVENT
DTSTART;VALUE=DATE:20240730
DTEND;VALUE=DATE:20240731
DTSTAMP:20260425T171516
CREATED:20240730T112333Z
LAST-MODIFIED:20240730T112427Z
UID:35962-1722297600-1722383999@www.goiasfomento.com
SUMMARY:Cargo Vago desde 02/07/2024.
DESCRIPTION:
URL:https://www.goiasfomento.com/agenda/cargo-vago-desde-02-07-2024-18/
LOCATION:Chefia de Gabinete – Agência de Fomento de Goiás
CATEGORIES:Chefia de Gabinete
END:VEVENT
BEGIN:VEVENT
DTSTART;TZID=America/Sao_Paulo:20240730T080000
DTEND;TZID=America/Sao_Paulo:20240730T120000
DTSTAMP:20260425T171516
CREATED:20240730T112142Z
LAST-MODIFIED:20240730T112142Z
UID:35958-1722326400-1722340800@www.goiasfomento.com
SUMMARY:Vinícius de Cecílio Luz: Despachos Internos.
DESCRIPTION:
URL:https://www.goiasfomento.com/agenda/vinicius-de-cecilio-luz-despachos-internos-197/
LOCATION:Gabinete da Diretoria de Operações da GoiásFomento – Agência de Fomento de Goiás.
CATEGORIES:Diretoria de Operações
END:VEVENT
BEGIN:VEVENT
DTSTART;TZID=America/Sao_Paulo:20240730T080000
DTEND;TZID=America/Sao_Paulo:20240730T120000
DTSTAMP:20260425T171516
CREATED:20240730T112605Z
LAST-MODIFIED:20240730T112605Z
UID:35965-1722326400-1722340800@www.goiasfomento.com
SUMMARY:Lucas Fernandes de Andrade – Diretor Presidente (Interino): Despachos Internos.
DESCRIPTION:
URL:https://www.goiasfomento.com/agenda/lucas-fernandes-de-andrade-diretor-presidente-interino-despachos-internos-43/
LOCATION:Gabinete da Presidência da GoiásFomento – Agência de Fomento de Goiás.
CATEGORIES:Presidência
END:VEVENT
BEGIN:VEVENT
DTSTART;TZID=America/Sao_Paulo:20240730T080000
DTEND;TZID=America/Sao_Paulo:20240730T120000
DTSTAMP:20260425T171516
CREATED:20240730T112721Z
LAST-MODIFIED:20240730T112721Z
UID:35969-1722326400-1722340800@www.goiasfomento.com
SUMMARY:Lucas Fernandes de Andrade: Despachos Internos.
DESCRIPTION:
URL:https://www.goiasfomento.com/agenda/lucas-fernandes-de-andrade-despachos-internos-32/
LOCATION:Diretoria Administrativa e Financeira da GoiásFomento – Agência de Fomento de Goiás.
CATEGORIES:Diretoria Administrativa e Financeira
END:VEVENT
BEGIN:VEVENT
DTSTART;TZID=America/Sao_Paulo:20240730T120000
DTEND;TZID=America/Sao_Paulo:20240730T180000
DTSTAMP:20260425T171516
CREATED:20240730T112214Z
LAST-MODIFIED:20240730T112214Z
UID:35960-1722340800-1722362400@www.goiasfomento.com
SUMMARY:Vinícius de Cecílio Luz: Despachos Internos.
DESCRIPTION:
URL:https://www.goiasfomento.com/agenda/vinicius-de-cecilio-luz-despachos-internos-198/
LOCATION:Gabinete da Diretoria de Operações da GoiásFomento – Agência de Fomento de Goiás.
CATEGORIES:Diretoria de Operações
END:VEVENT
BEGIN:VEVENT
DTSTART;TZID=America/Sao_Paulo:20240730T140000
DTEND;TZID=America/Sao_Paulo:20240730T180000
DTSTAMP:20260425T171516
CREATED:20240730T112639Z
LAST-MODIFIED:20240730T112639Z
UID:35967-1722348000-1722362400@www.goiasfomento.com
SUMMARY:Lucas Fernandes de Andrade – Diretor Presidente (Interino): Despachos Internos.
DESCRIPTION:
URL:https://www.goiasfomento.com/agenda/lucas-fernandes-de-andrade-diretor-presidente-interino-despachos-internos-44/
LOCATION:Gabinete da Presidência da GoiásFomento – Agência de Fomento de Goiás.
CATEGORIES:Presidência
END:VEVENT
BEGIN:VEVENT
DTSTART;TZID=America/Sao_Paulo:20240730T140000
DTEND;TZID=America/Sao_Paulo:20240730T180000
DTSTAMP:20260425T171516
CREATED:20240730T112748Z
LAST-MODIFIED:20240730T112748Z
UID:35971-1722348000-1722362400@www.goiasfomento.com
SUMMARY:Lucas Fernandes de Andrade: Despachos Internos.
DESCRIPTION:
URL:https://www.goiasfomento.com/agenda/lucas-fernandes-de-andrade-despachos-internos-33/
LOCATION:Diretoria Administrativa e Financeira da GoiásFomento – Agência de Fomento de Goiás.
CATEGORIES:Diretoria Administrativa e Financeira
END:VEVENT
BEGIN:VEVENT
DTSTART;VALUE=DATE:20240731
DTEND;VALUE=DATE:20240801
DTSTAMP:20260425T171516
CREATED:20240731T112833Z
LAST-MODIFIED:20240731T112833Z
UID:35979-1722384000-1722470399@www.goiasfomento.com
SUMMARY:Cargo Vago desde 02/07/2024.
DESCRIPTION:
URL:https://www.goiasfomento.com/agenda/cargo-vago-desde-02-07-2024-19/
LOCATION:Chefia de Gabinete – Agência de Fomento de Goiás
CATEGORIES:Chefia de Gabinete
END:VEVENT
BEGIN:VEVENT
DTSTART;TZID=America/Sao_Paulo:20240731T080000
DTEND;TZID=America/Sao_Paulo:20240731T090000
DTSTAMP:20260425T171516
CREATED:20240731T113917Z
LAST-MODIFIED:20240731T113917Z
UID:35981-1722412800-1722416400@www.goiasfomento.com
SUMMARY:Lucas Fernandes de Andrade – Diretor Presidente (Interino): Despachos Internos.
DESCRIPTION:
URL:https://www.goiasfomento.com/agenda/lucas-fernandes-de-andrade-diretor-presidente-interino-despachos-internos-45/
LOCATION:Gabinete da Presidência da GoiásFomento – Agência de Fomento de Goiás.
CATEGORIES:Presidência
END:VEVENT
BEGIN:VEVENT
DTSTART;TZID=America/Sao_Paulo:20240731T080000
DTEND;TZID=America/Sao_Paulo:20240731T090000
DTSTAMP:20260425T171516
CREATED:20240731T114047Z
LAST-MODIFIED:20240731T114047Z
UID:35985-1722412800-1722416400@www.goiasfomento.com
SUMMARY:Lucas Fernandes de Andrade: Despachos Internos.
DESCRIPTION:
URL:https://www.goiasfomento.com/agenda/lucas-fernandes-de-andrade-despachos-internos-34/
LOCATION:Diretoria Administrativa e Financeira da GoiásFomento – Agência de Fomento de Goiás.
CATEGORIES:Diretoria Administrativa e Financeira
END:VEVENT
BEGIN:VEVENT
DTSTART;TZID=America/Sao_Paulo:20240731T080000
DTEND;TZID=America/Sao_Paulo:20240731T120000
DTSTAMP:20260425T171516
CREATED:20240731T111539Z
LAST-MODIFIED:20240731T111539Z
UID:35974-1722412800-1722427200@www.goiasfomento.com
SUMMARY:Vinícius de Cecílio Luz: Despachos Internos.
DESCRIPTION:
URL:https://www.goiasfomento.com/agenda/vinicius-de-cecilio-luz-despachos-internos-199/
LOCATION:Gabinete da Diretoria de Operações da GoiásFomento – Agência de Fomento de Goiás.
CATEGORIES:Diretoria de Operações
END:VEVENT
BEGIN:VEVENT
DTSTART;TZID=America/Sao_Paulo:20240731T090000
DTEND;TZID=America/Sao_Paulo:20240731T100000
DTSTAMP:20260425T171516
CREATED:20240731T114453Z
LAST-MODIFIED:20240731T114453Z
UID:35993-1722416400-1722420000@www.goiasfomento.com
SUMMARY:Lucas Fernandes de Andrade – Diretor Presidente (Interino): Reunião Ordinária do Conselho Desenvolvimento do Estado de Goiás CDE/FCO ( online).
DESCRIPTION:
URL:https://www.goiasfomento.com/agenda/lucas-fernandes-de-andrade-diretor-presidente-interino-reuniao-ordinaria-do-conselho-desenvolvimento-do-estado-de-goias-cde-fco-online/
LOCATION:Gabinete da Presidência da GoiásFomento – Agência de Fomento de Goiás.
CATEGORIES:Presidência
END:VEVENT
END:VCALENDAR