BEGIN:VCALENDAR
VERSION:2.0
PRODID:-//GoiásFomento - Agência de Fomento - ECPv6.15.20//NONSGML v1.0//EN
CALSCALE:GREGORIAN
METHOD:PUBLISH
X-WR-CALNAME:GoiásFomento - Agência de Fomento
X-ORIGINAL-URL:https://www.goiasfomento.com
X-WR-CALDESC:Eventos para GoiásFomento - Agência de Fomento
REFRESH-INTERVAL;VALUE=DURATION:PT1H
X-Robots-Tag:noindex
X-PUBLISHED-TTL:PT1H
BEGIN:VTIMEZONE
TZID:America/Sao_Paulo
BEGIN:STANDARD
TZOFFSETFROM:-0300
TZOFFSETTO:-0300
TZNAME:-03
DTSTART:20230101T000000
END:STANDARD
END:VTIMEZONE
BEGIN:VEVENT
DTSTART;VALUE=DATE:20240719
DTEND;VALUE=DATE:20240720
DTSTAMP:20260425T171502
CREATED:20240719T113537Z
LAST-MODIFIED:20240719T113537Z
UID:35820-1721347200-1721433599@www.goiasfomento.com
SUMMARY:Cargo Vago desde 02/07/2024.
DESCRIPTION:
URL:https://www.goiasfomento.com/agenda/cargo-vago-desde-02-07-2024-11/
LOCATION:Chefia de Gabinete – Agência de Fomento de Goiás
CATEGORIES:Chefia de Gabinete
END:VEVENT
BEGIN:VEVENT
DTSTART;TZID=America/Sao_Paulo:20240719T080000
DTEND;TZID=America/Sao_Paulo:20240719T100000
DTSTAMP:20260425T171502
CREATED:20240719T134626Z
LAST-MODIFIED:20240719T135610Z
UID:35835-1721376000-1721383200@www.goiasfomento.com
SUMMARY:Lucas Fernandes de Andrade – Diretor Presidente (Interino): Despachos Internos.
DESCRIPTION:
URL:https://www.goiasfomento.com/agenda/lucas-fernandes-de-andrade-diretor-presidente-interino-despachos-internos-29/
LOCATION:Gabinete da Presidência da GoiásFomento – Agência de Fomento de Goiás.
CATEGORIES:Presidência
END:VEVENT
BEGIN:VEVENT
DTSTART;TZID=America/Sao_Paulo:20240719T080000
DTEND;TZID=America/Sao_Paulo:20240719T100000
DTSTAMP:20260425T171502
CREATED:20240719T134706Z
LAST-MODIFIED:20240719T134706Z
UID:35837-1721376000-1721383200@www.goiasfomento.com
SUMMARY:Lucas Fernandes de Andrade: Despachos Internos.
DESCRIPTION:
URL:https://www.goiasfomento.com/agenda/lucas-fernandes-de-andrade-despachos-internos-19/
LOCATION:Diretoria Administrativa e Financeira da GoiásFomento – Agência de Fomento de Goiás.
CATEGORIES:Diretoria Administrativa e Financeira
END:VEVENT
BEGIN:VEVENT
DTSTART;TZID=America/Sao_Paulo:20240719T080000
DTEND;TZID=America/Sao_Paulo:20240719T120000
DTSTAMP:20260425T171502
CREATED:20240719T113213Z
LAST-MODIFIED:20240719T113213Z
UID:35816-1721376000-1721390400@www.goiasfomento.com
SUMMARY:Vinícius de Cecílio Luz: Despachos Internos.
DESCRIPTION:
URL:https://www.goiasfomento.com/agenda/vinicius-de-cecilio-luz-despachos-internos-187/
LOCATION:Gabinete da Diretoria de Operações da GoiásFomento – Agência de Fomento de Goiás.
CATEGORIES:Diretoria de Operações
END:VEVENT
BEGIN:VEVENT
DTSTART;TZID=America/Sao_Paulo:20240719T100000
DTEND;TZID=America/Sao_Paulo:20240719T103000
DTSTAMP:20260425T171502
CREATED:20240719T135304Z
LAST-MODIFIED:20240719T135316Z
UID:35839-1721383200-1721385000@www.goiasfomento.com
SUMMARY:Lucas Fernandes de Andrade – Diretor Presidente (Interino): Reunião com o Milton Pires de Jesus - Gerente de Cobrança Extrajudicial.
DESCRIPTION:
URL:https://www.goiasfomento.com/agenda/lucas-fernandes-de-andrade-diretor-presidente-interino-reuniao-com-o-milton-pires-de-jesus-gerente-de-cobranca-extrajudicial/
LOCATION:Gabinete da Presidência da GoiásFomento – Agência de Fomento de Goiás.
CATEGORIES:Presidência
END:VEVENT
BEGIN:VEVENT
DTSTART;TZID=America/Sao_Paulo:20240719T100000
DTEND;TZID=America/Sao_Paulo:20240719T103000
DTSTAMP:20260425T171502
CREATED:20240719T135359Z
LAST-MODIFIED:20240719T135359Z
UID:35841-1721383200-1721385000@www.goiasfomento.com
SUMMARY:Lucas Fernandes de Andrade: Reunião com o Milton Pires de Jesus - Gerente de Cobrança Extrajudicial.
DESCRIPTION:
URL:https://www.goiasfomento.com/agenda/lucas-fernandes-de-andrade-reuniao-com-o-milton-pires-de-jesus-gerente-de-cobranca-extrajudicial/
LOCATION:Diretoria Administrativa e Financeira da GoiásFomento – Agência de Fomento de Goiás.
CATEGORIES:Diretoria Administrativa e Financeira
END:VEVENT
BEGIN:VEVENT
DTSTART;TZID=America/Sao_Paulo:20240719T103000
DTEND;TZID=America/Sao_Paulo:20240719T120000
DTSTAMP:20260425T171502
CREATED:20240719T135643Z
LAST-MODIFIED:20240719T135643Z
UID:35843-1721385000-1721390400@www.goiasfomento.com
SUMMARY:Lucas Fernandes de Andrade – Diretor Presidente (Interino): Despachos Internos.
DESCRIPTION:
URL:https://www.goiasfomento.com/agenda/lucas-fernandes-de-andrade-diretor-presidente-interino-despachos-internos-30/
LOCATION:Gabinete da Presidência da GoiásFomento – Agência de Fomento de Goiás.
CATEGORIES:Presidência
END:VEVENT
BEGIN:VEVENT
DTSTART;TZID=America/Sao_Paulo:20240719T103000
DTEND;TZID=America/Sao_Paulo:20240719T120000
DTSTAMP:20260425T171502
CREATED:20240719T135724Z
LAST-MODIFIED:20240719T135724Z
UID:35845-1721385000-1721390400@www.goiasfomento.com
SUMMARY:Lucas Fernandes de Andrade: Despachos Internos.
DESCRIPTION:
URL:https://www.goiasfomento.com/agenda/lucas-fernandes-de-andrade-despachos-internos-20/
LOCATION:Diretoria Administrativa e Financeira da GoiásFomento – Agência de Fomento de Goiás.
CATEGORIES:Diretoria Administrativa e Financeira
END:VEVENT
BEGIN:VEVENT
DTSTART;TZID=America/Sao_Paulo:20240719T140000
DTEND;TZID=America/Sao_Paulo:20240719T180000
DTSTAMP:20260425T171502
CREATED:20240719T113417Z
LAST-MODIFIED:20240719T113417Z
UID:35818-1721397600-1721412000@www.goiasfomento.com
SUMMARY:Vinícius de Cecílio Luz: Despachos Internos.
DESCRIPTION:
URL:https://www.goiasfomento.com/agenda/vinicius-de-cecilio-luz-despachos-internos-188/
LOCATION:Gabinete da Diretoria de Operações da GoiásFomento – Agência de Fomento de Goiás.
CATEGORIES:Diretoria de Operações
END:VEVENT
BEGIN:VEVENT
DTSTART;TZID=America/Sao_Paulo:20240719T140000
DTEND;TZID=America/Sao_Paulo:20240719T180000
DTSTAMP:20260425T171502
CREATED:20240719T115039Z
LAST-MODIFIED:20240719T115240Z
UID:35826-1721397600-1721412000@www.goiasfomento.com
SUMMARY:Lucas Fernandes de Andrade – Diretor Presidente (Interino): Despachos Internos.
DESCRIPTION:
URL:https://www.goiasfomento.com/agenda/lucas-fernandes-de-andrade-diretor-presidente-interino-reuniao-com-secretario-geral-da-agencia-de-fomento-de-goias-2/
LOCATION:Gabinete da Presidência da GoiásFomento – Agência de Fomento de Goiás.
CATEGORIES:Presidência
END:VEVENT
BEGIN:VEVENT
DTSTART;TZID=America/Sao_Paulo:20240719T140000
DTEND;TZID=America/Sao_Paulo:20240719T180000
DTSTAMP:20260425T171502
CREATED:20240719T115111Z
LAST-MODIFIED:20240719T115212Z
UID:35828-1721397600-1721412000@www.goiasfomento.com
SUMMARY:Lucas Fernandes de Andrade: Despachos Internos.
DESCRIPTION:
URL:https://www.goiasfomento.com/agenda/lucas-fernandes-de-andrade-reuniao-com-secretario-geral-da-agencia-de-fomento-de-goias/
LOCATION:Diretoria Administrativa e Financeira da GoiásFomento – Agência de Fomento de Goiás.
CATEGORIES:Diretoria Administrativa e Financeira
END:VEVENT
BEGIN:VEVENT
DTSTART;VALUE=DATE:20240722
DTEND;VALUE=DATE:20240723
DTSTAMP:20260425T171502
CREATED:20240723T131013Z
LAST-MODIFIED:20240723T131032Z
UID:35860-1721606400-1721692799@www.goiasfomento.com
SUMMARY:Lucas Fernandes de Andrade: Feriado Consagrado à Fundação da Cidade de Goiás\, transferido para o dia 22 de julho de 2024\, segundo Decreto Estadual 10.481 de 20 de junho de 2024\, art. 2°.
DESCRIPTION:
URL:https://www.goiasfomento.com/agenda/lucas-fernandes-de-andrade-feriado-consagrado-a-fundacao-da-cidade-de-goias-transferido-para-o-dia-22-de-julho-de-2024-segundo-decreto-estadual-10-481-de-20-de-junho-de-2024-art-2/
LOCATION:Diretoria Administrativa e Financeira da GoiásFomento – Agência de Fomento de Goiás.
CATEGORIES:Diretoria Administrativa e Financeira
END:VEVENT
BEGIN:VEVENT
DTSTART;VALUE=DATE:20240722
DTEND;VALUE=DATE:20240723
DTSTAMP:20260425T171502
CREATED:20240719T114603Z
LAST-MODIFIED:20240719T123735Z
UID:35822-1721606400-1721692799@www.goiasfomento.com
SUMMARY:Vinícius de Cecílio Luz: Feriado Consagrado à Fundação da Cidade de Goiás\, transferido para o dia 22 de julho de 2024\, segundo Decreto Estadual 10.481 de 20 de junho de 2024\, art. 2°.
DESCRIPTION:
URL:https://www.goiasfomento.com/agenda/vinicius-de-cecilio-luz-feriado-consagrado-a-fundacao-da-cidade-de-goias-transferido-para-o-dia-22-de-julho-de-2024-segundo-decreto-10-481-de-20-de-junho-de-2024/
LOCATION:Gabinete da Diretoria de Operações da GoiásFomento – Agência de Fomento de Goiás.
CATEGORIES:Diretoria de Operações
END:VEVENT
BEGIN:VEVENT
DTSTART;VALUE=DATE:20240722
DTEND;VALUE=DATE:20240723
DTSTAMP:20260425T171502
CREATED:20240719T114833Z
LAST-MODIFIED:20240719T114833Z
UID:35824-1721606400-1721692799@www.goiasfomento.com
SUMMARY:Cargo Vago desde 02/07/2024.
DESCRIPTION:
URL:https://www.goiasfomento.com/agenda/cargo-vago-desde-02-07-2024-12/
LOCATION:Chefia de Gabinete – Agência de Fomento de Goiás
CATEGORIES:Chefia de Gabinete
END:VEVENT
BEGIN:VEVENT
DTSTART;VALUE=DATE:20240722
DTEND;VALUE=DATE:20240723
DTSTAMP:20260425T171502
CREATED:20240719T142534Z
LAST-MODIFIED:20240723T131238Z
UID:35847-1721606400-1721692799@www.goiasfomento.com
SUMMARY:Lucas Fernandes de Andrade – Diretor Presidente (Interino): Solenidade de Instalação dos Poderes Executivo\, Legislativo e Judiciário.
DESCRIPTION:
URL:https://www.goiasfomento.com/agenda/lucas-fernandes-de-andrade-diretor-presidente-interino-instalacao-dos-poderes-executivo-legislativo-e-judiciario/
LOCATION:Palácio Conde dos Arcos – Centro – Cidade de Goiás
CATEGORIES:Presidência
END:VEVENT
BEGIN:VEVENT
DTSTART;VALUE=DATE:20240722
DTEND;VALUE=DATE:20240723
DTSTAMP:20260425T171502
CREATED:20240719T142632Z
LAST-MODIFIED:20240723T131404Z
UID:35850-1721606400-1721692799@www.goiasfomento.com
SUMMARY:Lucas Fernandes de Andrade: Solenidade de Instalação dos Poderes Executivo\, Legislativo e Judiciário.
DESCRIPTION:
URL:https://www.goiasfomento.com/agenda/lucas-fernandes-de-andrade-instalacao-dos-poderes-executivo-legislativo-e-judiciario/
LOCATION:Palácio Conde dos Arcos – Centro – Cidade de Goiás
CATEGORIES:Diretoria Administrativa e Financeira
END:VEVENT
BEGIN:VEVENT
DTSTART;VALUE=DATE:20240722
DTEND;VALUE=DATE:20240723
DTSTAMP:20260425T171502
CREATED:20240723T130204Z
LAST-MODIFIED:20240723T131335Z
UID:35853-1721606400-1721692799@www.goiasfomento.com
SUMMARY:Vinícius de Cecílio Luz: Solenidade de Instalação dos Poderes Executivo\, Legislativo e Judiciário.
DESCRIPTION:
URL:https://www.goiasfomento.com/agenda/vinicius-de-cecilio-luz-instalacao-dos-poderes-executivo-legislativo-e-judiciario/
LOCATION:Palácio Conde dos Arcos – Centro – Cidade de Goiás
CATEGORIES:Diretoria de Operações
END:VEVENT
BEGIN:VEVENT
DTSTART;VALUE=DATE:20240722
DTEND;VALUE=DATE:20240723
DTSTAMP:20260425T171502
CREATED:20240723T130849Z
LAST-MODIFIED:20240723T130849Z
UID:35858-1721606400-1721692799@www.goiasfomento.com
SUMMARY:Lucas Fernandes de Andrade – Diretor Presidente (Interino): Feriado Consagrado à Fundação da Cidade de Goiás\, transferido para o dia 22 de julho de 2024\, segundo Decreto Estadual 10.481 de 20 de junho de 2024\, art. 2°.
DESCRIPTION:
URL:https://www.goiasfomento.com/agenda/lucas-fernandes-de-andrade-diretor-presidente-interino-feriado-consagrado-a-fundacao-da-cidade-de-goias-transferido-para-o-dia-22-de-julho-de-2024-segundo-decreto-estadual-10-481-de-20/
LOCATION:Gabinete da Presidência da GoiásFomento – Agência de Fomento de Goiás.
CATEGORIES:Presidência
END:VEVENT
BEGIN:VEVENT
DTSTART;VALUE=DATE:20240723
DTEND;VALUE=DATE:20240724
DTSTAMP:20260425T171502
CREATED:20240723T130451Z
LAST-MODIFIED:20240723T130451Z
UID:35855-1721692800-1721779199@www.goiasfomento.com
SUMMARY:Vinícius de Cecílio Luz: Solenidade de Entrega da Comenda da Ordem do Mérito Anhanguera.
DESCRIPTION:
URL:https://www.goiasfomento.com/agenda/vinicius-de-cecilio-luz-solenidade-de-entrega-da-comenda-da-ordem-do-merito-anhanguera/
LOCATION:Praça do Chafariz – Cidade de Goiás
CATEGORIES:Diretoria de Operações
END:VEVENT
BEGIN:VEVENT
DTSTART;VALUE=DATE:20240723
DTEND;VALUE=DATE:20240724
DTSTAMP:20260425T171502
CREATED:20240724T112552Z
LAST-MODIFIED:20240724T112552Z
UID:35894-1721692800-1721779199@www.goiasfomento.com
SUMMARY:Cargo Vago desde 02/07/2024.
DESCRIPTION:
URL:https://www.goiasfomento.com/agenda/cargo-vago-desde-02-07-2024-13/
LOCATION:Chefia de Gabinete – Agência de Fomento de Goiás
CATEGORIES:Chefia de Gabinete
END:VEVENT
BEGIN:VEVENT
DTSTART;TZID=America/Sao_Paulo:20240723T080000
DTEND;TZID=America/Sao_Paulo:20240723T093000
DTSTAMP:20260425T171502
CREATED:20240723T131856Z
LAST-MODIFIED:20240723T131856Z
UID:35869-1721721600-1721727000@www.goiasfomento.com
SUMMARY:Lucas Fernandes de Andrade – Diretor Presidente (Interino): Despachos Internos.
DESCRIPTION:
URL:https://www.goiasfomento.com/agenda/lucas-fernandes-de-andrade-diretor-presidente-interino-despachos-internos-31/
LOCATION:Gabinete da Presidência da GoiásFomento – Agência de Fomento de Goiás.
CATEGORIES:Presidência
END:VEVENT
BEGIN:VEVENT
DTSTART;TZID=America/Sao_Paulo:20240723T080000
DTEND;TZID=America/Sao_Paulo:20240723T093000
DTSTAMP:20260425T171502
CREATED:20240723T131937Z
LAST-MODIFIED:20240723T131937Z
UID:35871-1721721600-1721727000@www.goiasfomento.com
SUMMARY:Lucas Fernandes de Andrade: Despachos Internos.
DESCRIPTION:
URL:https://www.goiasfomento.com/agenda/lucas-fernandes-de-andrade-despachos-internos-21/
LOCATION:Diretoria Administrativa e Financeira da GoiásFomento – Agência de Fomento de Goiás.
CATEGORIES:Diretoria Administrativa e Financeira
END:VEVENT
BEGIN:VEVENT
DTSTART;TZID=America/Sao_Paulo:20240723T093000
DTEND;TZID=America/Sao_Paulo:20240723T110000
DTSTAMP:20260425T171502
CREATED:20240723T131722Z
LAST-MODIFIED:20240723T131722Z
UID:35865-1721727000-1721732400@www.goiasfomento.com
SUMMARY:Lucas Fernandes de Andrade – Diretor Presidente (Interino): Reunião com os Gerentes da Agência de Fomento de Goiás.
DESCRIPTION:
URL:https://www.goiasfomento.com/agenda/lucas-fernandes-de-andrade-diretor-presidente-interino-reuniao-com-os-gerentes-da-agencia-de-fomento-de-goias-9/
LOCATION:Gabinete da Presidência da GoiásFomento – Agência de Fomento de Goiás.
CATEGORIES:Presidência
END:VEVENT
BEGIN:VEVENT
DTSTART;TZID=America/Sao_Paulo:20240723T093000
DTEND;TZID=America/Sao_Paulo:20240723T110000
DTSTAMP:20260425T171502
CREATED:20240723T131801Z
LAST-MODIFIED:20240723T131801Z
UID:35867-1721727000-1721732400@www.goiasfomento.com
SUMMARY:Lucas Fernandes de Andrade: Reunião com os Gerentes da Agência de Fomento de Goiás.
DESCRIPTION:
URL:https://www.goiasfomento.com/agenda/lucas-fernandes-de-andrade-reuniao-com-os-gerentes-da-agencia-de-fomento-de-goias-3/
LOCATION:Diretoria Administrativa e Financeira da GoiásFomento – Agência de Fomento de Goiás.
CATEGORIES:Diretoria Administrativa e Financeira
END:VEVENT
BEGIN:VEVENT
DTSTART;TZID=America/Sao_Paulo:20240723T110000
DTEND;TZID=America/Sao_Paulo:20240723T120000
DTSTAMP:20260425T171502
CREATED:20240723T132019Z
LAST-MODIFIED:20240723T132019Z
UID:35873-1721732400-1721736000@www.goiasfomento.com
SUMMARY:Lucas Fernandes de Andrade – Diretor Presidente (Interino): Despachos Internos.
DESCRIPTION:
URL:https://www.goiasfomento.com/agenda/lucas-fernandes-de-andrade-diretor-presidente-interino-despachos-internos-32/
LOCATION:Gabinete da Presidência da GoiásFomento – Agência de Fomento de Goiás.
CATEGORIES:Presidência
END:VEVENT
BEGIN:VEVENT
DTSTART;TZID=America/Sao_Paulo:20240723T110000
DTEND;TZID=America/Sao_Paulo:20240723T120000
DTSTAMP:20260425T171502
CREATED:20240723T132059Z
LAST-MODIFIED:20240723T132059Z
UID:35875-1721732400-1721736000@www.goiasfomento.com
SUMMARY:Lucas Fernandes de Andrade: Despachos Internos.
DESCRIPTION:
URL:https://www.goiasfomento.com/agenda/lucas-fernandes-de-andrade-despachos-internos-22/
LOCATION:Diretoria Administrativa e Financeira da GoiásFomento – Agência de Fomento de Goiás.
CATEGORIES:Diretoria Administrativa e Financeira
END:VEVENT
BEGIN:VEVENT
DTSTART;TZID=America/Sao_Paulo:20240723T140000
DTEND;TZID=America/Sao_Paulo:20240723T180000
DTSTAMP:20260425T171502
CREATED:20240723T132259Z
LAST-MODIFIED:20240723T132259Z
UID:35877-1721743200-1721757600@www.goiasfomento.com
SUMMARY:Lucas Fernandes de Andrade – Diretor Presidente (Interino): Despachos Internos.
DESCRIPTION:
URL:https://www.goiasfomento.com/agenda/lucas-fernandes-de-andrade-diretor-presidente-interino-despachos-internos-33/
LOCATION:Gabinete da Presidência da GoiásFomento – Agência de Fomento de Goiás.
CATEGORIES:Presidência
END:VEVENT
BEGIN:VEVENT
DTSTART;TZID=America/Sao_Paulo:20240723T140000
DTEND;TZID=America/Sao_Paulo:20240723T180000
DTSTAMP:20260425T171502
CREATED:20240723T132402Z
LAST-MODIFIED:20240723T132402Z
UID:35879-1721743200-1721757600@www.goiasfomento.com
SUMMARY:Lucas Fernandes de Andrade: Despachos Internos.
DESCRIPTION:
URL:https://www.goiasfomento.com/agenda/lucas-fernandes-de-andrade-despachos-internos-23/
LOCATION:Diretoria Administrativa e Financeira da GoiásFomento – Agência de Fomento de Goiás.
CATEGORIES:Diretoria Administrativa e Financeira
END:VEVENT
BEGIN:VEVENT
DTSTART;VALUE=DATE:20240724
DTEND;VALUE=DATE:20240725
DTSTAMP:20260425T171502
CREATED:20240724T112611Z
LAST-MODIFIED:20240724T112611Z
UID:35896-1721779200-1721865599@www.goiasfomento.com
SUMMARY:Cargo Vago desde 02/07/2024.
DESCRIPTION:
URL:https://www.goiasfomento.com/agenda/cargo-vago-desde-02-07-2024-14/
LOCATION:Chefia de Gabinete – Agência de Fomento de Goiás
CATEGORIES:Chefia de Gabinete
END:VEVENT
BEGIN:VEVENT
DTSTART;TZID=America/Sao_Paulo:20240724T080000
DTEND;TZID=America/Sao_Paulo:20240724T120000
DTSTAMP:20260425T171502
CREATED:20240724T112012Z
LAST-MODIFIED:20240724T112012Z
UID:35882-1721808000-1721822400@www.goiasfomento.com
SUMMARY:Vinícius de Cecílio Luz: Despachos Internos.
DESCRIPTION:
URL:https://www.goiasfomento.com/agenda/vinicius-de-cecilio-luz-despachos-internos-189/
LOCATION:Gabinete da Diretoria de Operações da GoiásFomento – Agência de Fomento de Goiás.
CATEGORIES:Diretoria de Operações
END:VEVENT
END:VCALENDAR