BEGIN:VCALENDAR
VERSION:2.0
PRODID:-//GoiásFomento - Agência de Fomento - ECPv6.15.20//NONSGML v1.0//EN
CALSCALE:GREGORIAN
METHOD:PUBLISH
X-ORIGINAL-URL:https://www.goiasfomento.com
X-WR-CALDESC:Eventos para GoiásFomento - Agência de Fomento
REFRESH-INTERVAL;VALUE=DURATION:PT1H
X-Robots-Tag:noindex
X-PUBLISHED-TTL:PT1H
BEGIN:VTIMEZONE
TZID:America/Sao_Paulo
BEGIN:STANDARD
TZOFFSETFROM:-0300
TZOFFSETTO:-0300
TZNAME:-03
DTSTART:20240101T000000
END:STANDARD
END:VTIMEZONE
BEGIN:VEVENT
DTSTART;TZID=America/Sao_Paulo:20250911T080000
DTEND;TZID=America/Sao_Paulo:20250911T120000
DTSTAMP:20260425T164217
CREATED:20250911T141931Z
LAST-MODIFIED:20250911T141931Z
UID:45989-1757577600-1757592000@www.goiasfomento.com
SUMMARY:Rivael Aguiar Pereira: Atendimentos e Despachos Internos
DESCRIPTION:
URL:https://www.goiasfomento.com/agenda/rivael-aguiar-pereira-atendimentos-e-despachos-internos-86/
LOCATION:Gabinete da Presidência da GoiásFomento – Agência de Fomento de Goiás.
CATEGORIES:Presidência
END:VEVENT
BEGIN:VEVENT
DTSTART;TZID=America/Sao_Paulo:20250911T140000
DTEND;TZID=America/Sao_Paulo:20250911T180000
DTSTAMP:20260425T164217
CREATED:20250911T142244Z
LAST-MODIFIED:20250911T142244Z
UID:45991-1757599200-1757613600@www.goiasfomento.com
SUMMARY:Rivael Aguiar Pereira: Atendimentos e Despachos Internos
DESCRIPTION:
URL:https://www.goiasfomento.com/agenda/rivael-aguiar-pereira-atendimentos-e-despachos-internos-87/
CATEGORIES:Presidência
END:VEVENT
BEGIN:VEVENT
DTSTART;TZID=America/Sao_Paulo:20250912T080000
DTEND;TZID=America/Sao_Paulo:20250912T120000
DTSTAMP:20260425T164217
CREATED:20250911T142724Z
LAST-MODIFIED:20250911T142724Z
UID:45993-1757664000-1757678400@www.goiasfomento.com
SUMMARY:Rivael Aguiar Pereira: Atendimentos e Despachos Internos
DESCRIPTION:
URL:https://www.goiasfomento.com/agenda/rivael-aguiar-pereira-atendimentos-e-despachos-internos-88/
CATEGORIES:Presidência
END:VEVENT
BEGIN:VEVENT
DTSTART;TZID=America/Sao_Paulo:20250912T140000
DTEND;TZID=America/Sao_Paulo:20250912T180000
DTSTAMP:20260425T164217
CREATED:20250911T142918Z
LAST-MODIFIED:20250911T142918Z
UID:45995-1757685600-1757700000@www.goiasfomento.com
SUMMARY:Rivael Aguiar Pereira: Atendimentos e Despachos Internos
DESCRIPTION:
URL:https://www.goiasfomento.com/agenda/rivael-aguiar-pereira-atendimentos-e-despachos-internos-89/
CATEGORIES:Presidência
END:VEVENT
BEGIN:VEVENT
DTSTART;TZID=America/Sao_Paulo:20250915T080000
DTEND;TZID=America/Sao_Paulo:20250915T120000
DTSTAMP:20260425T164217
CREATED:20250912T174535Z
LAST-MODIFIED:20250912T174535Z
UID:46017-1757923200-1757937600@www.goiasfomento.com
SUMMARY:Rivael Aguiar Pereira: Atendimentos e Despachos Internos
DESCRIPTION:
URL:https://www.goiasfomento.com/agenda/rivael-aguiar-pereira-atendimentos-e-despachos-internos-90/
LOCATION:Agência de Fomento de Goiás.
CATEGORIES:Presidência
END:VEVENT
BEGIN:VEVENT
DTSTART;TZID=America/Sao_Paulo:20250915T140000
DTEND;TZID=America/Sao_Paulo:20250915T180000
DTSTAMP:20260425T164217
CREATED:20250912T174612Z
LAST-MODIFIED:20250912T174612Z
UID:46019-1757944800-1757959200@www.goiasfomento.com
SUMMARY:Rivael Aguiar Pereira: Atendimentos e Despachos Internos
DESCRIPTION:
URL:https://www.goiasfomento.com/agenda/rivael-aguiar-pereira-atendimentos-e-despachos-internos-91/
LOCATION:Agência de Fomento de Goiás
CATEGORIES:Presidência
END:VEVENT
BEGIN:VEVENT
DTSTART;TZID=America/Sao_Paulo:20250916T080000
DTEND;TZID=America/Sao_Paulo:20250916T120000
DTSTAMP:20260425T164217
CREATED:20250912T174650Z
LAST-MODIFIED:20250912T174650Z
UID:46021-1758009600-1758024000@www.goiasfomento.com
SUMMARY:Rivael Aguiar Pereira: Atendimentos e Despachos Internos
DESCRIPTION:
URL:https://www.goiasfomento.com/agenda/rivael-aguiar-pereira-atendimentos-e-despachos-internos-92/
LOCATION:Agência de Fomento de Goiás.
CATEGORIES:Presidência
END:VEVENT
BEGIN:VEVENT
DTSTART;TZID=America/Sao_Paulo:20250916T140000
DTEND;TZID=America/Sao_Paulo:20250916T180000
DTSTAMP:20260425T164217
CREATED:20250912T174715Z
LAST-MODIFIED:20250912T174715Z
UID:46023-1758031200-1758045600@www.goiasfomento.com
SUMMARY:Rivael Aguiar Pereira: Atendimentos e Despachos Internos
DESCRIPTION:
URL:https://www.goiasfomento.com/agenda/rivael-aguiar-pereira-atendimentos-e-despachos-internos-93/
LOCATION:Agência de Fomento de Goiás
CATEGORIES:Presidência
END:VEVENT
BEGIN:VEVENT
DTSTART;TZID=America/Sao_Paulo:20250917T080000
DTEND;TZID=America/Sao_Paulo:20250917T120000
DTSTAMP:20260425T164217
CREATED:20250912T174757Z
LAST-MODIFIED:20250912T174757Z
UID:46025-1758096000-1758110400@www.goiasfomento.com
SUMMARY:Rivael Aguiar Pereira: Atendimentos e Despachos Internos
DESCRIPTION:
URL:https://www.goiasfomento.com/agenda/rivael-aguiar-pereira-atendimentos-e-despachos-internos-94/
LOCATION:Agência de Fomento de Goiás.
CATEGORIES:Presidência
END:VEVENT
BEGIN:VEVENT
DTSTART;TZID=America/Sao_Paulo:20250917T140000
DTEND;TZID=America/Sao_Paulo:20250917T180000
DTSTAMP:20260425T164217
CREATED:20250912T174849Z
LAST-MODIFIED:20250912T174849Z
UID:46027-1758117600-1758132000@www.goiasfomento.com
SUMMARY:Rivael Aguiar Pereira: Atendimentos e Despachos Internos
DESCRIPTION:
URL:https://www.goiasfomento.com/agenda/rivael-aguiar-pereira-atendimentos-e-despachos-internos-95/
LOCATION:Agência de Fomento de Goiás
CATEGORIES:Presidência
END:VEVENT
BEGIN:VEVENT
DTSTART;TZID=America/Sao_Paulo:20250918T080000
DTEND;TZID=America/Sao_Paulo:20250918T120000
DTSTAMP:20260425T164217
CREATED:20250912T174931Z
LAST-MODIFIED:20250912T174931Z
UID:46029-1758182400-1758196800@www.goiasfomento.com
SUMMARY:Rivael Aguiar Pereira: Atendimentos e Despachos Internos
DESCRIPTION:
URL:https://www.goiasfomento.com/agenda/rivael-aguiar-pereira-atendimentos-e-despachos-internos-96/
LOCATION:Agência de Fomento de Goiás.
CATEGORIES:Presidência
END:VEVENT
BEGIN:VEVENT
DTSTART;TZID=America/Sao_Paulo:20250918T140000
DTEND;TZID=America/Sao_Paulo:20250918T180000
DTSTAMP:20260425T164217
CREATED:20250912T174955Z
LAST-MODIFIED:20250912T174955Z
UID:46031-1758204000-1758218400@www.goiasfomento.com
SUMMARY:Rivael Aguiar Pereira: Atendimentos e Despachos Internos
DESCRIPTION:
URL:https://www.goiasfomento.com/agenda/rivael-aguiar-pereira-atendimentos-e-despachos-internos-97/
LOCATION:Agência de Fomento de Goiás
CATEGORIES:Presidência
END:VEVENT
BEGIN:VEVENT
DTSTART;TZID=America/Sao_Paulo:20250919T080000
DTEND;TZID=America/Sao_Paulo:20250919T120000
DTSTAMP:20260425T164217
CREATED:20250912T175029Z
LAST-MODIFIED:20250912T175029Z
UID:46033-1758268800-1758283200@www.goiasfomento.com
SUMMARY:Rivael Aguiar Pereira: Atendimentos e Despachos Internos
DESCRIPTION:
URL:https://www.goiasfomento.com/agenda/rivael-aguiar-pereira-atendimentos-e-despachos-internos-98/
LOCATION:Agência de Fomento de Goiás
CATEGORIES:Presidência
END:VEVENT
BEGIN:VEVENT
DTSTART;TZID=America/Sao_Paulo:20250919T140000
DTEND;TZID=America/Sao_Paulo:20250919T180000
DTSTAMP:20260425T164217
CREATED:20250912T175056Z
LAST-MODIFIED:20250912T175056Z
UID:46035-1758290400-1758304800@www.goiasfomento.com
SUMMARY:Rivael Aguiar Pereira: Atendimentos e Despachos Internos
DESCRIPTION:
URL:https://www.goiasfomento.com/agenda/rivael-aguiar-pereira-atendimentos-e-despachos-internos-99/
LOCATION:Agência de Fomento de Goiás
CATEGORIES:Presidência
END:VEVENT
BEGIN:VEVENT
DTSTART;TZID=America/Sao_Paulo:20250922T080000
DTEND;TZID=America/Sao_Paulo:20250922T120000
DTSTAMP:20260425T164217
CREATED:20250922T181735Z
LAST-MODIFIED:20250922T183136Z
UID:46108-1758528000-1758542400@www.goiasfomento.com
SUMMARY:Rivael Aguiar Pereira: Lançamento Goiás + Inclusivo
DESCRIPTION:
URL:https://www.goiasfomento.com/agenda/rivael-aguiar-pereira-atendimentos-e-despachos-internos-100/
LOCATION:Presidência – Agência de Fomento de Goiás
CATEGORIES:Presidência
END:VEVENT
BEGIN:VEVENT
DTSTART;TZID=America/Sao_Paulo:20250922T140000
DTEND;TZID=America/Sao_Paulo:20250922T180000
DTSTAMP:20260425T164217
CREATED:20250922T181843Z
LAST-MODIFIED:20250922T181843Z
UID:46110-1758549600-1758564000@www.goiasfomento.com
SUMMARY:Rivael Aguiar Pereira: Atendimentos e Despachos Internos
DESCRIPTION:
URL:https://www.goiasfomento.com/agenda/rivael-aguiar-pereira-atendimentos-e-despachos-internos-101/
LOCATION:Presidência – Agência de Fomento de Goiás
CATEGORIES:Presidência
END:VEVENT
BEGIN:VEVENT
DTSTART;TZID=America/Sao_Paulo:20250923T080000
DTEND;TZID=America/Sao_Paulo:20250923T120000
DTSTAMP:20260425T164217
CREATED:20250922T181913Z
LAST-MODIFIED:20250922T181913Z
UID:46112-1758614400-1758628800@www.goiasfomento.com
SUMMARY:Rivael Aguiar Pereira: Atendimentos e Despachos Internos
DESCRIPTION:
URL:https://www.goiasfomento.com/agenda/rivael-aguiar-pereira-atendimentos-e-despachos-internos-102/
CATEGORIES:Presidência
END:VEVENT
BEGIN:VEVENT
DTSTART;TZID=America/Sao_Paulo:20250923T140000
DTEND;TZID=America/Sao_Paulo:20250923T180000
DTSTAMP:20260425T164217
CREATED:20250922T181936Z
LAST-MODIFIED:20250922T181936Z
UID:46114-1758636000-1758650400@www.goiasfomento.com
SUMMARY:Rivael Aguiar Pereira: Atendimentos e Despachos Internos
DESCRIPTION:
URL:https://www.goiasfomento.com/agenda/rivael-aguiar-pereira-atendimentos-e-despachos-internos-103/
CATEGORIES:Presidência
END:VEVENT
BEGIN:VEVENT
DTSTART;TZID=America/Sao_Paulo:20250924T080000
DTEND;TZID=America/Sao_Paulo:20250924T100000
DTSTAMP:20260425T164217
CREATED:20250922T182307Z
LAST-MODIFIED:20250922T182325Z
UID:46116-1758700800-1758708000@www.goiasfomento.com
SUMMARY:Rivael Aguiar Pereira: Atendimentos e Despachos Internos
DESCRIPTION:
URL:https://www.goiasfomento.com/agenda/rivael-aguiar-pereira-atendimentos-e-despachos-internos-104/
LOCATION:Sala de Reuniões da Diretoria – Agência de Fomento de Goiás.
CATEGORIES:Presidência
END:VEVENT
BEGIN:VEVENT
DTSTART;TZID=America/Sao_Paulo:20250924T100000
DTEND;TZID=America/Sao_Paulo:20250924T120000
DTSTAMP:20260425T164217
CREATED:20250922T182608Z
LAST-MODIFIED:20250922T182608Z
UID:46118-1758708000-1758715200@www.goiasfomento.com
SUMMARY:Rivael Aguiar Pereira:  Evento Lançamento Cartão  - Crédito Social Tech (SECTI)
DESCRIPTION:
URL:https://www.goiasfomento.com/agenda/rivael-aguiar-pereira-evento-lancamento-cartao-credito-social-tech-secti/
LOCATION:Teatro Escola Basileu França
CATEGORIES:Presidência
END:VEVENT
BEGIN:VEVENT
DTSTART;TZID=America/Sao_Paulo:20250924T140000
DTEND;TZID=America/Sao_Paulo:20250924T180000
DTSTAMP:20260425T164217
CREATED:20250922T182701Z
LAST-MODIFIED:20250922T182701Z
UID:46121-1758722400-1758736800@www.goiasfomento.com
SUMMARY:Rivael Aguiar Pereira: Atendimentos e Despachos Internos
DESCRIPTION:
URL:https://www.goiasfomento.com/agenda/rivael-aguiar-pereira-atendimentos-e-despachos-internos-105/
LOCATION:Agência de Fomento de Goiás
CATEGORIES:Presidência
END:VEVENT
BEGIN:VEVENT
DTSTART;TZID=America/Sao_Paulo:20250925T080000
DTEND;TZID=America/Sao_Paulo:20250925T120000
DTSTAMP:20260425T164217
CREATED:20250922T182925Z
LAST-MODIFIED:20250922T182925Z
UID:46123-1758787200-1758801600@www.goiasfomento.com
SUMMARY:Rivael Aguiar Pereira: Inauguração do CORA – Complexo Oncológico de Referência do Estado de Goiás\, o maior e mais moderno hospital dedicado ao combate ao câncer infantil.
DESCRIPTION:
URL:https://www.goiasfomento.com/agenda/rivael-aguiar-pereira-inauguracao-do-cora-complexo-oncologico-de-referencia-do-estado-de-goias-o-maior-e-mais-moderno-hospital-dedicado-ao-combate-ao-cancer-infantil/
CATEGORIES:Presidência
END:VEVENT
BEGIN:VEVENT
DTSTART;TZID=America/Sao_Paulo:20250925T140000
DTEND;TZID=America/Sao_Paulo:20250925T180000
DTSTAMP:20260425T164217
CREATED:20250922T183016Z
LAST-MODIFIED:20250922T183016Z
UID:46125-1758808800-1758823200@www.goiasfomento.com
SUMMARY:Rivael Aguiar Pereira: Atendimentos e Despachos Internos
DESCRIPTION:
URL:https://www.goiasfomento.com/agenda/rivael-aguiar-pereira-atendimentos-e-despachos-internos-106/
LOCATION:Agência de Fomento de Goiás
CATEGORIES:Presidência
END:VEVENT
BEGIN:VEVENT
DTSTART;TZID=America/Sao_Paulo:20250926T080000
DTEND;TZID=America/Sao_Paulo:20250926T120000
DTSTAMP:20260425T164217
CREATED:20250922T183246Z
LAST-MODIFIED:20250922T183246Z
UID:46129-1758873600-1758888000@www.goiasfomento.com
SUMMARY:Rivael Aguiar Pereira: Atendimentos e Despachos Internos
DESCRIPTION:
URL:https://www.goiasfomento.com/agenda/rivael-aguiar-pereira-atendimentos-e-despachos-internos-107/
CATEGORIES:Presidência
END:VEVENT
BEGIN:VEVENT
DTSTART;TZID=America/Sao_Paulo:20250926T140000
DTEND;TZID=America/Sao_Paulo:20250926T180000
DTSTAMP:20260425T164217
CREATED:20250922T183316Z
LAST-MODIFIED:20250922T183316Z
UID:46131-1758895200-1758909600@www.goiasfomento.com
SUMMARY:Rivael Aguiar Pereira: Atendimentos e Despachos Internos
DESCRIPTION:
URL:https://www.goiasfomento.com/agenda/rivael-aguiar-pereira-atendimentos-e-despachos-internos-108/
CATEGORIES:Presidência
END:VEVENT
BEGIN:VEVENT
DTSTART;TZID=America/Sao_Paulo:20250929T080000
DTEND;TZID=America/Sao_Paulo:20250929T120000
DTSTAMP:20260425T164217
CREATED:20250929T170802Z
LAST-MODIFIED:20250929T170802Z
UID:46233-1759132800-1759147200@www.goiasfomento.com
SUMMARY:Rivael Aguiar Pereira: Atendimentos e Despachos Internos
DESCRIPTION:
URL:https://www.goiasfomento.com/agenda/rivael-aguiar-pereira-atendimentos-e-despachos-internos-109/
LOCATION:Agência de Fomento de Goiás
CATEGORIES:Presidência
END:VEVENT
BEGIN:VEVENT
DTSTART;TZID=America/Sao_Paulo:20250929T140000
DTEND;TZID=America/Sao_Paulo:20250929T180000
DTSTAMP:20260425T164217
CREATED:20250929T170848Z
LAST-MODIFIED:20250929T170848Z
UID:46235-1759154400-1759168800@www.goiasfomento.com
SUMMARY:Rivael Aguiar Pereira: Atendimentos e Despachos Internos
DESCRIPTION:
URL:https://www.goiasfomento.com/agenda/rivael-aguiar-pereira-atendimentos-e-despachos-internos-110/
LOCATION:Agência de Fomento de Goiás
CATEGORIES:Presidência
END:VEVENT
BEGIN:VEVENT
DTSTART;TZID=America/Sao_Paulo:20250930T080000
DTEND;TZID=America/Sao_Paulo:20250930T120000
DTSTAMP:20260425T164217
CREATED:20250929T170959Z
LAST-MODIFIED:20250929T170959Z
UID:46237-1759219200-1759233600@www.goiasfomento.com
SUMMARY:Rivael Aguiar Pereira: Atendimentos e Despachos Internos
DESCRIPTION:
URL:https://www.goiasfomento.com/agenda/rivael-aguiar-pereira-atendimentos-e-despachos-internos-111/
LOCATION:Agência de Fomento de Goiás
CATEGORIES:Presidência
END:VEVENT
BEGIN:VEVENT
DTSTART;TZID=America/Sao_Paulo:20250930T140000
DTEND;TZID=America/Sao_Paulo:20250930T180000
DTSTAMP:20260425T164217
CREATED:20250929T171104Z
LAST-MODIFIED:20250929T171104Z
UID:46239-1759240800-1759255200@www.goiasfomento.com
SUMMARY:Rivael Aguiar Pereira: Atendimentos e Despachos Internos
DESCRIPTION:
URL:https://www.goiasfomento.com/agenda/rivael-aguiar-pereira-atendimentos-e-despachos-internos-112/
LOCATION:Agência de Fomento de Goiás
CATEGORIES:Presidência
END:VEVENT
BEGIN:VEVENT
DTSTART;TZID=America/Sao_Paulo:20251001T080000
DTEND;TZID=America/Sao_Paulo:20251001T120000
DTSTAMP:20260425T164217
CREATED:20250929T171601Z
LAST-MODIFIED:20250929T171601Z
UID:46243-1759305600-1759320000@www.goiasfomento.com
SUMMARY:Rivael Aguiar Pereira: Atendimentos e Despachos Internos
DESCRIPTION:
URL:https://www.goiasfomento.com/agenda/rivael-aguiar-pereira-atendimentos-e-despachos-internos-113/
LOCATION:Agência de Fomento de Goiás
CATEGORIES:Presidência
END:VEVENT
END:VCALENDAR