BEGIN:VCALENDAR
VERSION:2.0
PRODID:-//GoiásFomento - Agência de Fomento - ECPv6.15.20//NONSGML v1.0//EN
CALSCALE:GREGORIAN
METHOD:PUBLISH
X-WR-CALNAME:GoiásFomento - Agência de Fomento
X-ORIGINAL-URL:https://www.goiasfomento.com
X-WR-CALDESC:Eventos para GoiásFomento - Agência de Fomento
REFRESH-INTERVAL;VALUE=DURATION:PT1H
X-Robots-Tag:noindex
X-PUBLISHED-TTL:PT1H
BEGIN:VTIMEZONE
TZID:America/Sao_Paulo
BEGIN:STANDARD
TZOFFSETFROM:-0300
TZOFFSETTO:-0300
TZNAME:-03
DTSTART:20240101T000000
END:STANDARD
END:VTIMEZONE
BEGIN:VEVENT
DTSTART;VALUE=DATE:20250728
DTEND;VALUE=DATE:20250729
DTSTAMP:20260425T073350
CREATED:20250717T141653Z
LAST-MODIFIED:20250717T141653Z
UID:44994-1753660800-1753747199@www.goiasfomento.com
SUMMARY:Rivael Aguiar Pereira: Solenidade de Instalação dos Poderes Executivo\, Legislativo e Judiciário.
DESCRIPTION:
URL:https://www.goiasfomento.com/agenda/rivael-aguiar-pereira-solenidade-de-instalacao-dos-poderes-executivo-legislativo-e-judiciario/
CATEGORIES:Presidência
END:VEVENT
BEGIN:VEVENT
DTSTART;VALUE=DATE:20250729
DTEND;VALUE=DATE:20250730
DTSTAMP:20260425T073350
CREATED:20250717T142320Z
LAST-MODIFIED:20250717T142325Z
UID:44998-1753747200-1753833599@www.goiasfomento.com
SUMMARY:Rivael Aguiar Pereira: Solenidade de Entrega da Comenda da Ordem do Mérito Anhanguera.
DESCRIPTION:
URL:https://www.goiasfomento.com/agenda/rivael-aguiar-pereira-solenidade-de-entrega-da-comenda-da-ordem-do-merito-anhanguera/
LOCATION:Praça do Chafariz – Cidade de Goiás
CATEGORIES:Presidência
END:VEVENT
BEGIN:VEVENT
DTSTART;TZID=America/Sao_Paulo:20250730T080000
DTEND;TZID=America/Sao_Paulo:20250730T120000
DTSTAMP:20260425T073350
CREATED:20250730T144837Z
LAST-MODIFIED:20250730T144837Z
UID:45216-1753862400-1753876800@www.goiasfomento.com
SUMMARY:Rivael Aguiar Pereira: Atendimentos e Despachos Internos
DESCRIPTION:
URL:https://www.goiasfomento.com/agenda/rivael-aguiar-pereira-atendimentos-e-despachos-internos-33/
CATEGORIES:Presidência
END:VEVENT
BEGIN:VEVENT
DTSTART;TZID=America/Sao_Paulo:20250730T140000
DTEND;TZID=America/Sao_Paulo:20250730T180000
DTSTAMP:20260425T073350
CREATED:20250730T145014Z
LAST-MODIFIED:20250730T145014Z
UID:45219-1753884000-1753898400@www.goiasfomento.com
SUMMARY:Rivael Aguiar Pereira: Atendimentos e Despachos Internos
DESCRIPTION:
URL:https://www.goiasfomento.com/agenda/rivael-aguiar-pereira-atendimentos-e-despachos-internos-34/
CATEGORIES:Presidência
END:VEVENT
BEGIN:VEVENT
DTSTART;VALUE=DATE:20250731
DTEND;VALUE=DATE:20250801
DTSTAMP:20260425T073350
CREATED:20250804T193258Z
LAST-MODIFIED:20250804T193258Z
UID:45273-1753920000-1754006399@www.goiasfomento.com
SUMMARY:Rivael Aguiar Pereira: Reuniões Externas  - São Paulo SP
DESCRIPTION:
URL:https://www.goiasfomento.com/agenda/rivael-aguiar-pereira-reunioes-externas-sao-paulo-sp-2/
CATEGORIES:Presidência
END:VEVENT
BEGIN:VEVENT
DTSTART;VALUE=DATE:20250801
DTEND;VALUE=DATE:20250802
DTSTAMP:20260425T073350
CREATED:20250804T194136Z
LAST-MODIFIED:20250804T194136Z
UID:45289-1754006400-1754092799@www.goiasfomento.com
SUMMARY:Rivael Aguiar : Reuniões Externas  - São Paulo SP
DESCRIPTION:
URL:https://www.goiasfomento.com/agenda/rivael-aguiar-reunioes-externas-sao-paulo-sp-2/
CATEGORIES:Presidência
END:VEVENT
BEGIN:VEVENT
DTSTART;TZID=America/Sao_Paulo:20250801T080000
DTEND;TZID=America/Sao_Paulo:20250801T120000
DTSTAMP:20260425T073350
CREATED:20250630T165053Z
LAST-MODIFIED:20250630T165053Z
UID:44454-1754035200-1754049600@www.goiasfomento.com
SUMMARY:Rivael Aguiar Pereira: Atendimentos e Despachos Interno.
DESCRIPTION:
URL:https://www.goiasfomento.com/agenda/rivael-aguiar-pereira-atendimentos-e-despachos-interno-58/
LOCATION:Gabinete da Presidência.
CATEGORIES:Presidência
END:VEVENT
BEGIN:VEVENT
DTSTART;VALUE=DATE:20250802
DTEND;VALUE=DATE:20250803
DTSTAMP:20260425T073350
CREATED:20250804T193940Z
LAST-MODIFIED:20250804T193940Z
UID:45284-1754092800-1754179199@www.goiasfomento.com
SUMMARY:Rivael Aguiar : Reuniões Externas  - São Paulo SP
DESCRIPTION:
URL:https://www.goiasfomento.com/agenda/rivael-aguiar-reunioes-externas-sao-paulo-sp/
CATEGORIES:Presidência
END:VEVENT
BEGIN:VEVENT
DTSTART;TZID=America/Sao_Paulo:20250804T080000
DTEND;TZID=America/Sao_Paulo:20250804T120000
DTSTAMP:20260425T073350
CREATED:20250806T140156Z
LAST-MODIFIED:20250806T140156Z
UID:45329-1754294400-1754308800@www.goiasfomento.com
SUMMARY:Rivael Aguiar Pereira: Atendimentos e Despachos Internos
DESCRIPTION:
URL:https://www.goiasfomento.com/agenda/rivael-aguiar-pereira-atendimentos-e-despachos-internos-35/
CATEGORIES:Presidência
END:VEVENT
BEGIN:VEVENT
DTSTART;TZID=America/Sao_Paulo:20250804T140000
DTEND;TZID=America/Sao_Paulo:20250804T180000
DTSTAMP:20260425T073350
CREATED:20250806T140327Z
LAST-MODIFIED:20250806T140347Z
UID:45335-1754316000-1754330400@www.goiasfomento.com
SUMMARY:Rivael Aguiar Pereira: Atendimentos e Despachos Internos
DESCRIPTION:
URL:https://www.goiasfomento.com/agenda/rivael-aguiar-pereira-atendimentos-e-despachos-internos-38/
CATEGORIES:Presidência
END:VEVENT
BEGIN:VEVENT
DTSTART;TZID=America/Sao_Paulo:20250804T190000
DTEND;TZID=America/Sao_Paulo:20250804T210000
DTSTAMP:20260425T073350
CREATED:20250717T142029Z
LAST-MODIFIED:20250717T142029Z
UID:44996-1754334000-1754341200@www.goiasfomento.com
SUMMARY:Rivael Aguiar Pereira: SESSÃO ESPECIAL – 25 ANOS DA GOIÁSFOMENTO
DESCRIPTION:
URL:https://www.goiasfomento.com/agenda/rivael-aguiar-pereira-sessao-especial-25-anos-da-goiasfomento/
LOCATION:Assembléia Legislativa do Estado de Goiás.
CATEGORIES:Presidência
END:VEVENT
BEGIN:VEVENT
DTSTART;TZID=America/Sao_Paulo:20250805T080000
DTEND;TZID=America/Sao_Paulo:20250805T120000
DTSTAMP:20260425T073350
CREATED:20250806T142332Z
LAST-MODIFIED:20250806T142332Z
UID:45361-1754380800-1754395200@www.goiasfomento.com
SUMMARY:Rivael Aguiar Pereira: Atendimentos e Despachos Internos
DESCRIPTION:
URL:https://www.goiasfomento.com/agenda/rivael-aguiar-pereira-atendimentos-e-despachos-internos-39/
CATEGORIES:Presidência
END:VEVENT
BEGIN:VEVENT
DTSTART;TZID=America/Sao_Paulo:20250805T140000
DTEND;TZID=America/Sao_Paulo:20250805T180000
DTSTAMP:20260425T073350
CREATED:20250806T142406Z
LAST-MODIFIED:20250806T142406Z
UID:45363-1754402400-1754416800@www.goiasfomento.com
SUMMARY:Rivael Aguiar Pereira: Atendimentos e Despachos Internos
DESCRIPTION:
URL:https://www.goiasfomento.com/agenda/rivael-aguiar-pereira-atendimentos-e-despachos-internos-40/
CATEGORIES:Presidência
END:VEVENT
BEGIN:VEVENT
DTSTART;TZID=America/Sao_Paulo:20250806T080000
DTEND;TZID=America/Sao_Paulo:20250806T120000
DTSTAMP:20260425T073350
CREATED:20250806T140253Z
LAST-MODIFIED:20250806T140253Z
UID:45333-1754467200-1754481600@www.goiasfomento.com
SUMMARY:Rivael Aguiar Pereira: Atendimentos e Despachos Internos
DESCRIPTION:
URL:https://www.goiasfomento.com/agenda/rivael-aguiar-pereira-atendimentos-e-despachos-internos-37/
CATEGORIES:Presidência
END:VEVENT
BEGIN:VEVENT
DTSTART;TZID=America/Sao_Paulo:20250806T140000
DTEND;TZID=America/Sao_Paulo:20250806T180000
DTSTAMP:20260425T073350
CREATED:20250806T140224Z
LAST-MODIFIED:20250806T140224Z
UID:45331-1754488800-1754503200@www.goiasfomento.com
SUMMARY:Rivael Aguiar Pereira: Atendimentos e Despachos Internos
DESCRIPTION:
URL:https://www.goiasfomento.com/agenda/rivael-aguiar-pereira-atendimentos-e-despachos-internos-36/
CATEGORIES:Presidência
END:VEVENT
BEGIN:VEVENT
DTSTART;TZID=America/Sao_Paulo:20250807T080000
DTEND;TZID=America/Sao_Paulo:20250807T120000
DTSTAMP:20260425T073350
CREATED:20250811T145835Z
LAST-MODIFIED:20250811T145835Z
UID:45432-1754553600-1754568000@www.goiasfomento.com
SUMMARY:Rivael Aguiar Pereira: Atendimentos e Despachos Internos
DESCRIPTION:
URL:https://www.goiasfomento.com/agenda/rivael-aguiar-pereira-atendimentos-e-despachos-internos-41/
CATEGORIES:Presidência
END:VEVENT
BEGIN:VEVENT
DTSTART;TZID=America/Sao_Paulo:20250807T140000
DTEND;TZID=America/Sao_Paulo:20250807T180000
DTSTAMP:20260425T073350
CREATED:20250811T150051Z
LAST-MODIFIED:20250811T150051Z
UID:45434-1754575200-1754589600@www.goiasfomento.com
SUMMARY:Rivael Aguiar Pereira: Atendimentos e Despachos Internos
DESCRIPTION:
URL:https://www.goiasfomento.com/agenda/rivael-aguiar-pereira-atendimentos-e-despachos-internos-42/
CATEGORIES:Presidência
END:VEVENT
BEGIN:VEVENT
DTSTART;TZID=America/Sao_Paulo:20250808T080000
DTEND;TZID=America/Sao_Paulo:20250808T120000
DTSTAMP:20260425T073350
CREATED:20250811T150239Z
LAST-MODIFIED:20250811T150239Z
UID:45437-1754640000-1754654400@www.goiasfomento.com
SUMMARY:Rivael Aguiar Pereira: Atendimentos e Despachos Internos
DESCRIPTION:
URL:https://www.goiasfomento.com/agenda/rivael-aguiar-pereira-atendimentos-e-despachos-internos-43/
CATEGORIES:Presidência
END:VEVENT
BEGIN:VEVENT
DTSTART;TZID=America/Sao_Paulo:20250808T140000
DTEND;TZID=America/Sao_Paulo:20250808T180000
DTSTAMP:20260425T073350
CREATED:20250811T150349Z
LAST-MODIFIED:20250811T150349Z
UID:45440-1754661600-1754676000@www.goiasfomento.com
SUMMARY:Rivael Aguiar Pereira: Atendimentos e Despachos Internos
DESCRIPTION:
URL:https://www.goiasfomento.com/agenda/rivael-aguiar-pereira-atendimentos-e-despachos-internos-44/
CATEGORIES:Presidência
END:VEVENT
BEGIN:VEVENT
DTSTART;TZID=America/Sao_Paulo:20250811T080000
DTEND;TZID=America/Sao_Paulo:20250811T100000
DTSTAMP:20260425T073350
CREATED:20250811T150450Z
LAST-MODIFIED:20250811T150450Z
UID:45442-1754899200-1754906400@www.goiasfomento.com
SUMMARY:Rivael Aguiar Pereira: Atendimentos e Despachos Internos
DESCRIPTION:
URL:https://www.goiasfomento.com/agenda/rivael-aguiar-pereira-atendimentos-e-despachos-internos-45/
CATEGORIES:Presidência
END:VEVENT
BEGIN:VEVENT
DTSTART;TZID=America/Sao_Paulo:20250811T100000
DTEND;TZID=America/Sao_Paulo:20250811T120000
DTSTAMP:20260425T073350
CREATED:20250811T150720Z
LAST-MODIFIED:20250811T150720Z
UID:45444-1754906400-1754913600@www.goiasfomento.com
SUMMARY:Rivael Aguiar Pereira:  Lançamento do Programa "Equipa Social CRAS e CREAS":
DESCRIPTION:
URL:https://www.goiasfomento.com/agenda/rivael-aguiar-pereira-lancamento-do-programa-equipa-social-cras-e-creas/
CATEGORIES:Presidência
END:VEVENT
BEGIN:VEVENT
DTSTART;TZID=America/Sao_Paulo:20250811T140000
DTEND;TZID=America/Sao_Paulo:20250811T170000
DTSTAMP:20260425T073350
CREATED:20250811T155151Z
LAST-MODIFIED:20250811T155151Z
UID:45446-1754920800-1754931600@www.goiasfomento.com
SUMMARY:Rivael Aguiar Pereira: Atendimentos e Despachos Internos
DESCRIPTION:
URL:https://www.goiasfomento.com/agenda/rivael-aguiar-pereira-atendimentos-e-despachos-internos-46/
CATEGORIES:Presidência
END:VEVENT
BEGIN:VEVENT
DTSTART;TZID=America/Sao_Paulo:20250811T170000
DTEND;TZID=America/Sao_Paulo:20250811T183000
DTSTAMP:20260425T073350
CREATED:20250811T155331Z
LAST-MODIFIED:20250811T155331Z
UID:45448-1754931600-1754937000@www.goiasfomento.com
SUMMARY:Rivael Aguiar Pereira: Lançamento do + Dativo - Plano Estratégico da Advocacia Dativa 2025/2026.
DESCRIPTION:
URL:https://www.goiasfomento.com/agenda/rivael-aguiar-pereira-lancamento-do-dativo-plano-estrategico-da-advocacia-dativa-2025-2026/
LOCATION:Centro Cultural Oscar Niemeyer
CATEGORIES:Presidência
END:VEVENT
BEGIN:VEVENT
DTSTART;TZID=America/Sao_Paulo:20250812T080000
DTEND;TZID=America/Sao_Paulo:20250812T120000
DTSTAMP:20260425T073350
CREATED:20250811T155528Z
LAST-MODIFIED:20250811T155528Z
UID:45450-1754985600-1755000000@www.goiasfomento.com
SUMMARY:Rivael Aguiar Pereira: Atendimentos e Despachos Internos
DESCRIPTION:
URL:https://www.goiasfomento.com/agenda/rivael-aguiar-pereira-atendimentos-e-despachos-internos-47/
CATEGORIES:Presidência
END:VEVENT
BEGIN:VEVENT
DTSTART;TZID=America/Sao_Paulo:20250812T140000
DTEND;TZID=America/Sao_Paulo:20250812T180000
DTSTAMP:20260425T073350
CREATED:20250811T155622Z
LAST-MODIFIED:20250811T155622Z
UID:45452-1755007200-1755021600@www.goiasfomento.com
SUMMARY:Rivael Aguiar Pereira: Atendimentos e Despachos Internos
DESCRIPTION:
URL:https://www.goiasfomento.com/agenda/rivael-aguiar-pereira-atendimentos-e-despachos-internos-48/
CATEGORIES:Presidência
END:VEVENT
BEGIN:VEVENT
DTSTART;TZID=America/Sao_Paulo:20250813T080000
DTEND;TZID=America/Sao_Paulo:20250813T120000
DTSTAMP:20260425T073350
CREATED:20250811T160702Z
LAST-MODIFIED:20250811T160702Z
UID:45474-1755072000-1755086400@www.goiasfomento.com
SUMMARY:Rivael Aguiar Pereira: Atendimentos e Despachos Internos
DESCRIPTION:
URL:https://www.goiasfomento.com/agenda/rivael-aguiar-pereira-atendimentos-e-despachos-internos-49/
CATEGORIES:Presidência
END:VEVENT
BEGIN:VEVENT
DTSTART;TZID=America/Sao_Paulo:20250813T140000
DTEND;TZID=America/Sao_Paulo:20250813T180000
DTSTAMP:20260425T073350
CREATED:20250811T160808Z
LAST-MODIFIED:20250811T160808Z
UID:45476-1755093600-1755108000@www.goiasfomento.com
SUMMARY:Rivael Aguiar Pereira: Atendimentos e Despachos Internos
DESCRIPTION:
URL:https://www.goiasfomento.com/agenda/rivael-aguiar-pereira-atendimentos-e-despachos-internos-50/
CATEGORIES:Presidência
END:VEVENT
BEGIN:VEVENT
DTSTART;TZID=America/Sao_Paulo:20250814T080000
DTEND;TZID=America/Sao_Paulo:20250814T120000
DTSTAMP:20260425T073350
CREATED:20250811T160912Z
LAST-MODIFIED:20250811T160912Z
UID:45478-1755158400-1755172800@www.goiasfomento.com
SUMMARY:Rivael Aguiar Pereira: Atendimentos e Despachos Internos
DESCRIPTION:
URL:https://www.goiasfomento.com/agenda/rivael-aguiar-pereira-atendimentos-e-despachos-internos-51/
CATEGORIES:Presidência
END:VEVENT
BEGIN:VEVENT
DTSTART;TZID=America/Sao_Paulo:20250814T140000
DTEND;TZID=America/Sao_Paulo:20250814T180000
DTSTAMP:20260425T073350
CREATED:20250811T160954Z
LAST-MODIFIED:20250811T160954Z
UID:45480-1755180000-1755194400@www.goiasfomento.com
SUMMARY:Rivael Aguiar Pereira: Atendimentos e Despachos Internos
DESCRIPTION:
URL:https://www.goiasfomento.com/agenda/rivael-aguiar-pereira-atendimentos-e-despachos-internos-52/
CATEGORIES:Presidência
END:VEVENT
BEGIN:VEVENT
DTSTART;TZID=America/Sao_Paulo:20250815T080000
DTEND;TZID=America/Sao_Paulo:20250815T120000
DTSTAMP:20260425T073350
CREATED:20250811T161112Z
LAST-MODIFIED:20250811T161112Z
UID:45482-1755244800-1755259200@www.goiasfomento.com
SUMMARY:Rivael Aguiar Pereira: Atendimentos e Despachos Internos
DESCRIPTION:
URL:https://www.goiasfomento.com/agenda/rivael-aguiar-pereira-atendimentos-e-despachos-internos-53/
CATEGORIES:Presidência
END:VEVENT
END:VCALENDAR