BEGIN:VCALENDAR
VERSION:2.0
PRODID:-//GoiásFomento - Agência de Fomento - ECPv6.15.20//NONSGML v1.0//EN
CALSCALE:GREGORIAN
METHOD:PUBLISH
X-ORIGINAL-URL:https://www.goiasfomento.com
X-WR-CALDESC:Eventos para GoiásFomento - Agência de Fomento
REFRESH-INTERVAL;VALUE=DURATION:PT1H
X-Robots-Tag:noindex
X-PUBLISHED-TTL:PT1H
BEGIN:VTIMEZONE
TZID:America/Sao_Paulo
BEGIN:STANDARD
TZOFFSETFROM:-0300
TZOFFSETTO:-0300
TZNAME:-03
DTSTART:20240101T000000
END:STANDARD
END:VTIMEZONE
BEGIN:VEVENT
DTSTART;TZID=America/Sao_Paulo:20250606T140000
DTEND;TZID=America/Sao_Paulo:20250606T180000
DTSTAMP:20260424T182505
CREATED:20250605T185524Z
LAST-MODIFIED:20250605T185524Z
UID:43945-1749218400-1749232800@www.goiasfomento.com
SUMMARY:Rivael Aguiar Pereira: Atendimentos e Despachos Interno.
DESCRIPTION:
URL:https://www.goiasfomento.com/agenda/rivael-aguiar-pereira-atendimentos-e-despachos-interno-32/
LOCATION:Gabinete da Presidência.
CATEGORIES:Presidência
END:VEVENT
BEGIN:VEVENT
DTSTART;TZID=America/Sao_Paulo:20250609T080000
DTEND;TZID=America/Sao_Paulo:20250609T120000
DTSTAMP:20260424T182505
CREATED:20250609T120741Z
LAST-MODIFIED:20250609T120741Z
UID:43974-1749456000-1749470400@www.goiasfomento.com
SUMMARY:Rivael Aguiar Pereira: Atendimentos e Despachos Interno.
DESCRIPTION:
URL:https://www.goiasfomento.com/agenda/rivael-aguiar-pereira-atendimentos-e-despachos-interno-33/
LOCATION:Gabinete da Presidência.
CATEGORIES:Presidência
END:VEVENT
BEGIN:VEVENT
DTSTART;TZID=America/Sao_Paulo:20250609T140000
DTEND;TZID=America/Sao_Paulo:20250609T180000
DTSTAMP:20260424T182505
CREATED:20250609T120818Z
LAST-MODIFIED:20250609T120818Z
UID:43976-1749477600-1749492000@www.goiasfomento.com
SUMMARY:Rivael Aguiar Pereira: Atendimentos e Despachos Interno.
DESCRIPTION:
URL:https://www.goiasfomento.com/agenda/rivael-aguiar-pereira-atendimentos-e-despachos-interno-34/
LOCATION:Gabinete da Presidência.
CATEGORIES:Presidência
END:VEVENT
BEGIN:VEVENT
DTSTART;VALUE=DATE:20250610
DTEND;VALUE=DATE:20250612
DTSTAMP:20260424T182505
CREATED:20250610T165929Z
LAST-MODIFIED:20250610T165929Z
UID:44014-1749513600-1749686399@www.goiasfomento.com
SUMMARY:Rivael Aguiar Pereira: Evento - FEBRABAN TECH: Reconhecido como o Principal Congresso Anual Sobre Tecnologia e Inovação no Setor Financeiro.
DESCRIPTION:
URL:https://www.goiasfomento.com/agenda/rivael-aguiar-pereira-evento-febraban-tech-reconhecido-como-o-principal-congresso-anual-sobre-tecnologia-e-inovacao-no-setor-financeiro/
LOCATION:SÃO PAULO.
CATEGORIES:Presidência
END:VEVENT
BEGIN:VEVENT
DTSTART;TZID=America/Sao_Paulo:20250612T080000
DTEND;TZID=America/Sao_Paulo:20250612T090000
DTSTAMP:20260424T182505
CREATED:20250612T143730Z
LAST-MODIFIED:20250612T143730Z
UID:44127-1749715200-1749718800@www.goiasfomento.com
SUMMARY:Rivael Aguiar Pereira: Atendimentos e Despachos Interno.
DESCRIPTION:
URL:https://www.goiasfomento.com/agenda/rivael-aguiar-pereira-atendimentos-e-despachos-interno-37/
LOCATION:Gabinete da Presidência da GoiásFomento – Agência de Fomento de Goiás.
CATEGORIES:Presidência
END:VEVENT
BEGIN:VEVENT
DTSTART;TZID=America/Sao_Paulo:20250612T090000
DTEND;TZID=America/Sao_Paulo:20250612T100000
DTSTAMP:20260424T182505
CREATED:20250612T143636Z
LAST-MODIFIED:20250612T143636Z
UID:44125-1749718800-1749722400@www.goiasfomento.com
SUMMARY:Rivael Aguiar Pereira: Reunião da Diretoria Executiva da Agência de Fomento de Goiás.
DESCRIPTION:
URL:https://www.goiasfomento.com/agenda/rivael-aguiar-pereira-reuniao-da-diretoria-executiva-da-agencia-de-fomento-de-goias-2/
LOCATION:Gabinete da Diretoria de Operações da GoiásFomento – Agência de Fomento de Goiás.
CATEGORIES:Presidência
END:VEVENT
BEGIN:VEVENT
DTSTART;TZID=America/Sao_Paulo:20250612T100000
DTEND;TZID=America/Sao_Paulo:20250612T120000
DTSTAMP:20260424T182505
CREATED:20250612T144314Z
LAST-MODIFIED:20250612T144314Z
UID:44131-1749722400-1749729600@www.goiasfomento.com
SUMMARY:Rivael Aguiar Pereira: Reunião com a Comissão de Concurso.
DESCRIPTION:
URL:https://www.goiasfomento.com/agenda/rivael-aguiar-pereira-reuniao-com-a-comissao-de-concurso/
LOCATION:Gabinete da Presidência da GoiásFomento – Agência de Fomento de Goiás.
CATEGORIES:Presidência
END:VEVENT
BEGIN:VEVENT
DTSTART;TZID=America/Sao_Paulo:20250612T140000
DTEND;TZID=America/Sao_Paulo:20250612T180000
DTSTAMP:20260424T182505
CREATED:20250611T171633Z
LAST-MODIFIED:20250611T171704Z
UID:44053-1749736800-1749751200@www.goiasfomento.com
SUMMARY:Rivael Aguiar Pereira: Atendimentos e Despachos Interno.
DESCRIPTION:
URL:https://www.goiasfomento.com/agenda/rivael-aguiar-pereira-atendimentos-e-despachos-interno-36/
LOCATION:Gabinete da Presidência.
CATEGORIES:Presidência
END:VEVENT
BEGIN:VEVENT
DTSTART;TZID=America/Sao_Paulo:20250613T080000
DTEND;TZID=America/Sao_Paulo:20250613T110000
DTSTAMP:20260424T182505
CREATED:20250613T182035Z
LAST-MODIFIED:20250613T182035Z
UID:44147-1749801600-1749812400@www.goiasfomento.com
SUMMARY:Rivael Aguiar Pereira: Reunião com o Marcos Paulo da Vinícula Jabuticabal.
DESCRIPTION:
URL:https://www.goiasfomento.com/agenda/rivael-aguiar-pereira-reuniao-com-o-marcos-paulo-da-vinicula-jabuticabal/
LOCATION:Sala de reuniões da Diretoria.
CATEGORIES:Presidência
END:VEVENT
BEGIN:VEVENT
DTSTART;TZID=America/Sao_Paulo:20250613T110000
DTEND;TZID=America/Sao_Paulo:20250613T120000
DTSTAMP:20260424T182505
CREATED:20250613T182556Z
LAST-MODIFIED:20250613T182652Z
UID:44149-1749812400-1749816000@www.goiasfomento.com
SUMMARY:Rivael Aguiar Pereira: Reunião com o Deputado Cairo Salim e o Prefeito de Campinaçu Dr. Douglas.
DESCRIPTION:
URL:https://www.goiasfomento.com/agenda/rivael-aguiar-pereira-reuniao-com-o-deputado-cairo-salim-e-o-prefeito-de-campinacu-dr-douglas/
LOCATION:Gabinete da Presidência.
CATEGORIES:Presidência
END:VEVENT
BEGIN:VEVENT
DTSTART;TZID=America/Sao_Paulo:20250613T140000
DTEND;TZID=America/Sao_Paulo:20250613T180000
DTSTAMP:20260424T182505
CREATED:20250611T171423Z
LAST-MODIFIED:20250612T193536Z
UID:44051-1749823200-1749837600@www.goiasfomento.com
SUMMARY:Rivael Aguiar Pereira: Atendimentos e Despachos Interno.
DESCRIPTION:
URL:https://www.goiasfomento.com/agenda/rivael-aguiar-pereira-atendimentos-e-despachos-interno-35/
LOCATION:Gabinete da Presidência.
CATEGORIES:Presidência
END:VEVENT
BEGIN:VEVENT
DTSTART;TZID=America/Sao_Paulo:20250614T080000
DTEND;TZID=America/Sao_Paulo:20250614T120000
DTSTAMP:20260424T182505
CREATED:20250616T122608Z
LAST-MODIFIED:20250616T122825Z
UID:44155-1749888000-1749902400@www.goiasfomento.com
SUMMARY:Rivael Aguiar Pereira: Abertura do Goiás Social em Bela Vista de Goiás.
DESCRIPTION:
URL:https://www.goiasfomento.com/agenda/rivael-aguiar-pereira-goias-social/
LOCATION:Bela Vista de Goiás.
CATEGORIES:Presidência
END:VEVENT
BEGIN:VEVENT
DTSTART;TZID=America/Sao_Paulo:20250616T080000
DTEND;TZID=America/Sao_Paulo:20250616T100000
DTSTAMP:20260424T182505
CREATED:20250616T122952Z
LAST-MODIFIED:20250616T123023Z
UID:44160-1750060800-1750068000@www.goiasfomento.com
SUMMARY:Rivael Aguiar Pereira: Atendimentos e Despachos Interno.
DESCRIPTION:
URL:https://www.goiasfomento.com/agenda/rivael-aguiar-pereira-atendimentos-e-despachos-interno-38/
LOCATION:Gabinete da Presidência.
CATEGORIES:Presidência
END:VEVENT
BEGIN:VEVENT
DTSTART;TZID=America/Sao_Paulo:20250616T100000
DTEND;TZID=America/Sao_Paulo:20250616T120000
DTSTAMP:20260424T182505
CREATED:20250616T123320Z
LAST-MODIFIED:20250616T123320Z
UID:44162-1750068000-1750075200@www.goiasfomento.com
SUMMARY:Rivael Aguiar Pereira: Reunião de videoconferência do Conselho Desenvolvimento do Estado de Goiás- FCO.
DESCRIPTION:
URL:https://www.goiasfomento.com/agenda/rivael-aguiar-pereira-reuniao-de-videoconferencia-do-conselho-desenvolvimento-do-estado-de-goias-fco/
LOCATION:Gabinete da Presidência.
CATEGORIES:Presidência
END:VEVENT
BEGIN:VEVENT
DTSTART;TZID=America/Sao_Paulo:20250616T140000
DTEND;TZID=America/Sao_Paulo:20250616T160000
DTSTAMP:20260424T182505
CREATED:20250616T123630Z
LAST-MODIFIED:20250616T195625Z
UID:44166-1750082400-1750089600@www.goiasfomento.com
SUMMARY:Rivael Aguiar Pereira: Atendimentos e Despachos Interno.
DESCRIPTION:
URL:https://www.goiasfomento.com/agenda/rivael-aguiar-pereira-atendimentos-e-despachos-interno-39/
LOCATION:Gabinete da Presidência.
CATEGORIES:Presidência
END:VEVENT
BEGIN:VEVENT
DTSTART;TZID=America/Sao_Paulo:20250616T160000
DTEND;TZID=America/Sao_Paulo:20250616T180000
DTSTAMP:20260424T182505
CREATED:20250616T200600Z
LAST-MODIFIED:20250616T200600Z
UID:44194-1750089600-1750096800@www.goiasfomento.com
SUMMARY:Rivael Aguiar Pereira: Reunião com o Presidente da OCB - Organização das Cooperativas Brasileiras.
DESCRIPTION:
URL:https://www.goiasfomento.com/agenda/rivael-aguiar-pereira-reuniao-com-o-presidente-da-ocb-organizacao-das-cooperativas-brasileiras/
LOCATION:Sala de reuniões da Diretoria.
CATEGORIES:Presidência
END:VEVENT
BEGIN:VEVENT
DTSTART;TZID=America/Sao_Paulo:20250617T080000
DTEND;TZID=America/Sao_Paulo:20250617T120000
DTSTAMP:20260424T182505
CREATED:20250617T121645Z
LAST-MODIFIED:20250617T121645Z
UID:44200-1750147200-1750161600@www.goiasfomento.com
SUMMARY:Rivael Aguiar Pereira: Atendimentos e Despachos Interno.
DESCRIPTION:
URL:https://www.goiasfomento.com/agenda/rivael-aguiar-pereira-atendimentos-e-despachos-interno-40/
LOCATION:Gabinete da Presidência.
CATEGORIES:Presidência
END:VEVENT
BEGIN:VEVENT
DTSTART;TZID=America/Sao_Paulo:20250617T140000
DTEND;TZID=America/Sao_Paulo:20250617T180000
DTSTAMP:20260424T182505
CREATED:20250617T121722Z
LAST-MODIFIED:20250617T121722Z
UID:44202-1750168800-1750183200@www.goiasfomento.com
SUMMARY:Rivael Aguiar Pereira: Atendimentos e Despachos Interno.
DESCRIPTION:
URL:https://www.goiasfomento.com/agenda/rivael-aguiar-pereira-atendimentos-e-despachos-interno-41/
LOCATION:Gabinete da Presidência.
CATEGORIES:Presidência
END:VEVENT
BEGIN:VEVENT
DTSTART;TZID=America/Sao_Paulo:20250618T080000
DTEND;TZID=America/Sao_Paulo:20250618T113000
DTSTAMP:20260424T182505
CREATED:20250617T121832Z
LAST-MODIFIED:20250618T145654Z
UID:44204-1750233600-1750246200@www.goiasfomento.com
SUMMARY:Rivael Aguiar Pereira: Atendimentos e Despachos Interno.
DESCRIPTION:
URL:https://www.goiasfomento.com/agenda/rivael-aguiar-pereira-atendimentos-e-despachos-interno-42/
LOCATION:Gabinete da Presidência.
CATEGORIES:Presidência
END:VEVENT
BEGIN:VEVENT
DTSTART;TZID=America/Sao_Paulo:20250618T113000
DTEND;TZID=America/Sao_Paulo:20250618T120000
DTSTAMP:20260424T182505
CREATED:20250618T151338Z
LAST-MODIFIED:20250618T151338Z
UID:44247-1750246200-1750248000@www.goiasfomento.com
SUMMARY:Rivael Aguiar Pereira: Reunião com o Deputado Virmondes.
DESCRIPTION:
URL:https://www.goiasfomento.com/agenda/rivael-aguiar-pereira-reuniao-com-o-deputado-virmondes/
LOCATION:Gabinete da Presidência.
CATEGORIES:Presidência
END:VEVENT
BEGIN:VEVENT
DTSTART;TZID=America/Sao_Paulo:20250618T140000
DTEND;TZID=America/Sao_Paulo:20250618T160000
DTSTAMP:20260424T182505
CREATED:20250617T121910Z
LAST-MODIFIED:20250618T145241Z
UID:44206-1750255200-1750262400@www.goiasfomento.com
SUMMARY:Rivael Aguiar Pereira: Atendimentos e Despachos Interno.
DESCRIPTION:
URL:https://www.goiasfomento.com/agenda/rivael-aguiar-pereira-atendimentos-e-despachos-interno-43/
LOCATION:Gabinete da Presidência.
CATEGORIES:Presidência
END:VEVENT
BEGIN:VEVENT
DTSTART;TZID=America/Sao_Paulo:20250618T160000
DTEND;TZID=America/Sao_Paulo:20250618T180000
DTSTAMP:20260424T182505
CREATED:20250618T145545Z
LAST-MODIFIED:20250618T145545Z
UID:44245-1750262400-1750269600@www.goiasfomento.com
SUMMARY:Rivael Aguiar Pereira: Reunião com a DIREX.
DESCRIPTION:
URL:https://www.goiasfomento.com/agenda/rivael-aguiar-pereira-reuniao-com-a-direx/
LOCATION:Gabinete da Presidência.
CATEGORIES:Presidência
END:VEVENT
BEGIN:VEVENT
DTSTART;VALUE=DATE:20250619
DTEND;VALUE=DATE:20250620
DTSTAMP:20260424T182505
CREATED:20250602T181602Z
LAST-MODIFIED:20250602T184300Z
UID:43796-1750291200-1750377599@www.goiasfomento.com
SUMMARY:Rivael Aguiar: Feriado Nacional – Corpus Christi.
DESCRIPTION:
URL:https://www.goiasfomento.com/agenda/rivael-aguiar-feriado-nacional-corpus-christi/
CATEGORIES:Presidência
END:VEVENT
BEGIN:VEVENT
DTSTART;VALUE=DATE:20250620
DTEND;VALUE=DATE:20250621
DTSTAMP:20260424T182505
CREATED:20250602T182044Z
LAST-MODIFIED:20250602T184120Z
UID:43803-1750377600-1750463999@www.goiasfomento.com
SUMMARY:Rivael Aguiar:  Ponto Facultativo\, conforme o Decreto Estadual nº 10.699\, de 30 de maio de 2025.
DESCRIPTION:
URL:https://www.goiasfomento.com/agenda/rivael-aguiar-ponto-facultativo-conforme-o-decreto-estadual-no-10-699-de-30-de-maio-de-2025/
CATEGORIES:Presidência
END:VEVENT
BEGIN:VEVENT
DTSTART;TZID=America/Sao_Paulo:20250623T080000
DTEND;TZID=America/Sao_Paulo:20250623T090000
DTSTAMP:20260424T182505
CREATED:20250623T121937Z
LAST-MODIFIED:20250623T121937Z
UID:44251-1750665600-1750669200@www.goiasfomento.com
SUMMARY:Rivael Aguiar Pereira: Atendimentos e Despachos Interno.
DESCRIPTION:
URL:https://www.goiasfomento.com/agenda/rivael-aguiar-pereira-atendimentos-e-despachos-interno-44/
LOCATION:Gabinete da Presidência.
CATEGORIES:Presidência
END:VEVENT
BEGIN:VEVENT
DTSTART;TZID=America/Sao_Paulo:20250623T090000
DTEND;TZID=America/Sao_Paulo:20250623T100000
DTSTAMP:20260424T182505
CREATED:20250623T122345Z
LAST-MODIFIED:20250623T122345Z
UID:44253-1750669200-1750672800@www.goiasfomento.com
SUMMARY:Rivael Aguiar Pereira: : Recepção a Imagem Peregrina de Nossa Senhora das Graças e Momento de Oração.
DESCRIPTION:
URL:https://www.goiasfomento.com/agenda/rivael-aguiar-pereira-recepcao-a-imagem-peregrina-de-nossa-senhora-das-gracas-e-momento-de-oracao/
LOCATION:Palácio da Esmeraldas.
CATEGORIES:Presidência
END:VEVENT
BEGIN:VEVENT
DTSTART;TZID=America/Sao_Paulo:20250623T100000
DTEND;TZID=America/Sao_Paulo:20250623T120000
DTSTAMP:20260424T182505
CREATED:20250623T122430Z
LAST-MODIFIED:20250623T122430Z
UID:44255-1750672800-1750680000@www.goiasfomento.com
SUMMARY:Rivael Aguiar Pereira: Atendimentos e Despachos Interno.
DESCRIPTION:
URL:https://www.goiasfomento.com/agenda/rivael-aguiar-pereira-atendimentos-e-despachos-interno-45/
LOCATION:Gabinete da Presidência.
CATEGORIES:Presidência
END:VEVENT
BEGIN:VEVENT
DTSTART;TZID=America/Sao_Paulo:20250623T140000
DTEND;TZID=America/Sao_Paulo:20250623T153000
DTSTAMP:20260424T182505
CREATED:20250623T122515Z
LAST-MODIFIED:20250624T173932Z
UID:44257-1750687200-1750692600@www.goiasfomento.com
SUMMARY:Rivael Aguiar Pereira: Atendimentos e Despachos Interno.
DESCRIPTION:
URL:https://www.goiasfomento.com/agenda/rivael-aguiar-pereira-atendimentos-e-despachos-interno-46/
LOCATION:Gabinete da Presidência.
CATEGORIES:Presidência
END:VEVENT
BEGIN:VEVENT
DTSTART;TZID=America/Sao_Paulo:20250623T153000
DTEND;TZID=America/Sao_Paulo:20250623T180000
DTSTAMP:20260424T182505
CREATED:20250624T174355Z
LAST-MODIFIED:20250624T183556Z
UID:44338-1750692600-1750701600@www.goiasfomento.com
SUMMARY:Rivael Aguiar Pereira: Reunião com o Secretário de Estado de Indústria\, Comércio e Serviços de Goiás é Joel de Sant'Anna Braga Filho.
DESCRIPTION:
URL:https://www.goiasfomento.com/agenda/rivael-aguiar-pereira-reuniao-com-o-secretario-de-estado-de-industria-comercio-e-servicos-de-goias-e-joel-de-santanna-braga-filho/
LOCATION:Palácio das Esmeraldas.
CATEGORIES:Presidência
END:VEVENT
BEGIN:VEVENT
DTSTART;TZID=America/Sao_Paulo:20250624T080000
DTEND;TZID=America/Sao_Paulo:20250624T090000
DTSTAMP:20260424T182505
CREATED:20250623T131011Z
LAST-MODIFIED:20250623T145104Z
UID:44282-1750752000-1750755600@www.goiasfomento.com
SUMMARY:Rivael Aguiar Pereira: Atendimentos e Despachos Interno.
DESCRIPTION:
URL:https://www.goiasfomento.com/agenda/rivael-aguiar-pereira-atendimentos-e-despachos-interno-48/
LOCATION:Gabinete da Presidência.
CATEGORIES:Presidência
END:VEVENT
END:VCALENDAR