BEGIN:VCALENDAR
VERSION:2.0
PRODID:-//GoiásFomento - Agência de Fomento - ECPv6.15.20//NONSGML v1.0//EN
CALSCALE:GREGORIAN
METHOD:PUBLISH
X-ORIGINAL-URL:https://www.goiasfomento.com
X-WR-CALDESC:Eventos para GoiásFomento - Agência de Fomento
REFRESH-INTERVAL;VALUE=DURATION:PT1H
X-Robots-Tag:noindex
X-PUBLISHED-TTL:PT1H
BEGIN:VTIMEZONE
TZID:America/Sao_Paulo
BEGIN:STANDARD
TZOFFSETFROM:-0300
TZOFFSETTO:-0300
TZNAME:-03
DTSTART:20240101T000000
END:STANDARD
END:VTIMEZONE
BEGIN:VEVENT
DTSTART;TZID=America/Sao_Paulo:20250425T170000
DTEND;TZID=America/Sao_Paulo:20250425T180000
DTSTAMP:20260423T155241
CREATED:20250425T193348Z
LAST-MODIFIED:20250425T193348Z
UID:42583-1745600400-1745604000@www.goiasfomento.com
SUMMARY:Rufino Veríssimo – Diretor Presidente (Em substituição): Reunião com Luiz Arthur Medeiros Miguel – Gerente de Licitação e Contratos e Maria Terezinha da Mota Batista - Assessora Técnica de Contabilidade.
DESCRIPTION:
URL:https://www.goiasfomento.com/agenda/rufino-verissimo-diretor-presidente-em-substituicao-reuniao-com-luiz-arthur-medeiros-miguel-gerente-de-licitacao-e-contratos-e-maria-terezinha-da-mota-batista-assessora-tecnic/
LOCATION:Gabinete da Diretoria de Operações da GoiásFomento – Agência de Fomento de Goiás.
CATEGORIES:Presidência
END:VEVENT
BEGIN:VEVENT
DTSTART;TZID=America/Sao_Paulo:20250425T180000
DTEND;TZID=America/Sao_Paulo:20250425T183000
DTSTAMP:20260423T155241
CREATED:20250425T200555Z
LAST-MODIFIED:20250425T200555Z
UID:42587-1745604000-1745605800@www.goiasfomento.com
SUMMARY:Rufino Veríssimo – Diretor Presidente (Em substituição): Despachos Internos.
DESCRIPTION:
URL:https://www.goiasfomento.com/agenda/rufino-verissimo-diretor-presidente-em-substituicao-despachos-internos-52/
LOCATION:Gabinete da Diretoria de Operações da GoiásFomento – Agência de Fomento de Goiás.
CATEGORIES:Presidência
END:VEVENT
BEGIN:VEVENT
DTSTART;TZID=America/Sao_Paulo:20250428T070000
DTEND;TZID=America/Sao_Paulo:20250428T080000
DTSTAMP:20260423T155241
CREATED:20250428T123004Z
LAST-MODIFIED:20250428T123011Z
UID:42597-1745823600-1745827200@www.goiasfomento.com
SUMMARY:Rufino Veríssimo – Diretor Presidente (Em substituição): Despachos Internos.
DESCRIPTION:
URL:https://www.goiasfomento.com/agenda/rufino-verissimo-diretor-presidente-em-substituicao-despachos-internos-53/
LOCATION:Gabinete da Diretoria de Operações da GoiásFomento – Agência de Fomento de Goiás.
CATEGORIES:Presidência
END:VEVENT
BEGIN:VEVENT
DTSTART;TZID=America/Sao_Paulo:20250428T080000
DTEND;TZID=America/Sao_Paulo:20250428T090000
DTSTAMP:20260423T155241
CREATED:20250428T123145Z
LAST-MODIFIED:20250428T123145Z
UID:42601-1745827200-1745830800@www.goiasfomento.com
SUMMARY:Rufino Veríssimo – Diretor Presidente (Em substituição): Reunião com Deivison Rodrigues da Costa Soares - Chefe de Gabinete.
DESCRIPTION:
URL:https://www.goiasfomento.com/agenda/rufino-verissimo-diretor-presidente-em-substituicao-reuniao-com-deivison-rodrigues-da-costa-soares-chefe-de-gabinete-4/
LOCATION:Gabinete da Diretoria de Operações da GoiásFomento – Agência de Fomento de Goiás.
CATEGORIES:Presidência
END:VEVENT
BEGIN:VEVENT
DTSTART;TZID=America/Sao_Paulo:20250428T090000
DTEND;TZID=America/Sao_Paulo:20250428T093000
DTSTAMP:20260423T155241
CREATED:20250428T123351Z
LAST-MODIFIED:20250428T123351Z
UID:42605-1745830800-1745832600@www.goiasfomento.com
SUMMARY:Rufino Veríssimo – Diretor Presidente (Em substituição): Despachos Internos.
DESCRIPTION:
URL:https://www.goiasfomento.com/agenda/rufino-verissimo-diretor-presidente-em-substituicao-despachos-internos-54/
LOCATION:Gabinete da Diretoria de Operações da GoiásFomento – Agência de Fomento de Goiás.
CATEGORIES:Presidência
END:VEVENT
BEGIN:VEVENT
DTSTART;TZID=America/Sao_Paulo:20250428T093000
DTEND;TZID=America/Sao_Paulo:20250428T100000
DTSTAMP:20260423T155241
CREATED:20250428T123542Z
LAST-MODIFIED:20250428T123542Z
UID:42609-1745832600-1745834400@www.goiasfomento.com
SUMMARY:Rufino Veríssimo – Diretor Presidente (Em substituição): Reunião com Wagner Siqueira Coelho – Gerente de Prospecção de Negócios.
DESCRIPTION:
URL:https://www.goiasfomento.com/agenda/rufino-verissimo-diretor-presidente-em-substituicao-reuniao-com-wagner-siqueira-coelho-gerente-de-prospeccao-de-negocios-6/
LOCATION:Gabinete da Diretoria de Operações da GoiásFomento – Agência de Fomento de Goiás.
CATEGORIES:Presidência
END:VEVENT
BEGIN:VEVENT
DTSTART;TZID=America/Sao_Paulo:20250428T100000
DTEND;TZID=America/Sao_Paulo:20250428T103000
DTSTAMP:20260423T155241
CREATED:20250428T172105Z
LAST-MODIFIED:20250428T172105Z
UID:42614-1745834400-1745836200@www.goiasfomento.com
SUMMARY:Rufino Veríssimo – Diretor Presidente (Em substituição): Reunião com Paulo Cesar Paiva – Assessor de Estratégia e Planejamento.
DESCRIPTION:
URL:https://www.goiasfomento.com/agenda/rufino-verissimo-diretor-presidente-em-substituicao-reuniao-com-paulo-cesar-paiva-assessor-de-estrategia-e-planejamento-21/
LOCATION:Gabinete da Diretoria de Operações da GoiásFomento – Agência de Fomento de Goiás.
CATEGORIES:Presidência
END:VEVENT
BEGIN:VEVENT
DTSTART;TZID=America/Sao_Paulo:20250428T103000
DTEND;TZID=America/Sao_Paulo:20250428T120000
DTSTAMP:20260423T155241
CREATED:20250428T172210Z
LAST-MODIFIED:20250428T172210Z
UID:42618-1745836200-1745841600@www.goiasfomento.com
SUMMARY:Rufino Veríssimo – Diretor Presidente (Em substituição): Despachos Internos.
DESCRIPTION:
URL:https://www.goiasfomento.com/agenda/rufino-verissimo-diretor-presidente-em-substituicao-despachos-internos-55/
LOCATION:Gabinete da Diretoria de Operações da GoiásFomento – Agência de Fomento de Goiás.
CATEGORIES:Presidência
END:VEVENT
BEGIN:VEVENT
DTSTART;TZID=America/Sao_Paulo:20250428T140000
DTEND;TZID=America/Sao_Paulo:20250428T143000
DTSTAMP:20260423T155241
CREATED:20250428T172305Z
LAST-MODIFIED:20250428T172305Z
UID:42622-1745848800-1745850600@www.goiasfomento.com
SUMMARY:Rufino Veríssimo – Diretor Presidente (Em substituição): Despachos Internos.
DESCRIPTION:
URL:https://www.goiasfomento.com/agenda/rufino-verissimo-diretor-presidente-em-substituicao-despachos-internos-56/
LOCATION:Gabinete da Diretoria de Operações da GoiásFomento – Agência de Fomento de Goiás.
CATEGORIES:Presidência
END:VEVENT
BEGIN:VEVENT
DTSTART;TZID=America/Sao_Paulo:20250428T143000
DTEND;TZID=America/Sao_Paulo:20250428T150000
DTSTAMP:20260423T155241
CREATED:20250428T181047Z
LAST-MODIFIED:20250428T181047Z
UID:42626-1745850600-1745852400@www.goiasfomento.com
SUMMARY:Rufino Veríssimo – Diretor Presidente (Em substituição): Reunião com Darmélia Barbosa - Gerente de Comunicação.
DESCRIPTION:
URL:https://www.goiasfomento.com/agenda/rufino-verissimo-diretor-presidente-em-substituicao-reuniao-com-darmelia-barbosa-gerente-de-comunicacao-6/
LOCATION:Gabinete da Diretoria de Operações da GoiásFomento – Agência de Fomento de Goiás.
CATEGORIES:Presidência
END:VEVENT
BEGIN:VEVENT
DTSTART;TZID=America/Sao_Paulo:20250428T150000
DTEND;TZID=America/Sao_Paulo:20250428T160000
DTSTAMP:20260423T155241
CREATED:20250428T181319Z
LAST-MODIFIED:20250428T181319Z
UID:42630-1745852400-1745856000@www.goiasfomento.com
SUMMARY:Rufino Veríssimo – Diretor Presidente (Em substituição): Reunião com Gerentes e Assessores da Agência de Fomento de Goiás.
DESCRIPTION:
URL:https://www.goiasfomento.com/agenda/rufino-verissimo-diretor-presidente-em-substituicao-reuniao-com-gerentes-e-assessores-da-agencia-de-fomento-de-goias-2/
LOCATION:Gabinete da Diretoria de Operações da GoiásFomento – Agência de Fomento de Goiás.
CATEGORIES:Presidência
END:VEVENT
BEGIN:VEVENT
DTSTART;TZID=America/Sao_Paulo:20250428T160000
DTEND;TZID=America/Sao_Paulo:20250428T162000
DTSTAMP:20260423T155241
CREATED:20250428T193538Z
LAST-MODIFIED:20250428T193801Z
UID:42637-1745856000-1745857200@www.goiasfomento.com
SUMMARY:Rufino Veríssimo – Diretor Presidente (Em substituição): Reunião com Ariana da Costa Pires Barbosa - Secretaria-Geral.
DESCRIPTION:
URL:https://www.goiasfomento.com/agenda/rufino-verissimo-diretor-presidente-em-substituicao-reuniao-com-ariana-da-costa-pires-barbosa-secretaria-geral-10/
LOCATION:Gabinete da Diretoria de Operações da GoiásFomento – Agência de Fomento de Goiás.
CATEGORIES:Presidência
END:VEVENT
BEGIN:VEVENT
DTSTART;TZID=America/Sao_Paulo:20250428T162000
DTEND;TZID=America/Sao_Paulo:20250428T164000
DTSTAMP:20260423T155241
CREATED:20250428T193945Z
LAST-MODIFIED:20250428T194420Z
UID:42641-1745857200-1745858400@www.goiasfomento.com
SUMMARY:Rufino Veríssimo – Diretor Presidente (Em substituição): Reunião com Camilo R. de Camargo Pires - Gerente de Recuperação de Ativos.
DESCRIPTION:
URL:https://www.goiasfomento.com/agenda/rufino-verissimo-diretor-presidente-em-substituicao-reuniao-com-camilo-r-de-camargo-pires-gerente-de-recuperacao-de-ativos-6/
LOCATION:Gabinete da Diretoria de Operações da GoiásFomento – Agência de Fomento de Goiás.
CATEGORIES:Presidência
END:VEVENT
BEGIN:VEVENT
DTSTART;TZID=America/Sao_Paulo:20250428T164000
DTEND;TZID=America/Sao_Paulo:20250428T170000
DTSTAMP:20260423T155241
CREATED:20250428T194136Z
LAST-MODIFIED:20250428T194136Z
UID:42645-1745858400-1745859600@www.goiasfomento.com
SUMMARY:Rufino Veríssimo – Diretor Presidente (Em substituição): Reunião com José Marco Ferreira de Barri - Gerente Financeiro.
DESCRIPTION:
URL:https://www.goiasfomento.com/agenda/rufino-verissimo-diretor-presidente-em-substituicao-reuniao-com-jose-marco-ferreira-de-barri-gerente-financeiro-4/
LOCATION:Gabinete da Diretoria de Operações da GoiásFomento – Agência de Fomento de Goiás.
CATEGORIES:Presidência
END:VEVENT
BEGIN:VEVENT
DTSTART;TZID=America/Sao_Paulo:20250428T170000
DTEND;TZID=America/Sao_Paulo:20250428T173000
DTSTAMP:20260423T155241
CREATED:20250428T194236Z
LAST-MODIFIED:20250428T194236Z
UID:42649-1745859600-1745861400@www.goiasfomento.com
SUMMARY:Rufino Veríssimo – Diretor Presidente (Em substituição): Reunião com Maria Terezinha da Mota Batista – Assessora Técnica de Contabilidade.
DESCRIPTION:
URL:https://www.goiasfomento.com/agenda/rufino-verissimo-diretor-presidente-em-substituicao-reuniao-com-maria-terezinha-da-mota-batista-assessora-tecnica-de-contabilidade-20/
LOCATION:Gabinete da Diretoria de Operações da GoiásFomento – Agência de Fomento de Goiás.
CATEGORIES:Presidência
END:VEVENT
BEGIN:VEVENT
DTSTART;TZID=America/Sao_Paulo:20250428T173000
DTEND;TZID=America/Sao_Paulo:20250428T183000
DTSTAMP:20260423T155241
CREATED:20250428T195739Z
LAST-MODIFIED:20250428T195739Z
UID:42656-1745861400-1745865000@www.goiasfomento.com
SUMMARY:Rufino Veríssimo – Diretor Presidente (Em substituição): Despachos Internos.
DESCRIPTION:
URL:https://www.goiasfomento.com/agenda/rufino-verissimo-diretor-presidente-em-substituicao-despachos-internos-57/
LOCATION:Gabinete da Diretoria de Operações da GoiásFomento – Agência de Fomento de Goiás.
CATEGORIES:Presidência
END:VEVENT
BEGIN:VEVENT
DTSTART;TZID=America/Sao_Paulo:20250429T070000
DTEND;TZID=America/Sao_Paulo:20250429T083000
DTSTAMP:20260423T155241
CREATED:20250429T113635Z
LAST-MODIFIED:20250429T134009Z
UID:42660-1745910000-1745915400@www.goiasfomento.com
SUMMARY:Rufino Veríssimo – Diretor Presidente (Em substituição): Despachos Internos.
DESCRIPTION:
URL:https://www.goiasfomento.com/agenda/rufino-verissimo-diretor-presidente-em-substituicao-despachos-internos-58/
LOCATION:Gabinete da Diretoria de Operações da GoiásFomento – Agência de Fomento de Goiás.
CATEGORIES:Presidência
END:VEVENT
BEGIN:VEVENT
DTSTART;TZID=America/Sao_Paulo:20250429T083000
DTEND;TZID=America/Sao_Paulo:20250429T090000
DTSTAMP:20260423T155241
CREATED:20250429T134213Z
LAST-MODIFIED:20250429T134213Z
UID:42669-1745915400-1745917200@www.goiasfomento.com
SUMMARY:Rufino Veríssimo – Diretor Presidente (Em substituição): Reunião com Alexsander de Oliveira Linhares - Gerente de Parcerias e Operações Estruturadas.
DESCRIPTION:
URL:https://www.goiasfomento.com/agenda/rufino-verissimo-diretor-presidente-em-substituicao-reuniao-com-alexsander-de-oliveira-linhares-gerente-de-parcerias-e-operacoes-estruturadas-3/
LOCATION:Gabinete da Diretoria de Operações da GoiásFomento – Agência de Fomento de Goiás.
CATEGORIES:Presidência
END:VEVENT
BEGIN:VEVENT
DTSTART;TZID=America/Sao_Paulo:20250429T090000
DTEND;TZID=America/Sao_Paulo:20250429T093000
DTSTAMP:20260423T155241
CREATED:20250429T133803Z
LAST-MODIFIED:20250429T133803Z
UID:42664-1745917200-1745919000@www.goiasfomento.com
SUMMARY:Rufino Veríssimo – Diretor Presidente (Em substituição): Reunião com Paulo Cesar Paiva - Assessor de Estratégia e Planejamento.
DESCRIPTION:
URL:https://www.goiasfomento.com/agenda/rufino-verissimo-diretor-presidente-em-substituicao-reuniao-com-paulo-cesar-paiva-assessor-de-estrategia-e-planejamento-22/
LOCATION:Gabinete da Diretoria de Operações da GoiásFomento – Agência de Fomento de Goiás.
CATEGORIES:Presidência
END:VEVENT
BEGIN:VEVENT
DTSTART;TZID=America/Sao_Paulo:20250429T093000
DTEND;TZID=America/Sao_Paulo:20250429T100000
DTSTAMP:20260423T155241
CREATED:20250429T134431Z
LAST-MODIFIED:20250429T134431Z
UID:42673-1745919000-1745920800@www.goiasfomento.com
SUMMARY:Rufino Veríssimo – Diretor Presidente (Em substituição): Reunião com Guido Juliano Martins de Araújo - Gerente de Agronegócio.
DESCRIPTION:
URL:https://www.goiasfomento.com/agenda/rufino-verissimo-diretor-presidente-em-substituicao-reuniao-com-guido-juliano-martins-de-araujo-gerente-de-agronegocio-3/
LOCATION:Gabinete da Diretoria de Operações da GoiásFomento – Agência de Fomento de Goiás.
CATEGORIES:Presidência
END:VEVENT
BEGIN:VEVENT
DTSTART;TZID=America/Sao_Paulo:20250429T100000
DTEND;TZID=America/Sao_Paulo:20250429T103000
DTSTAMP:20260423T155241
CREATED:20250429T134636Z
LAST-MODIFIED:20250429T134636Z
UID:42677-1745920800-1745922600@www.goiasfomento.com
SUMMARY:Rufino Veríssimo – Diretor Presidente (Em substituição): Reunião com Bruno Alvarenga Campos Martins - Gerente de Atendimento.
DESCRIPTION:
URL:https://www.goiasfomento.com/agenda/rufino-verissimo-diretor-presidente-em-substituicao-reuniao-com-bruno-alvarenga-campos-martins-gerente-de-atendimento-5/
LOCATION:Gabinete da Diretoria de Operações da GoiásFomento – Agência de Fomento de Goiás.
CATEGORIES:Presidência
END:VEVENT
BEGIN:VEVENT
DTSTART;TZID=America/Sao_Paulo:20250429T103000
DTEND;TZID=America/Sao_Paulo:20250429T110000
DTSTAMP:20260423T155241
CREATED:20250429T134908Z
LAST-MODIFIED:20250429T135316Z
UID:42681-1745922600-1745924400@www.goiasfomento.com
SUMMARY:Rufino Veríssimo – Diretor Presidente (Em substituição): Reunião com Karyna Moral Dall'Agnol - Gerente de Pessoas.
DESCRIPTION:
URL:https://www.goiasfomento.com/agenda/rufino-verissimo-diretor-presidente-em-substituicao-reuniao-com-karyna-moral-dallagnol-gerente-de-pessoas-4/
LOCATION:Gabinete da Diretoria de Operações da GoiásFomento – Agência de Fomento de Goiás.
CATEGORIES:Presidência
END:VEVENT
BEGIN:VEVENT
DTSTART;TZID=America/Sao_Paulo:20250429T110000
DTEND;TZID=America/Sao_Paulo:20250429T113000
DTSTAMP:20260423T155241
CREATED:20250429T150728Z
LAST-MODIFIED:20250429T150728Z
UID:42684-1745924400-1745926200@www.goiasfomento.com
SUMMARY:Rufino Veríssimo – Diretor Presidente (Em substituição): Reunião com Deivison Rodrigues da Costa Soares – Chefe de Gabinete.
DESCRIPTION:
URL:https://www.goiasfomento.com/agenda/rufino-verissimo-diretor-presidente-em-substituicao-reuniao-com-deivison-rodrigues-da-costa-soares-chefe-de-gabinete-5/
LOCATION:Gabinete da Diretoria de Operações da GoiásFomento – Agência de Fomento de Goiás.
CATEGORIES:Presidência
END:VEVENT
BEGIN:VEVENT
DTSTART;TZID=America/Sao_Paulo:20250429T113000
DTEND;TZID=America/Sao_Paulo:20250429T120000
DTSTAMP:20260423T155241
CREATED:20250429T151105Z
LAST-MODIFIED:20250429T151105Z
UID:42692-1745926200-1745928000@www.goiasfomento.com
SUMMARY:Rufino Veríssimo – Diretor Presidente (Em substituição): Reunião com Wagner Siqueira Coelho – Gerente de Prospecção de Negócios.
DESCRIPTION:
URL:https://www.goiasfomento.com/agenda/rufino-verissimo-diretor-presidente-em-substituicao-reuniao-com-wagner-siqueira-coelho-gerente-de-prospeccao-de-negocios-7/
LOCATION:Gabinete da Diretoria de Operações da GoiásFomento – Agência de Fomento de Goiás.
CATEGORIES:Presidência
END:VEVENT
BEGIN:VEVENT
DTSTART;TZID=America/Sao_Paulo:20250429T140000
DTEND;TZID=America/Sao_Paulo:20250429T143000
DTSTAMP:20260423T155241
CREATED:20250429T172319Z
LAST-MODIFIED:20250429T172319Z
UID:42705-1745935200-1745937000@www.goiasfomento.com
SUMMARY:Rufino Veríssimo – Diretor Presidente (Em substituição): Reunião com Porthos R. de Albuquerque Motta - Assessor de Gerenciamento de Riscos e Escritório de Projetos.
DESCRIPTION:
URL:https://www.goiasfomento.com/agenda/rufino-verissimo-diretor-presidente-em-substituicao-reuniao-com-porthos-r-de-albuquerque-motta-assessor-de-gerenciamento-de-riscos-e-escritorio-de-projetos-6/
LOCATION:Gabinete da Diretoria de Operações da GoiásFomento – Agência de Fomento de Goiás.
CATEGORIES:Presidência
END:VEVENT
BEGIN:VEVENT
DTSTART;TZID=America/Sao_Paulo:20250429T143000
DTEND;TZID=America/Sao_Paulo:20250429T170000
DTSTAMP:20260423T155241
CREATED:20250429T183820Z
LAST-MODIFIED:20250429T193039Z
UID:42709-1745937000-1745946000@www.goiasfomento.com
SUMMARY:Rufino Veríssimo – Diretor Presidente (Em substituição): Reunião com Rafael Soffa Rézio – Gerente de Programas e Políticas Sociais\, Paulo Cesar Paiva – Assessor de Estratégia e Planejamento e a Empresa Inttegra.
DESCRIPTION:
URL:https://www.goiasfomento.com/agenda/rufino-verissimo-diretor-presidente-em-substituicao-reuniao-com-rafael-soffa-rezio-gerente-de-programas-e-politicas-sociais-e-a-empresa-inttegra/
LOCATION:Sala de Reuniões da Diretoria – Agência de Fomento de Goiás.
CATEGORIES:Presidência
END:VEVENT
BEGIN:VEVENT
DTSTART;TZID=America/Sao_Paulo:20250430T070000
DTEND;TZID=America/Sao_Paulo:20250430T083000
DTSTAMP:20260423T155241
CREATED:20250430T110602Z
LAST-MODIFIED:20250430T113814Z
UID:42723-1745996400-1746001800@www.goiasfomento.com
SUMMARY:Rufino Veríssimo – Diretor Presidente (Em substituição): Despachos Internos.
DESCRIPTION:
URL:https://www.goiasfomento.com/agenda/rufino-verissimo-diretor-presidente-em-substituicao-despachos-internos-60/
LOCATION:Gabinete da Diretoria de Operações da GoiásFomento – Agência de Fomento de Goiás.
CATEGORIES:Presidência
END:VEVENT
BEGIN:VEVENT
DTSTART;TZID=America/Sao_Paulo:20250430T083000
DTEND;TZID=America/Sao_Paulo:20250430T090000
DTSTAMP:20260423T155241
CREATED:20250430T114220Z
LAST-MODIFIED:20250430T114220Z
UID:42732-1746001800-1746003600@www.goiasfomento.com
SUMMARY:Rufino Veríssimo – Diretor Presidente (Em substituição): Reunião com Gibran Carvalho Abrão - Gerente de Serviços Gerais e Patrimônio.
DESCRIPTION:
URL:https://www.goiasfomento.com/agenda/rufino-verissimo-diretor-presidente-em-substituicao-reuniao-com-gibran-carvalho-abrao-gerente-de-servicos-gerais-e-patrimonio-4/
LOCATION:Gabinete da Diretoria de Operações da GoiásFomento – Agência de Fomento de Goiás.
CATEGORIES:Presidência
END:VEVENT
BEGIN:VEVENT
DTSTART;TZID=America/Sao_Paulo:20250430T090000
DTEND;TZID=America/Sao_Paulo:20250430T103000
DTSTAMP:20260423T155241
CREATED:20250430T114818Z
LAST-MODIFIED:20250430T133032Z
UID:42738-1746003600-1746009000@www.goiasfomento.com
SUMMARY:Rufino Veríssimo – Diretor Presidente (Em substituição): Reunião com os Gerentes da Diretoria de Operações.
DESCRIPTION:
URL:https://www.goiasfomento.com/agenda/rufino-verissimo-diretor-presidente-em-substituicao-reuniao-com-os-gerentes-da-diretoria-de-operacoes-3/
LOCATION:Gabinete da Diretoria de Operações da GoiásFomento – Agência de Fomento de Goiás.
CATEGORIES:Presidência
END:VEVENT
BEGIN:VEVENT
DTSTART;TZID=America/Sao_Paulo:20250430T103000
DTEND;TZID=America/Sao_Paulo:20250430T110000
DTSTAMP:20260423T155241
CREATED:20250430T142307Z
LAST-MODIFIED:20250430T142307Z
UID:42740-1746009000-1746010800@www.goiasfomento.com
SUMMARY:Rufino Veríssimo – Diretor Presidente (Em substituição): Reunião com Rafael Soffa Rézio – Gerente de Programas e Políticas Sociais.
DESCRIPTION:
URL:https://www.goiasfomento.com/agenda/rufino-verissimo-diretor-presidente-em-substituicao-reuniao-com-rafael-soffa-rezio-gerente-de-programas-e-politicas-sociais-33/
LOCATION:Gabinete da Diretoria de Operações da GoiásFomento – Agência de Fomento de Goiás.
CATEGORIES:Presidência
END:VEVENT
END:VCALENDAR