BEGIN:VCALENDAR
VERSION:2.0
PRODID:-//GoiásFomento - Agência de Fomento - ECPv6.15.20//NONSGML v1.0//EN
CALSCALE:GREGORIAN
METHOD:PUBLISH
X-ORIGINAL-URL:https://www.goiasfomento.com
X-WR-CALDESC:Eventos para GoiásFomento - Agência de Fomento
REFRESH-INTERVAL;VALUE=DURATION:PT1H
X-Robots-Tag:noindex
X-PUBLISHED-TTL:PT1H
BEGIN:VTIMEZONE
TZID:America/Sao_Paulo
BEGIN:STANDARD
TZOFFSETFROM:-0300
TZOFFSETTO:-0300
TZNAME:-03
DTSTART:20240101T000000
END:STANDARD
END:VTIMEZONE
BEGIN:VEVENT
DTSTART;TZID=America/Sao_Paulo:20250423T153000
DTEND;TZID=America/Sao_Paulo:20250423T163000
DTSTAMP:20260423T113120
CREATED:20250423T183818Z
LAST-MODIFIED:20250423T183818Z
UID:42415-1745422200-1745425800@www.goiasfomento.com
SUMMARY:Rufino Veríssimo – Diretor Presidente (Em substituição): Reunião com Agência de Fomento\, SEDS e a Empresa Inttegra.
DESCRIPTION:
URL:https://www.goiasfomento.com/agenda/rufino-verissimo-diretor-presidente-em-substituicao-reuniao-com-agencia-de-fomento-seds-e-a-empresa-inttegra-2/
LOCATION:Sala de Reuniões da Diretoria – Agência de Fomento de Goiás.
CATEGORIES:Presidência
END:VEVENT
BEGIN:VEVENT
DTSTART;TZID=America/Sao_Paulo:20250423T163000
DTEND;TZID=America/Sao_Paulo:20250423T170000
DTSTAMP:20260423T113120
CREATED:20250423T193839Z
LAST-MODIFIED:20250423T193839Z
UID:42420-1745425800-1745427600@www.goiasfomento.com
SUMMARY:Rufino Veríssimo – Diretor Presidente (Em substituição): Reunião com Agência de Fomento e a Empresa Inttegra.
DESCRIPTION:
URL:https://www.goiasfomento.com/agenda/rufino-verissimo-diretor-presidente-em-substituicao-reuniao-com-agencia-de-fomento-e-a-empresa-inttegra/
LOCATION:Gabinete da Diretoria de Operações da GoiásFomento – Agência de Fomento de Goiás.
CATEGORIES:Presidência
END:VEVENT
BEGIN:VEVENT
DTSTART;TZID=America/Sao_Paulo:20250423T170000
DTEND;TZID=America/Sao_Paulo:20250423T173000
DTSTAMP:20260423T113120
CREATED:20250423T195534Z
LAST-MODIFIED:20250423T195534Z
UID:42424-1745427600-1745429400@www.goiasfomento.com
SUMMARY:Rufino Veríssimo – Diretor Presidente (Em substituição): Reunião com Rafael Soffa Rézio - Gerente de Programas e Políticas Sociais.
DESCRIPTION:
URL:https://www.goiasfomento.com/agenda/rufino-verissimo-diretor-presidente-em-substituicao-reuniao-com-rafael-soffa-rezio-gerente-de-programas-e-politicas-sociais-28/
LOCATION:Gabinete da Diretoria de Operações da GoiásFomento – Agência de Fomento de Goiás.
CATEGORIES:Presidência
END:VEVENT
BEGIN:VEVENT
DTSTART;TZID=America/Sao_Paulo:20250423T173000
DTEND;TZID=America/Sao_Paulo:20250423T183000
DTSTAMP:20260423T113120
CREATED:20250423T195640Z
LAST-MODIFIED:20250423T195640Z
UID:42428-1745429400-1745433000@www.goiasfomento.com
SUMMARY:Rufino Veríssimo – Diretor Presidente (Em substituição): Despachos Internos.
DESCRIPTION:
URL:https://www.goiasfomento.com/agenda/rufino-verissimo-diretor-presidente-em-substituicao-despachos-internos-47/
LOCATION:Gabinete da Diretoria de Operações da GoiásFomento – Agência de Fomento de Goiás.
CATEGORIES:Presidência
END:VEVENT
BEGIN:VEVENT
DTSTART;TZID=America/Sao_Paulo:20250424T080000
DTEND;TZID=America/Sao_Paulo:20250424T083000
DTSTAMP:20260423T113120
CREATED:20250424T140713Z
LAST-MODIFIED:20250424T140713Z
UID:42432-1745481600-1745483400@www.goiasfomento.com
SUMMARY:Rufino Veríssimo – Diretor Presidente (Em substituição): Reunião com  Ariana da Costa Pires Barbosa - Secretaria-Geral.
DESCRIPTION:
URL:https://www.goiasfomento.com/agenda/rufino-verissimo-diretor-presidente-em-substituicao-reuniao-com-ariana-da-costa-pires-barbosa-secretaria-geral-8/
LOCATION:Gabinete da Diretoria de Operações da GoiásFomento – Agência de Fomento de Goiás.
CATEGORIES:Presidência
END:VEVENT
BEGIN:VEVENT
DTSTART;TZID=America/Sao_Paulo:20250424T083000
DTEND;TZID=America/Sao_Paulo:20250424T090000
DTSTAMP:20260423T113120
CREATED:20250424T141025Z
LAST-MODIFIED:20250424T141025Z
UID:42437-1745483400-1745485200@www.goiasfomento.com
SUMMARY:Rufino Veríssimo – Diretor Presidente (Em substituição): Reunião com  Luiz Arthur Medeiros Miguel - Gerente de Licitação e Contratos.
DESCRIPTION:
URL:https://www.goiasfomento.com/agenda/rufino-verissimo-diretor-presidente-em-substituicao-reuniao-com-luiz-arthur-medeiros-miguel-gerente-de-licitacao-e-contratos-11/
LOCATION:Gabinete da Diretoria de Operações da GoiásFomento – Agência de Fomento de Goiás.
CATEGORIES:Presidência
END:VEVENT
BEGIN:VEVENT
DTSTART;TZID=America/Sao_Paulo:20250424T090000
DTEND;TZID=America/Sao_Paulo:20250424T093000
DTSTAMP:20260423T113120
CREATED:20250424T142235Z
LAST-MODIFIED:20250424T142235Z
UID:42441-1745485200-1745487000@www.goiasfomento.com
SUMMARY:Rufino Veríssimo – Diretor Presidente (Em substituição): Reunião com Maria Terezinha da Mota Batista - Assessora Técnica de Contabilidade.
DESCRIPTION:
URL:https://www.goiasfomento.com/agenda/rufino-verissimo-diretor-presidente-em-substituicao-reuniao-com-maria-terezinha-da-mota-batista-assessora-tecnica-de-contabilidade-17/
LOCATION:Gabinete da Diretoria de Operações da GoiásFomento – Agência de Fomento de Goiás.
CATEGORIES:Presidência
END:VEVENT
BEGIN:VEVENT
DTSTART;TZID=America/Sao_Paulo:20250424T093000
DTEND;TZID=America/Sao_Paulo:20250424T100000
DTSTAMP:20260423T113120
CREATED:20250424T142632Z
LAST-MODIFIED:20250424T142632Z
UID:42445-1745487000-1745488800@www.goiasfomento.com
SUMMARY:Rufino Veríssimo – Diretor Presidente (Em substituição): Reunião com Bruno Alvarenga Campos Martins - Gerente de Atendimento.
DESCRIPTION:
URL:https://www.goiasfomento.com/agenda/rufino-verissimo-diretor-presidente-em-substituicao-reuniao-com-bruno-alvarenga-campos-martins-gerente-de-atendimento-4/
LOCATION:Gabinete da Diretoria de Operações da GoiásFomento – Agência de Fomento de Goiás.
CATEGORIES:Presidência
END:VEVENT
BEGIN:VEVENT
DTSTART;TZID=America/Sao_Paulo:20250424T100000
DTEND;TZID=America/Sao_Paulo:20250424T103000
DTSTAMP:20260423T113120
CREATED:20250424T142911Z
LAST-MODIFIED:20250424T142911Z
UID:42449-1745488800-1745490600@www.goiasfomento.com
SUMMARY:Rufino Veríssimo – Diretor Presidente (Em substituição): Reunião com Gibran Carvalho Abrão - Gerente de Serviços Gerais e Patrimônio.
DESCRIPTION:
URL:https://www.goiasfomento.com/agenda/rufino-verissimo-diretor-presidente-em-substituicao-reuniao-com-gibran-carvalho-abrao-gerente-de-servicos-gerais-e-patrimonio-3/
LOCATION:Gabinete da Diretoria de Operações da GoiásFomento – Agência de Fomento de Goiás.
CATEGORIES:Presidência
END:VEVENT
BEGIN:VEVENT
DTSTART;TZID=America/Sao_Paulo:20250424T103000
DTEND;TZID=America/Sao_Paulo:20250424T111500
DTSTAMP:20260423T113120
CREATED:20250424T144011Z
LAST-MODIFIED:20250424T144011Z
UID:42453-1745490600-1745493300@www.goiasfomento.com
SUMMARY:Rufino Veríssimo – Diretor Presidente (Em substituição): Despachos Internos.
DESCRIPTION:
URL:https://www.goiasfomento.com/agenda/rufino-verissimo-diretor-presidente-em-substituicao-despachos-internos-48/
LOCATION:Gabinete da Diretoria de Operações da GoiásFomento – Agência de Fomento de Goiás.
CATEGORIES:Presidência
END:VEVENT
BEGIN:VEVENT
DTSTART;TZID=America/Sao_Paulo:20250424T111500
DTEND;TZID=America/Sao_Paulo:20250424T114500
DTSTAMP:20260423T113120
CREATED:20250424T144429Z
LAST-MODIFIED:20250424T151753Z
UID:42457-1745493300-1745495100@www.goiasfomento.com
SUMMARY:Rufino Veríssimo – Diretor Presidente (Em substituição): Reunião da GoiásFomento com TCE.
DESCRIPTION:
URL:https://www.goiasfomento.com/agenda/rufino-verissimo-diretor-presidente-em-substituicao-reuniao-da-goiasfomento-com-tce/
LOCATION:Gabinete da Diretoria de Operações da GoiásFomento – Agência de Fomento de Goiás.
CATEGORIES:Presidência
END:VEVENT
BEGIN:VEVENT
DTSTART;TZID=America/Sao_Paulo:20250424T114500
DTEND;TZID=America/Sao_Paulo:20250424T120000
DTSTAMP:20260423T113120
CREATED:20250424T152021Z
LAST-MODIFIED:20250424T152021Z
UID:42470-1745495100-1745496000@www.goiasfomento.com
SUMMARY:Rufino Veríssimo – Diretor Presidente (Em substituição): Reunião com Rafael Soffa Rézio - Gerente de Programas e Políticas Sociais e  Luiz Arthur Medeiros Miguel - Gerente de Licitação e Contratos.
DESCRIPTION:
URL:https://www.goiasfomento.com/agenda/rufino-verissimo-diretor-presidente-em-substituicao-reuniao-com-rafael-soffa-rezio-gerente-de-programas-e-politicas-sociais-e-luiz-arthur-medeiros-miguel-gerente-de-licitacao-e-contr-2/
LOCATION:Gabinete da Diretoria de Operações da GoiásFomento – Agência de Fomento de Goiás.
CATEGORIES:Presidência
END:VEVENT
BEGIN:VEVENT
DTSTART;TZID=America/Sao_Paulo:20250424T120000
DTEND;TZID=America/Sao_Paulo:20250424T121500
DTSTAMP:20260423T113120
CREATED:20250424T151446Z
LAST-MODIFIED:20250424T190315Z
UID:42461-1745496000-1745496900@www.goiasfomento.com
SUMMARY:Rufino Veríssimo – Diretor Presidente (Em substituição): Reunião com Darmélia Barbosa - Gerente de Comunicação.
DESCRIPTION:
URL:https://www.goiasfomento.com/agenda/rufino-verissimo-diretor-presidente-em-substituicao-reuniao-darmelia-barbosa-gerente-de-comunicacao/
LOCATION:Gabinete da Diretoria de Operações da GoiásFomento – Agência de Fomento de Goiás.
CATEGORIES:Presidência
END:VEVENT
BEGIN:VEVENT
DTSTART;TZID=America/Sao_Paulo:20250424T121500
DTEND;TZID=America/Sao_Paulo:20250424T123000
DTSTAMP:20260423T113120
CREATED:20250424T151639Z
LAST-MODIFIED:20250424T151639Z
UID:42465-1745496900-1745497800@www.goiasfomento.com
SUMMARY:Rufino Veríssimo – Diretor Presidente (Em substituição): Reunião com Gálbia do Amor Divino Rosa - Gerente Jurídica.
DESCRIPTION:
URL:https://www.goiasfomento.com/agenda/rufino-verissimo-diretor-presidente-em-substituicao-reuniao-com-galbia-do-amor-divino-rosa-gerente-juridica-3/
LOCATION:Gabinete da Diretoria de Operações da GoiásFomento – Agência de Fomento de Goiás.
CATEGORIES:Presidência
END:VEVENT
BEGIN:VEVENT
DTSTART;TZID=America/Sao_Paulo:20250424T140000
DTEND;TZID=America/Sao_Paulo:20250424T143000
DTSTAMP:20260423T113120
CREATED:20250424T173815Z
LAST-MODIFIED:20250424T173815Z
UID:42483-1745503200-1745505000@www.goiasfomento.com
SUMMARY:Rufino Veríssimo – Diretor Presidente (Em substituição): Reunião com José Marco Ferreira de Barri - Gerente Financeiro.
DESCRIPTION:
URL:https://www.goiasfomento.com/agenda/rufino-verissimo-diretor-presidente-em-substituicao-reuniao-com-jose-marco-ferreira-de-barri-gerente-financeiro-3/
LOCATION:Gabinete da Diretoria de Operações da GoiásFomento – Agência de Fomento de Goiás.
CATEGORIES:Presidência
END:VEVENT
BEGIN:VEVENT
DTSTART;TZID=America/Sao_Paulo:20250424T143000
DTEND;TZID=America/Sao_Paulo:20250424T150000
DTSTAMP:20260423T113121
CREATED:20250424T174658Z
LAST-MODIFIED:20250424T174658Z
UID:42487-1745505000-1745506800@www.goiasfomento.com
SUMMARY:Rufino Veríssimo – Diretor Presidente (Em substituição): Reunião com Rafael Soffa Rézio - Gerente de Programas e Políticas Sociais.
DESCRIPTION:
URL:https://www.goiasfomento.com/agenda/rufino-verissimo-diretor-presidente-em-substituicao-reuniao-com-rafael-soffa-rezio-gerente-de-programas-e-politicas-sociais-29/
LOCATION:Gabinete da Diretoria de Operações da GoiásFomento – Agência de Fomento de Goiás.
CATEGORIES:Presidência
END:VEVENT
BEGIN:VEVENT
DTSTART;TZID=America/Sao_Paulo:20250424T150000
DTEND;TZID=America/Sao_Paulo:20250424T153000
DTSTAMP:20260423T113121
CREATED:20250424T185845Z
LAST-MODIFIED:20250424T185845Z
UID:42491-1745506800-1745508600@www.goiasfomento.com
SUMMARY:Rufino Veríssimo – Diretor Presidente (Em substituição): Reunião com Rafael Soffa Rézio - Gerente de Programas e Políticas Sociais e Luiz Arthur Medeiros Miguel - Gerente de Licitação e Contratos.
DESCRIPTION:
URL:https://www.goiasfomento.com/agenda/rufino-verissimo-diretor-presidente-em-substituicao-reuniao-com-rafael-soffa-rezio-gerente-de-programas-e-politicas-sociais-e-luiz-arthur-medeiros-miguel-gerente-de-licitacao-e-contra/
LOCATION:Gabinete da Diretoria de Operações da GoiásFomento – Agência de Fomento de Goiás.
CATEGORIES:Presidência
END:VEVENT
BEGIN:VEVENT
DTSTART;TZID=America/Sao_Paulo:20250424T160000
DTEND;TZID=America/Sao_Paulo:20250424T163000
DTSTAMP:20260423T113121
CREATED:20250424T194717Z
LAST-MODIFIED:20250424T194717Z
UID:42504-1745510400-1745512200@www.goiasfomento.com
SUMMARY:Rufino Veríssimo – Diretor Presidente (Em substituição):  Reunião com Luiz Arthur Medeiros Miguel - Gerente de Licitação e Contratos.
DESCRIPTION:
URL:https://www.goiasfomento.com/agenda/rufino-verissimo-diretor-presidente-em-substituicao-reuniao-com-luiz-arthur-medeiros-miguel-gerente-de-licitacao-e-contratos-12/
LOCATION:Gabinete da Diretoria de Operações da GoiásFomento – Agência de Fomento de Goiás.
CATEGORIES:Presidência
END:VEVENT
BEGIN:VEVENT
DTSTART;TZID=America/Sao_Paulo:20250424T163000
DTEND;TZID=America/Sao_Paulo:20250424T170000
DTSTAMP:20260423T113121
CREATED:20250424T194751Z
LAST-MODIFIED:20250424T194751Z
UID:42506-1745512200-1745514000@www.goiasfomento.com
SUMMARY:Rufino Veríssimo – Diretor Presidente (Em substituição): Reunião com Maria Terezinha da Mota Batista - Assessora Técnica de Contabilidade.
DESCRIPTION:
URL:https://www.goiasfomento.com/agenda/rufino-verissimo-diretor-presidente-em-substituicao-reuniao-com-maria-terezinha-da-mota-batista-assessora-tecnica-de-contabilidade-18/
LOCATION:Gabinete da Diretoria de Operações da GoiásFomento – Agência de Fomento de Goiás.
CATEGORIES:Presidência
END:VEVENT
BEGIN:VEVENT
DTSTART;TZID=America/Sao_Paulo:20250424T170000
DTEND;TZID=America/Sao_Paulo:20250424T180000
DTSTAMP:20260423T113121
CREATED:20250424T195712Z
LAST-MODIFIED:20250424T195712Z
UID:42510-1745514000-1745517600@www.goiasfomento.com
SUMMARY:Rufino Veríssimo – Diretor Presidente (Em substituição): Despachos Internos.
DESCRIPTION:
URL:https://www.goiasfomento.com/agenda/rufino-verissimo-diretor-presidente-em-substituicao-despachos-internos-49/
LOCATION:Gabinete da Diretoria de Operações da GoiásFomento – Agência de Fomento de Goiás.
CATEGORIES:Presidência
END:VEVENT
BEGIN:VEVENT
DTSTART;TZID=America/Sao_Paulo:20250424T180000
DTEND;TZID=America/Sao_Paulo:20250424T183000
DTSTAMP:20260423T113121
CREATED:20250424T195916Z
LAST-MODIFIED:20250424T195916Z
UID:42514-1745517600-1745519400@www.goiasfomento.com
SUMMARY:Rufino Veríssimo – Diretor Presidente (Em substituição): Reunião com Rafael Soffa Rézio - Gerente de Programas e Políticas Sociais.
DESCRIPTION:
URL:https://www.goiasfomento.com/agenda/rufino-verissimo-diretor-presidente-em-substituicao-reuniao-com-rafael-soffa-rezio-gerente-de-programas-e-politicas-sociais-30/
LOCATION:Gabinete da Diretoria de Operações da GoiásFomento – Agência de Fomento de Goiás.
CATEGORIES:Presidência
END:VEVENT
BEGIN:VEVENT
DTSTART;TZID=America/Sao_Paulo:20250425T070000
DTEND;TZID=America/Sao_Paulo:20250425T080000
DTSTAMP:20260423T113121
CREATED:20250425T121646Z
LAST-MODIFIED:20250425T121646Z
UID:42518-1745564400-1745568000@www.goiasfomento.com
SUMMARY:Rufino Veríssimo – Diretor Presidente (Em substituição): Despachos Internos.
DESCRIPTION:
URL:https://www.goiasfomento.com/agenda/rufino-verissimo-diretor-presidente-em-substituicao-despachos-internos-50/
LOCATION:Gabinete da Diretoria de Operações da GoiásFomento – Agência de Fomento de Goiás.
CATEGORIES:Presidência
END:VEVENT
BEGIN:VEVENT
DTSTART;TZID=America/Sao_Paulo:20250425T080000
DTEND;TZID=America/Sao_Paulo:20250425T083000
DTSTAMP:20260423T113121
CREATED:20250425T135015Z
LAST-MODIFIED:20250425T135015Z
UID:42522-1745568000-1745569800@www.goiasfomento.com
SUMMARY:Rufino Veríssimo – Diretor Presidente (Em substituição): Reunião com Luiz Arthur Medeiros Miguel - Gerente de Licitação e Contratos.
DESCRIPTION:
URL:https://www.goiasfomento.com/agenda/rufino-verissimo-diretor-presidente-em-substituicao-reuniao-com-luiz-arthur-medeiros-miguel-gerente-de-licitacao-e-contratos-13/
LOCATION:Gabinete da Diretoria de Operações da GoiásFomento – Agência de Fomento de Goiás.
CATEGORIES:Presidência
END:VEVENT
BEGIN:VEVENT
DTSTART;TZID=America/Sao_Paulo:20250425T083000
DTEND;TZID=America/Sao_Paulo:20250425T090000
DTSTAMP:20260423T113121
CREATED:20250425T135155Z
LAST-MODIFIED:20250425T135155Z
UID:42526-1745569800-1745571600@www.goiasfomento.com
SUMMARY:Rufino Veríssimo – Diretor Presidente (Em substituição): Reunião com Ariana da Costa Pires Barbosa - Secretaria-Geral.
DESCRIPTION:
URL:https://www.goiasfomento.com/agenda/rufino-verissimo-diretor-presidente-em-substituicao-reuniao-com-ariana-da-costa-pires-barbosa-secretaria-geral-9/
LOCATION:Gabinete da Diretoria de Operações da GoiásFomento – Agência de Fomento de Goiás.
CATEGORIES:Presidência
END:VEVENT
BEGIN:VEVENT
DTSTART;TZID=America/Sao_Paulo:20250425T090000
DTEND;TZID=America/Sao_Paulo:20250425T093000
DTSTAMP:20260423T113121
CREATED:20250425T135333Z
LAST-MODIFIED:20250425T135333Z
UID:42530-1745571600-1745573400@www.goiasfomento.com
SUMMARY:Rufino Veríssimo – Diretor Presidente (Em substituição): Reunião com Rafael Soffa Rézio - Gerente de Programas e Políticas Sociais.
DESCRIPTION:
URL:https://www.goiasfomento.com/agenda/rufino-verissimo-diretor-presidente-em-substituicao-reuniao-com-rafael-soffa-rezio-gerente-de-programas-e-politicas-sociais-31/
LOCATION:Gabinete da Diretoria de Operações da GoiásFomento – Agência de Fomento de Goiás.
CATEGORIES:Presidência
END:VEVENT
BEGIN:VEVENT
DTSTART;TZID=America/Sao_Paulo:20250425T093000
DTEND;TZID=America/Sao_Paulo:20250425T100000
DTSTAMP:20260423T113121
CREATED:20250425T141148Z
LAST-MODIFIED:20250425T141148Z
UID:42534-1745573400-1745575200@www.goiasfomento.com
SUMMARY:Rufino Veríssimo – Diretor Presidente (Em substituição): Reunião com Porthos R. de Albuquerque Motta - Assessor de Gerenciamento de Riscos e Escritório de Projetos.
DESCRIPTION:
URL:https://www.goiasfomento.com/agenda/rufino-verissimo-diretor-presidente-em-substituicao-reuniao-com-porthos-r-de-albuquerque-motta-assessor-de-gerenciamento-de-riscos-e-escritorio-de-projetos-4/
LOCATION:Gabinete da Diretoria de Operações da GoiásFomento – Agência de Fomento de Goiás.
CATEGORIES:Presidência
END:VEVENT
BEGIN:VEVENT
DTSTART;TZID=America/Sao_Paulo:20250425T100000
DTEND;TZID=America/Sao_Paulo:20250425T103000
DTSTAMP:20260423T113121
CREATED:20250425T141331Z
LAST-MODIFIED:20250425T141618Z
UID:42538-1745575200-1745577000@www.goiasfomento.com
SUMMARY:Rufino Veríssimo – Diretor Presidente (Em substituição): Reunião com Karyna Moral Dall'Agnol - Gerente de Pessoas.
DESCRIPTION:
URL:https://www.goiasfomento.com/agenda/rufino-verissimo-diretor-presidente-em-substituicao-reuniao-com-karyna-moral-dallagnol-gerente-de-pessoas-3/
LOCATION:Gabinete da Diretoria de Operações da GoiásFomento – Agência de Fomento de Goiás.
CATEGORIES:Presidência
END:VEVENT
BEGIN:VEVENT
DTSTART;TZID=America/Sao_Paulo:20250425T103000
DTEND;TZID=America/Sao_Paulo:20250425T113000
DTSTAMP:20260423T113121
CREATED:20250425T141752Z
LAST-MODIFIED:20250425T141921Z
UID:42542-1745577000-1745580600@www.goiasfomento.com
SUMMARY:Rufino Veríssimo – Diretor Presidente (Em substituição): Reunião com Luiz Arthur Medeiros Miguel - Gerente de Licitação e Contratos.
DESCRIPTION:
URL:https://www.goiasfomento.com/agenda/rufino-verissimo-reuniao-com-luiz-arthur-medeiros-miguel-gerente-de-licitacao-e-contratos-17/
LOCATION:Gabinete da Diretoria de Operações da GoiásFomento – Agência de Fomento de Goiás.
CATEGORIES:Presidência
END:VEVENT
BEGIN:VEVENT
DTSTART;TZID=America/Sao_Paulo:20250425T113000
DTEND;TZID=America/Sao_Paulo:20250425T123000
DTSTAMP:20260423T113121
CREATED:20250425T144930Z
LAST-MODIFIED:20250425T144930Z
UID:42547-1745580600-1745584200@www.goiasfomento.com
SUMMARY:Rufino Veríssimo – Diretor Presidente (Em substituição): Despachos Internos.
DESCRIPTION:
URL:https://www.goiasfomento.com/agenda/rufino-verissimo-diretor-presidente-em-substituicao-despachos-internos-51/
LOCATION:Gabinete da Diretoria de Operações da GoiásFomento – Agência de Fomento de Goiás.
CATEGORIES:Presidência
END:VEVENT
BEGIN:VEVENT
DTSTART;TZID=America/Sao_Paulo:20250425T130000
DTEND;TZID=America/Sao_Paulo:20250425T140000
DTSTAMP:20260423T113121
CREATED:20250425T165703Z
LAST-MODIFIED:20250425T165703Z
UID:42555-1745586000-1745589600@www.goiasfomento.com
SUMMARY:Rufino Veríssimo – Diretor Presidente (Em substituição): Reunião com Agência de Fomento e a Empresa Inttegra.
DESCRIPTION:
URL:https://www.goiasfomento.com/agenda/rufino-verissimo-diretor-presidente-em-substituicao-reuniao-com-agencia-de-fomento-e-a-empresa-inttegra-2/
LOCATION:Gabinete da Diretoria de Operações da GoiásFomento – Agência de Fomento de Goiás.
CATEGORIES:Presidência
END:VEVENT
END:VCALENDAR