BEGIN:VCALENDAR
VERSION:2.0
PRODID:-//GoiásFomento - Agência de Fomento - ECPv6.15.20//NONSGML v1.0//EN
CALSCALE:GREGORIAN
METHOD:PUBLISH
X-WR-CALNAME:GoiásFomento - Agência de Fomento
X-ORIGINAL-URL:https://www.goiasfomento.com
X-WR-CALDESC:Eventos para GoiásFomento - Agência de Fomento
REFRESH-INTERVAL;VALUE=DURATION:PT1H
X-Robots-Tag:noindex
X-PUBLISHED-TTL:PT1H
BEGIN:VTIMEZONE
TZID:America/Sao_Paulo
BEGIN:STANDARD
TZOFFSETFROM:-0300
TZOFFSETTO:-0300
TZNAME:-03
DTSTART:20240101T000000
END:STANDARD
END:VTIMEZONE
BEGIN:VEVENT
DTSTART;TZID=America/Sao_Paulo:20250416T100000
DTEND;TZID=America/Sao_Paulo:20250416T102500
DTSTAMP:20260422T211518
CREATED:20250416T135009Z
LAST-MODIFIED:20250416T142207Z
UID:42236-1744797600-1744799100@www.goiasfomento.com
SUMMARY:Rufino Veríssimo – Diretor Presidente (Em substituição): Reunião com Rafael Soffa Rézio - Gerente de Programas e Políticas Sociais.
DESCRIPTION:
URL:https://www.goiasfomento.com/agenda/rufino-verissimo-diretor-presidente-em-substituicao-reuniao-com-rafael-soffa-rezio-gerente-de-programas-e-politicas-sociais-23/
LOCATION:Gabinete da Diretoria de Operações da GoiásFomento – Agência de Fomento de Goiás.
CATEGORIES:Presidência
END:VEVENT
BEGIN:VEVENT
DTSTART;TZID=America/Sao_Paulo:20250416T102500
DTEND;TZID=America/Sao_Paulo:20250416T104000
DTSTAMP:20260422T211518
CREATED:20250416T135226Z
LAST-MODIFIED:20250416T142548Z
UID:42240-1744799100-1744800000@www.goiasfomento.com
SUMMARY:Rufino Veríssimo – Diretor Presidente (Em substituição): Reunião com Wagner Siqueira Coelho - Gerente de Prospecção de Negócios.
DESCRIPTION:
URL:https://www.goiasfomento.com/agenda/rufino-verissimo-diretor-presidente-em-substituicao-reuniao-com-wagner-siqueira-coelho-gerente-de-prospeccao-de-negocios-5/
LOCATION:Gabinete da Diretoria de Operações da GoiásFomento – Agência de Fomento de Goiás.
CATEGORIES:Presidência
END:VEVENT
BEGIN:VEVENT
DTSTART;TZID=America/Sao_Paulo:20250416T104000
DTEND;TZID=America/Sao_Paulo:20250416T110000
DTSTAMP:20260422T211518
CREATED:20250416T135522Z
LAST-MODIFIED:20250416T142915Z
UID:42245-1744800000-1744801200@www.goiasfomento.com
SUMMARY:Rufino Veríssimo – Diretor Presidente (Em substituição): Reunião com Bruno Alvarenga Campos Martins - Gerente de Atendimento.
DESCRIPTION:
URL:https://www.goiasfomento.com/agenda/rufino-verissimo-diretor-presidente-em-substituicao-reuniao-com-bruno-alvarenga-campos-martins-gerente-de-atendimento-2/
LOCATION:Gabinete da Diretoria de Operações da GoiásFomento – Agência de Fomento de Goiás.
CATEGORIES:Presidência
END:VEVENT
BEGIN:VEVENT
DTSTART;TZID=America/Sao_Paulo:20250416T110000
DTEND;TZID=America/Sao_Paulo:20250416T111500
DTSTAMP:20260422T211518
CREATED:20250416T143222Z
LAST-MODIFIED:20250416T143630Z
UID:42258-1744801200-1744802100@www.goiasfomento.com
SUMMARY:Rufino Veríssimo – Diretor Presidente (Em substituição): Reunião com Paulo Cesar Paiva - Assessor de Estratégia e Planejamento.
DESCRIPTION:
URL:https://www.goiasfomento.com/agenda/rufino-verissimo-diretor-presidente-em-substituicao-reuniao-com-paulo-cesar-paiva-assessor-de-estrategia-e-planejamento-17/
LOCATION:Gabinete da Diretoria de Operações da GoiásFomento – Agência de Fomento de Goiás.
CATEGORIES:Presidência
END:VEVENT
BEGIN:VEVENT
DTSTART;TZID=America/Sao_Paulo:20250416T111500
DTEND;TZID=America/Sao_Paulo:20250416T113000
DTSTAMP:20260422T211518
CREATED:20250416T143750Z
LAST-MODIFIED:20250416T143750Z
UID:42263-1744802100-1744803000@www.goiasfomento.com
SUMMARY:Rufino Veríssimo – Diretor Presidente (Em substituição): Reunião com  Alexsander de Oliveira Linhares - Gerente de Parcerias e Operações Estruturadas.
DESCRIPTION:
URL:https://www.goiasfomento.com/agenda/rufino-verissimo-diretor-presidente-em-substituicao-reuniao-com-alexsander-de-oliveira-linhares-gerente-de-parcerias-e-operacoes-estruturadas-2/
LOCATION:Gabinete da Diretoria de Operações da GoiásFomento – Agência de Fomento de Goiás.
CATEGORIES:Presidência
END:VEVENT
BEGIN:VEVENT
DTSTART;TZID=America/Sao_Paulo:20250416T113000
DTEND;TZID=America/Sao_Paulo:20250416T120000
DTSTAMP:20260422T211518
CREATED:20250416T144054Z
LAST-MODIFIED:20250416T144054Z
UID:42267-1744803000-1744804800@www.goiasfomento.com
SUMMARY:Rufino Veríssimo – Diretor Presidente (Em substituição): Reunião com Maria Terezinha da Mota Batista - Assessora Técnica de Contabilidade e Luiz Arthur Medeiros Miguel - Gerente de Licitação e Contratos.
DESCRIPTION:
URL:https://www.goiasfomento.com/agenda/rufino-verissimo-diretor-presidente-em-substituicao-reuniao-com-maria-terezinha-da-mota-batista-assessora-tecnica-de-contabilidade-e-luiz-arthur-medeiros-miguel-gerente-de-licitacao-e/
LOCATION:Gabinete da Diretoria de Operações da GoiásFomento – Agência de Fomento de Goiás.
CATEGORIES:Presidência
END:VEVENT
BEGIN:VEVENT
DTSTART;TZID=America/Sao_Paulo:20250416T120000
DTEND;TZID=America/Sao_Paulo:20250416T122000
DTSTAMP:20260422T211518
CREATED:20250416T144556Z
LAST-MODIFIED:20250416T144556Z
UID:42273-1744804800-1744806000@www.goiasfomento.com
SUMMARY:Rufino Veríssimo – Diretor Presidente (Em substituição): Reunião com Paulo Cesar Paiva - Assessor de Estratégia e Planejamento.
DESCRIPTION:
URL:https://www.goiasfomento.com/agenda/rufino-verissimo-diretor-presidente-em-substituicao-reuniao-com-paulo-cesar-paiva-assessor-de-estrategia-e-planejamento-18/
LOCATION:Gabinete da Diretoria de Operações da GoiásFomento – Agência de Fomento de Goiás.
CATEGORIES:Presidência
END:VEVENT
BEGIN:VEVENT
DTSTART;TZID=America/Sao_Paulo:20250416T140000
DTEND;TZID=America/Sao_Paulo:20250416T153000
DTSTAMP:20260422T211518
CREATED:20250416T165322Z
LAST-MODIFIED:20250416T165322Z
UID:42275-1744812000-1744817400@www.goiasfomento.com
SUMMARY:Rufino Veríssimo – Diretor Presidente (Em substituição): Reunião com Reunião com os Gerentes da Diretoria de Operações.
DESCRIPTION:
URL:https://www.goiasfomento.com/agenda/rufino-verissimo-diretor-presidente-em-substituicao-reuniao-com-reuniao-com-os-gerentes-da-diretoria-de-operacoes/
LOCATION:Gabinete da Diretoria de Operações da GoiásFomento – Agência de Fomento de Goiás.
CATEGORIES:Presidência
END:VEVENT
BEGIN:VEVENT
DTSTART;TZID=America/Sao_Paulo:20250416T153000
DTEND;TZID=America/Sao_Paulo:20250416T180000
DTSTAMP:20260422T211518
CREATED:20250416T193814Z
LAST-MODIFIED:20250416T193814Z
UID:42279-1744817400-1744826400@www.goiasfomento.com
SUMMARY:Rufino Veríssimo – Diretor Presidente (Em substituição): Despachos Internos.
DESCRIPTION:
URL:https://www.goiasfomento.com/agenda/rufino-verissimo-diretor-presidente-em-substituicao-despachos-internos-42/
LOCATION:Gabinete da Diretoria de Operações da GoiásFomento – Agência de Fomento de Goiás.
CATEGORIES:Presidência
END:VEVENT
BEGIN:VEVENT
DTSTART;VALUE=DATE:20250417
DTEND;VALUE=DATE:20250418
DTSTAMP:20260422T211518
CREATED:20250402T172114Z
LAST-MODIFIED:20250402T172114Z
UID:41682-1744848000-1744934399@www.goiasfomento.com
SUMMARY:Rufino Veríssimo – Diretor Presidente (Em substituição): Ponto Facultativo\, Conforme o Decreto Estadual nº 10.659\, de 17 de março de 2025.
DESCRIPTION:
URL:https://www.goiasfomento.com/agenda/rufino-verissimo-diretor-presidente-em-substituicao-ponto-facultativo-conforme-o-decreto-estadual-no-10-659-de-17-de-marco-de-2025/
LOCATION:Gabinete da Diretoria de Operações da GoiásFomento – Agência de Fomento de Goiás.
CATEGORIES:Presidência
END:VEVENT
BEGIN:VEVENT
DTSTART;VALUE=DATE:20250418
DTEND;VALUE=DATE:20250419
DTSTAMP:20260422T211518
CREATED:20250402T172540Z
LAST-MODIFIED:20250402T172540Z
UID:41686-1744934400-1745020799@www.goiasfomento.com
SUMMARY:Rufino Veríssimo – Diretor Presidente (Em substituição): Feriado Nacional – Paixão de Cristo.
DESCRIPTION:
URL:https://www.goiasfomento.com/agenda/rufino-verissimo-diretor-presidente-em-substituicao-feriado-nacional-paixao-de-cristo/
LOCATION:Gabinete da Diretoria de Operações da GoiásFomento – Agência de Fomento de Goiás.
CATEGORIES:Presidência
END:VEVENT
BEGIN:VEVENT
DTSTART;VALUE=DATE:20250421
DTEND;VALUE=DATE:20250422
DTSTAMP:20260422T211518
CREATED:20250402T190907Z
LAST-MODIFIED:20250402T190907Z
UID:41693-1745193600-1745279999@www.goiasfomento.com
SUMMARY:Rufino Veríssimo – Diretor Presidente (Em substituição): Feriado Nacional – Dia de Tiradentes.
DESCRIPTION:
URL:https://www.goiasfomento.com/agenda/rufino-verissimo-diretor-presidente-em-substituicao-feriado-nacional-dia-de-tiradentes/
LOCATION:Gabinete da Diretoria de Operações da GoiásFomento – Agência de Fomento de Goiás.
CATEGORIES:Presidência
END:VEVENT
BEGIN:VEVENT
DTSTART;TZID=America/Sao_Paulo:20250422T080000
DTEND;TZID=America/Sao_Paulo:20250422T082000
DTSTAMP:20260422T211518
CREATED:20250422T152335Z
LAST-MODIFIED:20250422T152335Z
UID:42297-1745308800-1745310000@www.goiasfomento.com
SUMMARY:Rufino Veríssimo – Diretor Presidente (Em substituição): Reunião com Paulo Cesar Paiva - Assessor de Estratégia e Planejamento.
DESCRIPTION:
URL:https://www.goiasfomento.com/agenda/rufino-verissimo-diretor-presidente-em-substituicao-reuniao-com-paulo-cesar-paiva-assessor-de-estrategia-e-planejamento-19/
LOCATION:Gabinete da Diretoria de Operações da GoiásFomento – Agência de Fomento de Goiás.
CATEGORIES:Presidência
END:VEVENT
BEGIN:VEVENT
DTSTART;TZID=America/Sao_Paulo:20250422T082000
DTEND;TZID=America/Sao_Paulo:20250422T083000
DTSTAMP:20260422T211518
CREATED:20250422T152031Z
LAST-MODIFIED:20250422T152031Z
UID:42293-1745310000-1745310600@www.goiasfomento.com
SUMMARY:Rufino Veríssimo – Diretor Presidente (Em substituição): Reunião com Ariana da Costa Pires Barbosa - Secretaria-Geral.
DESCRIPTION:
URL:https://www.goiasfomento.com/agenda/rufino-verissimo-diretor-presidente-em-substituicao-reuniao-com-ariana-da-costa-pires-barbosa-secretaria-geral-7/
LOCATION:Gabinete da Diretoria de Operações da GoiásFomento – Agência de Fomento de Goiás.
CATEGORIES:Presidência
END:VEVENT
BEGIN:VEVENT
DTSTART;TZID=America/Sao_Paulo:20250422T083000
DTEND;TZID=America/Sao_Paulo:20250422T090000
DTSTAMP:20260422T211518
CREATED:20250422T152756Z
LAST-MODIFIED:20250422T152756Z
UID:42301-1745310600-1745312400@www.goiasfomento.com
SUMMARY:Rufino Veríssimo – Diretor Presidente (Em substituição): Reunião com  Luiz Arthur Medeiros Miguel - Gerente de Licitação e Contratos.
DESCRIPTION:
URL:https://www.goiasfomento.com/agenda/rufino-verissimo-diretor-presidente-em-substituicao-reuniao-com-luiz-arthur-medeiros-miguel-gerente-de-licitacao-e-contratos-7/
LOCATION:Gabinete da Diretoria de Operações da GoiásFomento – Agência de Fomento de Goiás.
CATEGORIES:Presidência
END:VEVENT
BEGIN:VEVENT
DTSTART;TZID=America/Sao_Paulo:20250422T090000
DTEND;TZID=America/Sao_Paulo:20250422T091500
DTSTAMP:20260422T211518
CREATED:20250422T152912Z
LAST-MODIFIED:20250422T152920Z
UID:42305-1745312400-1745313300@www.goiasfomento.com
SUMMARY:Rufino Veríssimo – Diretor Presidente (Em substituição): Reunião com Maria Terezinha da Mota Batista – Assessora Técnica de Contabilidade.
DESCRIPTION:
URL:https://www.goiasfomento.com/agenda/rufino-verissimo-diretor-presidente-em-substituicao-reuniao-com-maria-terezinha-da-mota-batista-assessora-tecnica-de-contabilidade-15/
LOCATION:Gabinete da Diretoria de Operações da GoiásFomento – Agência de Fomento de Goiás.
CATEGORIES:Presidência
END:VEVENT
BEGIN:VEVENT
DTSTART;TZID=America/Sao_Paulo:20250422T091500
DTEND;TZID=America/Sao_Paulo:20250422T093000
DTSTAMP:20260422T211518
CREATED:20250422T153414Z
LAST-MODIFIED:20250422T153414Z
UID:42318-1745313300-1745314200@www.goiasfomento.com
SUMMARY:Rufino Veríssimo – Diretor Presidente (Em substituição): Reunião com Camilo R. de Camargo Pires - Gerente de Recuperação de Ativos.
DESCRIPTION:
URL:https://www.goiasfomento.com/agenda/rufino-verissimo-diretor-presidente-em-substituicao-reuniao-com-camilo-r-de-camargo-pires-gerente-de-recuperacao-de-ativos-5/
LOCATION:Gabinete da Diretoria de Operações da GoiásFomento – Agência de Fomento de Goiás.
CATEGORIES:Presidência
END:VEVENT
BEGIN:VEVENT
DTSTART;TZID=America/Sao_Paulo:20250422T093000
DTEND;TZID=America/Sao_Paulo:20250422T100000
DTSTAMP:20260422T211518
CREATED:20250422T153152Z
LAST-MODIFIED:20250422T153152Z
UID:42314-1745314200-1745316000@www.goiasfomento.com
SUMMARY:Rufino Veríssimo – Diretor Presidente (Em substituição): Reunião com Rafael Soffa Rézio – Gerente de Programas e Políticas Sociais.
DESCRIPTION:
URL:https://www.goiasfomento.com/agenda/rufino-verissimo-diretor-presidente-em-substituicao-reuniao-com-rafael-soffa-rezio-gerente-de-programas-e-politicas-sociais-24/
LOCATION:Gabinete da Diretoria de Operações da GoiásFomento – Agência de Fomento de Goiás.
CATEGORIES:Presidência
END:VEVENT
BEGIN:VEVENT
DTSTART;TZID=America/Sao_Paulo:20250422T100000
DTEND;TZID=America/Sao_Paulo:20250422T113000
DTSTAMP:20260422T211518
CREATED:20250422T153727Z
LAST-MODIFIED:20250422T153727Z
UID:42324-1745316000-1745321400@www.goiasfomento.com
SUMMARY:Rufino Veríssimo – Diretor Presidente (Em substituição): Despachos Internos.
DESCRIPTION:
URL:https://www.goiasfomento.com/agenda/rufino-verissimo-diretor-presidente-em-substituicao-despachos-internos-44/
LOCATION:Gabinete da Diretoria de Operações da GoiásFomento – Agência de Fomento de Goiás.
CATEGORIES:Presidência
END:VEVENT
BEGIN:VEVENT
DTSTART;TZID=America/Sao_Paulo:20250422T113000
DTEND;TZID=America/Sao_Paulo:20250422T120000
DTSTAMP:20260422T211518
CREATED:20250422T153832Z
LAST-MODIFIED:20250422T153832Z
UID:42328-1745321400-1745323200@www.goiasfomento.com
SUMMARY:Rufino Veríssimo – Diretor Presidente (Em substituição): Reunião com Rafael Soffa Rézio - Gerente de Programas e Políticas Sociais.
DESCRIPTION:
URL:https://www.goiasfomento.com/agenda/rufino-verissimo-diretor-presidente-em-substituicao-reuniao-com-rafael-soffa-rezio-gerente-de-programas-e-politicas-sociais-25/
LOCATION:Gabinete da Diretoria de Operações da GoiásFomento – Agência de Fomento de Goiás.
CATEGORIES:Presidência
END:VEVENT
BEGIN:VEVENT
DTSTART;TZID=America/Sao_Paulo:20250422T120000
DTEND;TZID=America/Sao_Paulo:20250422T122000
DTSTAMP:20260422T211518
CREATED:20250422T153534Z
LAST-MODIFIED:20250422T153534Z
UID:42320-1745323200-1745324400@www.goiasfomento.com
SUMMARY:Rufino Veríssimo – Diretor Presidente (Em substituição): Reunião com Paulo Cesar Paiva - Assessor de Estratégia e Planejamento.
DESCRIPTION:
URL:https://www.goiasfomento.com/agenda/rufino-verissimo-diretor-presidente-em-substituicao-reuniao-com-paulo-cesar-paiva-assessor-de-estrategia-e-planejamento-20/
LOCATION:Gabinete da Diretoria de Operações da GoiásFomento – Agência de Fomento de Goiás.
CATEGORIES:Presidência
END:VEVENT
BEGIN:VEVENT
DTSTART;TZID=America/Sao_Paulo:20250422T140000
DTEND;TZID=America/Sao_Paulo:20250422T143000
DTSTAMP:20260422T211518
CREATED:20250422T172934Z
LAST-MODIFIED:20250422T172934Z
UID:42332-1745330400-1745332200@www.goiasfomento.com
SUMMARY:Rufino Veríssimo – Diretor Presidente (Em substituição): Reunião com Luiz Arthur Medeiros Miguel - Gerente de Licitação e Contratos.
DESCRIPTION:
URL:https://www.goiasfomento.com/agenda/rufino-verissimo-diretor-presidente-em-substituicao-reuniao-com-luiz-arthur-medeiros-miguel-gerente-de-licitacao-e-contratos-8/
LOCATION:Gabinete da Diretoria de Operações da GoiásFomento – Agência de Fomento de Goiás.
CATEGORIES:Presidência
END:VEVENT
BEGIN:VEVENT
DTSTART;TZID=America/Sao_Paulo:20250422T143000
DTEND;TZID=America/Sao_Paulo:20250422T153000
DTSTAMP:20260422T211518
CREATED:20250422T180322Z
LAST-MODIFIED:20250422T180322Z
UID:42336-1745332200-1745335800@www.goiasfomento.com
SUMMARY:Rufino Veríssimo – Diretor Presidente (Em substituição): Reunião da GoiásFomento com Supermercado Tatico.
DESCRIPTION:
URL:https://www.goiasfomento.com/agenda/rufino-verissimo-diretor-presidente-em-substituicao-reuniao-da-goiasfomento-com-supermercado-tatico/
LOCATION:Sala de Reuniões da Diretoria – Agência de Fomento de Goiás.
CATEGORIES:Presidência
END:VEVENT
BEGIN:VEVENT
DTSTART;TZID=America/Sao_Paulo:20250422T153000
DTEND;TZID=America/Sao_Paulo:20250422T160000
DTSTAMP:20260422T211518
CREATED:20250422T184110Z
LAST-MODIFIED:20250422T184110Z
UID:42340-1745335800-1745337600@www.goiasfomento.com
SUMMARY:Rufino Veríssimo – Diretor Presidente (Em substituição): Reunião com Porthos R. de Albuquerque Motta - Assessor de Gerenciamento de Riscos e Escritório de Projetos.
DESCRIPTION:
URL:https://www.goiasfomento.com/agenda/rufino-verissimo-diretor-presidente-em-substituicao-reuniao-com-porthos-r-de-albuquerque-motta-assessor-de-gerenciamento-de-riscos-e-escritorio-de-projetos-3/
LOCATION:Gabinete da Diretoria de Operações da GoiásFomento – Agência de Fomento de Goiás.
CATEGORIES:Presidência
END:VEVENT
BEGIN:VEVENT
DTSTART;TZID=America/Sao_Paulo:20250422T160000
DTEND;TZID=America/Sao_Paulo:20250422T163000
DTSTAMP:20260422T211518
CREATED:20250422T200026Z
LAST-MODIFIED:20250422T200026Z
UID:42344-1745337600-1745339400@www.goiasfomento.com
SUMMARY:Rufino Veríssimo – Diretor Presidente (Em substituição): Reunião com Rafael Soffa Rézio - Gerente de Programas e Políticas Sociais.
DESCRIPTION:
URL:https://www.goiasfomento.com/agenda/rufino-verissimo-diretor-presidente-em-substituicao-reuniao-com-rafael-soffa-rezio-gerente-de-programas-e-politicas-sociais-26/
LOCATION:Gabinete da Diretoria de Operações da GoiásFomento – Agência de Fomento de Goiás.
CATEGORIES:Presidência
END:VEVENT
BEGIN:VEVENT
DTSTART;TZID=America/Sao_Paulo:20250422T163000
DTEND;TZID=America/Sao_Paulo:20250422T170000
DTSTAMP:20260422T211518
CREATED:20250422T200159Z
LAST-MODIFIED:20250422T200159Z
UID:42348-1745339400-1745341200@www.goiasfomento.com
SUMMARY:Rufino Veríssimo – Diretor Presidente (Em substituição): Reunião com Ariana da Costa Pires Barbosa - Secretaria-Geral e Maria Terezinha da Mota Batista - Assessora Técnica de Contabilidade.
DESCRIPTION:
URL:https://www.goiasfomento.com/agenda/rufino-verissimo-diretor-presidente-em-substituicao-reuniao-com-ariana-da-costa-pires-barbosa-secretaria-geral-e-maria-terezinha-da-mota-batista-assessora-tecnica-de-contabilidade/
LOCATION:Gabinete da Diretoria de Operações da GoiásFomento – Agência de Fomento de Goiás.
CATEGORIES:Presidência
END:VEVENT
BEGIN:VEVENT
DTSTART;TZID=America/Sao_Paulo:20250422T170000
DTEND;TZID=America/Sao_Paulo:20250422T183000
DTSTAMP:20260422T211518
CREATED:20250422T200322Z
LAST-MODIFIED:20250422T200322Z
UID:42352-1745341200-1745346600@www.goiasfomento.com
SUMMARY:Rufino Veríssimo – Diretor Presidente (Em substituição): Despachos Internos.
DESCRIPTION:
URL:https://www.goiasfomento.com/agenda/rufino-verissimo-diretor-presidente-em-substituicao-despachos-internos-45/
LOCATION:Gabinete da Diretoria de Operações da GoiásFomento – Agência de Fomento de Goiás.
CATEGORIES:Presidência
END:VEVENT
BEGIN:VEVENT
DTSTART;TZID=America/Sao_Paulo:20250423T070000
DTEND;TZID=America/Sao_Paulo:20250423T090000
DTSTAMP:20260422T211518
CREATED:20250423T112317Z
LAST-MODIFIED:20250423T112317Z
UID:42357-1745391600-1745398800@www.goiasfomento.com
SUMMARY:Rufino Veríssimo – Diretor Presidente (Em substituição): Despachos Internos.
DESCRIPTION:
URL:https://www.goiasfomento.com/agenda/rufino-verissimo-diretor-presidente-em-substituicao-despachos-internos-46/
LOCATION:Gabinete da Presidência da GoiásFomento – Agência de Fomento de Goiás.
CATEGORIES:Presidência
END:VEVENT
BEGIN:VEVENT
DTSTART;TZID=America/Sao_Paulo:20250423T090000
DTEND;TZID=America/Sao_Paulo:20250423T100000
DTSTAMP:20260422T211518
CREATED:20250423T113830Z
LAST-MODIFIED:20250423T113830Z
UID:42371-1745398800-1745402400@www.goiasfomento.com
SUMMARY:Rufino Veríssimo – Diretor Presidente (Em substituição): Reunião com Gerentes e Assessores da Agência de Fomento de Goiás.
DESCRIPTION:
URL:https://www.goiasfomento.com/agenda/rufino-verissimo-diretor-presidente-em-substituicao-reuniao-com-gerentes-e-assessores-da-agencia-de-fomento-de-goias/
LOCATION:Gabinete da Diretoria de Operações da GoiásFomento – Agência de Fomento de Goiás.
CATEGORIES:Presidência
END:VEVENT
BEGIN:VEVENT
DTSTART;TZID=America/Sao_Paulo:20250423T100000
DTEND;TZID=America/Sao_Paulo:20250423T103000
DTSTAMP:20260422T211518
CREATED:20250423T142253Z
LAST-MODIFIED:20250423T142253Z
UID:42376-1745402400-1745404200@www.goiasfomento.com
SUMMARY:Rufino Veríssimo – Diretor Presidente (Em substituição): Reunião com Bruno Alvarenga Campos Martins - Gerente de Atendimento.
DESCRIPTION:
URL:https://www.goiasfomento.com/agenda/rufino-verissimo-diretor-presidente-em-substituicao-reuniao-com-bruno-alvarenga-campos-martins-gerente-de-atendimento-3/
LOCATION:Gabinete da Diretoria de Operações da GoiásFomento – Agência de Fomento de Goiás.
CATEGORIES:Presidência
END:VEVENT
END:VCALENDAR