BEGIN:VCALENDAR
VERSION:2.0
PRODID:-//GoiásFomento - Agência de Fomento - ECPv6.15.20//NONSGML v1.0//EN
CALSCALE:GREGORIAN
METHOD:PUBLISH
X-ORIGINAL-URL:https://www.goiasfomento.com
X-WR-CALDESC:Eventos para GoiásFomento - Agência de Fomento
REFRESH-INTERVAL;VALUE=DURATION:PT1H
X-Robots-Tag:noindex
X-PUBLISHED-TTL:PT1H
BEGIN:VTIMEZONE
TZID:America/Sao_Paulo
BEGIN:STANDARD
TZOFFSETFROM:-0300
TZOFFSETTO:-0300
TZNAME:-03
DTSTART:20240101T000000
END:STANDARD
END:VTIMEZONE
BEGIN:VEVENT
DTSTART;TZID=America/Sao_Paulo:20250414T150000
DTEND;TZID=America/Sao_Paulo:20250414T153000
DTSTAMP:20260422T150151
CREATED:20250414T183153Z
LAST-MODIFIED:20250414T183325Z
UID:42123-1744642800-1744644600@www.goiasfomento.com
SUMMARY:Rufino Veríssimo – Diretor Presidente (Em substituição): Reunião com Rafael Soffa Rézio - Gerente de Programas e Políticas Sociais.
DESCRIPTION:
URL:https://www.goiasfomento.com/agenda/rufino-verissimo-diretor-presidente-em-substituicao-reuniao-com-rafael-soffa-rezio-gerente-de-programas/
LOCATION:Gabinete da Diretoria de Operações da GoiásFomento – Agência de Fomento de Goiás.
CATEGORIES:Presidência
END:VEVENT
BEGIN:VEVENT
DTSTART;TZID=America/Sao_Paulo:20250414T153000
DTEND;TZID=America/Sao_Paulo:20250414T154500
DTSTAMP:20260422T150151
CREATED:20250414T183446Z
LAST-MODIFIED:20250414T183453Z
UID:42130-1744644600-1744645500@www.goiasfomento.com
SUMMARY:Rufino Veríssimo – Diretor Presidente (Em substituição): Reunião com Gálbia do Amor Divino Rosa - Gerente Jurídica.
DESCRIPTION:
URL:https://www.goiasfomento.com/agenda/rufino-verissimo-diretor-presidente-em-substituicao-reuniao-com-galbia-do-amor-divino-rosa-gerente-juridica-2/
LOCATION:Gabinete da Diretoria de Operações da GoiásFomento – Agência de Fomento de Goiás.
CATEGORIES:Presidência
END:VEVENT
BEGIN:VEVENT
DTSTART;TZID=America/Sao_Paulo:20250414T154500
DTEND;TZID=America/Sao_Paulo:20250414T160000
DTSTAMP:20260422T150151
CREATED:20250414T183611Z
LAST-MODIFIED:20250414T183611Z
UID:42135-1744645500-1744646400@www.goiasfomento.com
SUMMARY:Rufino Veríssimo – Diretor Presidente (Em substituição): Reunião com Kamilla da Silva Vilarinho - Gerente de Cobrança Extrajudicial.
DESCRIPTION:
URL:https://www.goiasfomento.com/agenda/rufino-verissimo-diretor-presidente-em-substituicao-reuniao-com-kamilla-da-silva-vilarinho-gerente-de-cobranca-extrajudicial-2/
LOCATION:Gabinete da Diretoria de Operações da GoiásFomento – Agência de Fomento de Goiás.
CATEGORIES:Presidência
END:VEVENT
BEGIN:VEVENT
DTSTART;TZID=America/Sao_Paulo:20250414T160000
DTEND;TZID=America/Sao_Paulo:20250414T183000
DTSTAMP:20260422T150151
CREATED:20250414T201006Z
LAST-MODIFIED:20250414T201006Z
UID:42143-1744646400-1744655400@www.goiasfomento.com
SUMMARY:Rufino Veríssimo – Diretor Presidente (Em substituição): Despachos Internos.
DESCRIPTION:
URL:https://www.goiasfomento.com/agenda/rufino-verissimo-diretor-presidente-em-substituicao-despachos-internos-38/
LOCATION:Gabinete da Diretoria de Operações da GoiásFomento – Agência de Fomento de Goiás.
CATEGORIES:Presidência
END:VEVENT
BEGIN:VEVENT
DTSTART;TZID=America/Sao_Paulo:20250415T073000
DTEND;TZID=America/Sao_Paulo:20250415T083000
DTSTAMP:20260422T150151
CREATED:20250415T123238Z
LAST-MODIFIED:20250415T123238Z
UID:42147-1744702200-1744705800@www.goiasfomento.com
SUMMARY:Rufino Veríssimo – Diretor Presidente (Em substituição): Despachos Internos.
DESCRIPTION:
URL:https://www.goiasfomento.com/agenda/rufino-verissimo-diretor-presidente-em-substituicao-despachos-internos-39/
LOCATION:Gabinete da Diretoria de Operações da GoiásFomento – Agência de Fomento de Goiás.
CATEGORIES:Presidência
END:VEVENT
BEGIN:VEVENT
DTSTART;TZID=America/Sao_Paulo:20250415T083000
DTEND;TZID=America/Sao_Paulo:20250415T084500
DTSTAMP:20260422T150151
CREATED:20250415T123646Z
LAST-MODIFIED:20250415T123646Z
UID:42151-1744705800-1744706700@www.goiasfomento.com
SUMMARY:Rufino Veríssimo – Diretor Presidente (Em substituição): Reunião com Ariana da Costa Pires Barbosa - Secretaria-Geral.
DESCRIPTION:
URL:https://www.goiasfomento.com/agenda/rufino-verissimo-diretor-presidente-em-substituicao-reuniao-com-ariana-da-costa-pires-barbosa-secretaria-geral-4/
LOCATION:Gabinete da Diretoria de Operações da GoiásFomento – Agência de Fomento de Goiás.
CATEGORIES:Presidência
END:VEVENT
BEGIN:VEVENT
DTSTART;TZID=America/Sao_Paulo:20250415T084500
DTEND;TZID=America/Sao_Paulo:20250415T090000
DTSTAMP:20260422T150151
CREATED:20250415T123747Z
LAST-MODIFIED:20250415T123754Z
UID:42155-1744706700-1744707600@www.goiasfomento.com
SUMMARY:Rufino Veríssimo – Diretor Presidente (Em substituição): Reunião com Maria Terezinha da Mota Batista - Assessora Técnica de Contabilidade.
DESCRIPTION:
URL:https://www.goiasfomento.com/agenda/rufino-verissimo-diretor-presidente-em-substituicao-reuniao-com-maria-terezinha-da-mota-batista-assessora-tecnica-de-contabilidade-13/
LOCATION:Gabinete da Diretoria de Operações da GoiásFomento – Agência de Fomento de Goiás.
CATEGORIES:Presidência
END:VEVENT
BEGIN:VEVENT
DTSTART;TZID=America/Sao_Paulo:20250415T090000
DTEND;TZID=America/Sao_Paulo:20250415T093000
DTSTAMP:20260422T150151
CREATED:20250415T124123Z
LAST-MODIFIED:20250415T124123Z
UID:42159-1744707600-1744709400@www.goiasfomento.com
SUMMARY:Rufino Veríssimo – Diretor Presidente (Em substituição): Reunião com Dep. Issy Quinan\, Empresários e Gerentes da GF.
DESCRIPTION:
URL:https://www.goiasfomento.com/agenda/rufino-verissimo-diretor-presidente-em-substituicao-reuniao-com-dep-issy-quinan-empresarios-e-gerentes-da-gf/
LOCATION:Gabinete da Diretoria de Operações da GoiásFomento – Agência de Fomento de Goiás.
CATEGORIES:Presidência
END:VEVENT
BEGIN:VEVENT
DTSTART;TZID=America/Sao_Paulo:20250415T093000
DTEND;TZID=America/Sao_Paulo:20250415T100000
DTSTAMP:20260422T150151
CREATED:20250415T143945Z
LAST-MODIFIED:20250415T143945Z
UID:42163-1744709400-1744711200@www.goiasfomento.com
SUMMARY:Rufino Veríssimo – Diretor Presidente (Em substituição): Reunião com Wagner Siqueira Coelho - Gerente de Prospecção de Negócios.
DESCRIPTION:
URL:https://www.goiasfomento.com/agenda/rufino-verissimo-diretor-presidente-em-substituicao-reuniao-com-wagner-siqueira-coelho-gerente-de-prospeccao-de-negocios-4/
LOCATION:Gabinete da Diretoria de Operações da GoiásFomento – Agência de Fomento de Goiás.
CATEGORIES:Presidência
END:VEVENT
BEGIN:VEVENT
DTSTART;TZID=America/Sao_Paulo:20250415T100000
DTEND;TZID=America/Sao_Paulo:20250415T101500
DTSTAMP:20260422T150151
CREATED:20250415T145410Z
LAST-MODIFIED:20250415T145410Z
UID:42167-1744711200-1744712100@www.goiasfomento.com
SUMMARY:Rufino Veríssimo – Diretor Presidente (Em substituição): Reunião com Ariana da Costa Pires Barbosa – Secretaria-Geral.
DESCRIPTION:
URL:https://www.goiasfomento.com/agenda/rufino-verissimo-diretor-presidente-em-substituicao-reuniao-com-ariana-da-costa-pires-barbosa-secretaria-geral-5/
LOCATION:Gabinete da Diretoria de Operações da GoiásFomento – Agência de Fomento de Goiás.
CATEGORIES:Presidência
END:VEVENT
BEGIN:VEVENT
DTSTART;TZID=America/Sao_Paulo:20250415T101500
DTEND;TZID=America/Sao_Paulo:20250415T103500
DTSTAMP:20260422T150151
CREATED:20250415T145547Z
LAST-MODIFIED:20250415T145547Z
UID:42171-1744712100-1744713300@www.goiasfomento.com
SUMMARY:Rufino Veríssimo – Diretor Presidente (Em substituição): Reunião com Rafael Soffa Rézio - Gerente de Programas e Políticas Sociais.
DESCRIPTION:
URL:https://www.goiasfomento.com/agenda/rufino-verissimo-diretor-presidente-em-substituicao-reuniao-com-rafael-soffa-rezio-gerente-de-programas-e-politicas-sociais-21/
LOCATION:Gabinete da Diretoria de Operações da GoiásFomento – Agência de Fomento de Goiás.
CATEGORIES:Presidência
END:VEVENT
BEGIN:VEVENT
DTSTART;TZID=America/Sao_Paulo:20250415T103500
DTEND;TZID=America/Sao_Paulo:20250415T104500
DTSTAMP:20260422T150151
CREATED:20250415T150113Z
LAST-MODIFIED:20250415T150313Z
UID:42175-1744713300-1744713900@www.goiasfomento.com
SUMMARY:Rufino Veríssimo – Diretor Presidente (Em substituição): Reunião com Ariana da Costa Pires Barbosa - Secretaria-Geral.
DESCRIPTION:
URL:https://www.goiasfomento.com/agenda/rufino-verissimo-diretor-presidente-em-substituicao-reuniao-com-ariana-da-costa-pires-barbosa-secretaria-geral-6/
LOCATION:Gabinete da Diretoria de Operações da GoiásFomento – Agência de Fomento de Goiás.
CATEGORIES:Presidência
END:VEVENT
BEGIN:VEVENT
DTSTART;TZID=America/Sao_Paulo:20250415T104500
DTEND;TZID=America/Sao_Paulo:20250415T113000
DTSTAMP:20260422T150151
CREATED:20250415T150422Z
LAST-MODIFIED:20250415T150422Z
UID:42179-1744713900-1744716600@www.goiasfomento.com
SUMMARY:Rufino Veríssimo – Diretor Presidente (Em substituição): Reunião com Luiz Arthur Medeiros Miguel - Gerente de Licitação e Contratos.
DESCRIPTION:
URL:https://www.goiasfomento.com/agenda/rufino-verissimo-diretor-presidente-em-substituicao-reuniao-com-luiz-arthur-medeiros-miguel-gerente-de-licitacao-e-contratos-5/
LOCATION:Gabinete da Diretoria de Operações da GoiásFomento – Agência de Fomento de Goiás.
CATEGORIES:Presidência
END:VEVENT
BEGIN:VEVENT
DTSTART;TZID=America/Sao_Paulo:20250415T113000
DTEND;TZID=America/Sao_Paulo:20250415T120000
DTSTAMP:20260422T150151
CREATED:20250415T150705Z
LAST-MODIFIED:20250415T150705Z
UID:42183-1744716600-1744718400@www.goiasfomento.com
SUMMARY:Rufino Veríssimo – Diretor Presidente (Em substituição): Despachos Internos.
DESCRIPTION:
URL:https://www.goiasfomento.com/agenda/rufino-verissimo-diretor-presidente-em-substituicao-despachos-internos-40/
LOCATION:Gabinete da Diretoria de Operações da GoiásFomento – Agência de Fomento de Goiás.
CATEGORIES:Presidência
END:VEVENT
BEGIN:VEVENT
DTSTART;TZID=America/Sao_Paulo:20250415T120000
DTEND;TZID=America/Sao_Paulo:20250415T122000
DTSTAMP:20260422T150151
CREATED:20250415T151630Z
LAST-MODIFIED:20250415T151630Z
UID:42187-1744718400-1744719600@www.goiasfomento.com
SUMMARY:Rufino Veríssimo – Diretor Presidente (Em substituição): Reunião com Fernando Reis - Gerência de Pessoas.
DESCRIPTION:
URL:https://www.goiasfomento.com/agenda/rufino-verissimo-diretor-presidente-em-substituicao-reuniao-com-fernando-reis-gerencia-de-pessoas/
LOCATION:Gabinete da Diretoria de Operações da GoiásFomento – Agência de Fomento de Goiás.
CATEGORIES:Presidência
END:VEVENT
BEGIN:VEVENT
DTSTART;TZID=America/Sao_Paulo:20250415T140000
DTEND;TZID=America/Sao_Paulo:20250415T150000
DTSTAMP:20260422T150151
CREATED:20250415T182030Z
LAST-MODIFIED:20250415T182030Z
UID:42191-1744725600-1744729200@www.goiasfomento.com
SUMMARY:Rufino Veríssimo – Diretor Presidente (Em substituição): Reunião com Rafael Soffa Rézio - Gerente de Programas e Políticas Sociais.
DESCRIPTION:
URL:https://www.goiasfomento.com/agenda/rufino-verissimo-diretor-presidente-em-substituicao-reuniao-com-rafael-soffa-rezio-gerente-de-programas-e-politicas-sociais-22/
LOCATION:Gabinete da Diretoria de Operações da GoiásFomento – Agência de Fomento de Goiás.
CATEGORIES:Presidência
END:VEVENT
BEGIN:VEVENT
DTSTART;TZID=America/Sao_Paulo:20250415T150000
DTEND;TZID=America/Sao_Paulo:20250415T153000
DTSTAMP:20260422T150151
CREATED:20250415T182347Z
LAST-MODIFIED:20250415T182347Z
UID:42201-1744729200-1744731000@www.goiasfomento.com
SUMMARY:Rufino Veríssimo – Diretor Presidente (Em substituição): Reunião com Luiz Arthur Medeiros Miguel - Gerente de Licitação e Contratos.
DESCRIPTION:
URL:https://www.goiasfomento.com/agenda/rufino-verissimo-diretor-presidente-em-substituicao-reuniao-com-luiz-arthur-medeiros-miguel-gerente-de-licitacao-e-contratos-6/
LOCATION:Gabinete da Diretoria de Operações da GoiásFomento – Agência de Fomento de Goiás.
CATEGORIES:Presidência
END:VEVENT
BEGIN:VEVENT
DTSTART;TZID=America/Sao_Paulo:20250415T153000
DTEND;TZID=America/Sao_Paulo:20250415T160000
DTSTAMP:20260422T150151
CREATED:20250415T184136Z
LAST-MODIFIED:20250415T184136Z
UID:42205-1744731000-1744732800@www.goiasfomento.com
SUMMARY:Rufino Veríssimo – Diretor Presidente (Em substituição): Reunião com Maria Terezinha da Mota Batista - Assessora Técnica de Contabilidade.
DESCRIPTION:
URL:https://www.goiasfomento.com/agenda/rufino-verissimo-diretor-presidente-em-substituicao-reuniao-com-maria-terezinha-da-mota-batista-assessora-tecnica-de-contabilidade-14/
LOCATION:Gabinete da Diretoria de Operações da GoiásFomento – Agência de Fomento de Goiás.
CATEGORIES:Presidência
END:VEVENT
BEGIN:VEVENT
DTSTART;TZID=America/Sao_Paulo:20250415T160000
DTEND;TZID=America/Sao_Paulo:20250415T163000
DTSTAMP:20260422T150151
CREATED:20250415T190140Z
LAST-MODIFIED:20250415T190231Z
UID:42209-1744732800-1744734600@www.goiasfomento.com
SUMMARY:Rufino Veríssimo – Diretor Presidente (Em substituição): Reunião: Pauta Entrega Cartões Goiânia - Seds\, GF e Secretária Erizánia- online.
DESCRIPTION:
URL:https://www.goiasfomento.com/agenda/rufino-verissimo-diretor-presidente-em-substituicao-reuniao-online-pauta-entrega-cartoes-goiania-seds-gf-e-secretaria-erizania/
LOCATION:Gabinete da Diretoria de Operações da GoiásFomento – Agência de Fomento de Goiás.
CATEGORIES:Presidência
END:VEVENT
BEGIN:VEVENT
DTSTART;TZID=America/Sao_Paulo:20250415T163000
DTEND;TZID=America/Sao_Paulo:20250415T170000
DTSTAMP:20260422T150151
CREATED:20250415T190606Z
LAST-MODIFIED:20250415T190606Z
UID:42214-1744734600-1744736400@www.goiasfomento.com
SUMMARY:Rufino Veríssimo – Diretor Presidente (Em substituição): Reunião com Paulo Cesar Paiva - Assessor de Estratégia e Planejamento.
DESCRIPTION:
URL:https://www.goiasfomento.com/agenda/rufino-verissimo-diretor-presidente-em-substituicao-reuniao-com-paulo-cesar-paiva-assessor-de-estrategia-e-planejamento-16/
LOCATION:Gabinete da Diretoria de Operações da GoiásFomento – Agência de Fomento de Goiás.
CATEGORIES:Presidência
END:VEVENT
BEGIN:VEVENT
DTSTART;TZID=America/Sao_Paulo:20250415T170000
DTEND;TZID=America/Sao_Paulo:20250415T173000
DTSTAMP:20260422T150151
CREATED:20250415T191410Z
LAST-MODIFIED:20250415T191410Z
UID:42218-1744736400-1744738200@www.goiasfomento.com
SUMMARY:Rufino Veríssimo – Diretor Presidente (Em substituição): Reunião com Darmélia Barbosa - Gerente de Comunicação.
DESCRIPTION:
URL:https://www.goiasfomento.com/agenda/rufino-verissimo-diretor-presidente-em-substituicao-reuniao-com-darmelia-barbosa-gerente-de-comunicacao-5/
LOCATION:Gabinete da Diretoria de Operações da GoiásFomento – Agência de Fomento de Goiás.
CATEGORIES:Presidência
END:VEVENT
BEGIN:VEVENT
DTSTART;TZID=America/Sao_Paulo:20250416T070000
DTEND;TZID=America/Sao_Paulo:20250416T083000
DTSTAMP:20260422T150151
CREATED:20250416T132913Z
LAST-MODIFIED:20250416T132913Z
UID:42224-1744786800-1744792200@www.goiasfomento.com
SUMMARY:Rufino Veríssimo – Diretor Presidente (Em substituição): Despachos Internos.
DESCRIPTION:
URL:https://www.goiasfomento.com/agenda/rufino-verissimo-diretor-presidente-em-substituicao-despachos-internos-41/
LOCATION:Gabinete da Diretoria de Operações da GoiásFomento – Agência de Fomento de Goiás.
CATEGORIES:Presidência
END:VEVENT
BEGIN:VEVENT
DTSTART;TZID=America/Sao_Paulo:20250416T083000
DTEND;TZID=America/Sao_Paulo:20250416T090000
DTSTAMP:20260422T150151
CREATED:20250416T134528Z
LAST-MODIFIED:20250416T134528Z
UID:42232-1744792200-1744794000@www.goiasfomento.com
SUMMARY:Rufino Veríssimo – Diretor Presidente (Em substituição): Reunião com Camilo R. de Camargo Pires - Gerente de Recuperação de Ativos.
DESCRIPTION:
URL:https://www.goiasfomento.com/agenda/rufino-verissimo-diretor-presidente-em-substituicao-reuniao-com-camilo-r-de-camargo-pires-gerente-de-recuperacao-de-ativos-3/
LOCATION:Gabinete da Diretoria de Operações da GoiásFomento – Agência de Fomento de Goiás.
CATEGORIES:Presidência
END:VEVENT
BEGIN:VEVENT
DTSTART;TZID=America/Sao_Paulo:20250416T090000
DTEND;TZID=America/Sao_Paulo:20250416T100000
DTSTAMP:20260422T150151
CREATED:20250416T133147Z
LAST-MODIFIED:20250416T133147Z
UID:42228-1744794000-1744797600@www.goiasfomento.com
SUMMARY:Rufino Veríssimo – Diretor Presidente (Em substituição): Reunião com Dep. Charles Bento\, Empresários e Gerentes da GF.
DESCRIPTION:
URL:https://www.goiasfomento.com/agenda/rufino-verissimo-diretor-presidente-em-substituicao-reuniao-com-dep-charles-bento-empresarios-e-gerentes-da-gf/
LOCATION:Gabinete da Diretoria de Operações da GoiásFomento – Agência de Fomento de Goiás.
CATEGORIES:Presidência
END:VEVENT
BEGIN:VEVENT
DTSTART;TZID=America/Sao_Paulo:20250416T100000
DTEND;TZID=America/Sao_Paulo:20250416T102500
DTSTAMP:20260422T150151
CREATED:20250416T135009Z
LAST-MODIFIED:20250416T142207Z
UID:42236-1744797600-1744799100@www.goiasfomento.com
SUMMARY:Rufino Veríssimo – Diretor Presidente (Em substituição): Reunião com Rafael Soffa Rézio - Gerente de Programas e Políticas Sociais.
DESCRIPTION:
URL:https://www.goiasfomento.com/agenda/rufino-verissimo-diretor-presidente-em-substituicao-reuniao-com-rafael-soffa-rezio-gerente-de-programas-e-politicas-sociais-23/
LOCATION:Gabinete da Diretoria de Operações da GoiásFomento – Agência de Fomento de Goiás.
CATEGORIES:Presidência
END:VEVENT
BEGIN:VEVENT
DTSTART;TZID=America/Sao_Paulo:20250416T102500
DTEND;TZID=America/Sao_Paulo:20250416T104000
DTSTAMP:20260422T150151
CREATED:20250416T135226Z
LAST-MODIFIED:20250416T142548Z
UID:42240-1744799100-1744800000@www.goiasfomento.com
SUMMARY:Rufino Veríssimo – Diretor Presidente (Em substituição): Reunião com Wagner Siqueira Coelho - Gerente de Prospecção de Negócios.
DESCRIPTION:
URL:https://www.goiasfomento.com/agenda/rufino-verissimo-diretor-presidente-em-substituicao-reuniao-com-wagner-siqueira-coelho-gerente-de-prospeccao-de-negocios-5/
LOCATION:Gabinete da Diretoria de Operações da GoiásFomento – Agência de Fomento de Goiás.
CATEGORIES:Presidência
END:VEVENT
BEGIN:VEVENT
DTSTART;TZID=America/Sao_Paulo:20250416T104000
DTEND;TZID=America/Sao_Paulo:20250416T110000
DTSTAMP:20260422T150151
CREATED:20250416T135522Z
LAST-MODIFIED:20250416T142915Z
UID:42245-1744800000-1744801200@www.goiasfomento.com
SUMMARY:Rufino Veríssimo – Diretor Presidente (Em substituição): Reunião com Bruno Alvarenga Campos Martins - Gerente de Atendimento.
DESCRIPTION:
URL:https://www.goiasfomento.com/agenda/rufino-verissimo-diretor-presidente-em-substituicao-reuniao-com-bruno-alvarenga-campos-martins-gerente-de-atendimento-2/
LOCATION:Gabinete da Diretoria de Operações da GoiásFomento – Agência de Fomento de Goiás.
CATEGORIES:Presidência
END:VEVENT
BEGIN:VEVENT
DTSTART;TZID=America/Sao_Paulo:20250416T110000
DTEND;TZID=America/Sao_Paulo:20250416T111500
DTSTAMP:20260422T150151
CREATED:20250416T143222Z
LAST-MODIFIED:20250416T143630Z
UID:42258-1744801200-1744802100@www.goiasfomento.com
SUMMARY:Rufino Veríssimo – Diretor Presidente (Em substituição): Reunião com Paulo Cesar Paiva - Assessor de Estratégia e Planejamento.
DESCRIPTION:
URL:https://www.goiasfomento.com/agenda/rufino-verissimo-diretor-presidente-em-substituicao-reuniao-com-paulo-cesar-paiva-assessor-de-estrategia-e-planejamento-17/
LOCATION:Gabinete da Diretoria de Operações da GoiásFomento – Agência de Fomento de Goiás.
CATEGORIES:Presidência
END:VEVENT
BEGIN:VEVENT
DTSTART;TZID=America/Sao_Paulo:20250416T111500
DTEND;TZID=America/Sao_Paulo:20250416T113000
DTSTAMP:20260422T150151
CREATED:20250416T143750Z
LAST-MODIFIED:20250416T143750Z
UID:42263-1744802100-1744803000@www.goiasfomento.com
SUMMARY:Rufino Veríssimo – Diretor Presidente (Em substituição): Reunião com  Alexsander de Oliveira Linhares - Gerente de Parcerias e Operações Estruturadas.
DESCRIPTION:
URL:https://www.goiasfomento.com/agenda/rufino-verissimo-diretor-presidente-em-substituicao-reuniao-com-alexsander-de-oliveira-linhares-gerente-de-parcerias-e-operacoes-estruturadas-2/
LOCATION:Gabinete da Diretoria de Operações da GoiásFomento – Agência de Fomento de Goiás.
CATEGORIES:Presidência
END:VEVENT
BEGIN:VEVENT
DTSTART;TZID=America/Sao_Paulo:20250416T113000
DTEND;TZID=America/Sao_Paulo:20250416T120000
DTSTAMP:20260422T150151
CREATED:20250416T144054Z
LAST-MODIFIED:20250416T144054Z
UID:42267-1744803000-1744804800@www.goiasfomento.com
SUMMARY:Rufino Veríssimo – Diretor Presidente (Em substituição): Reunião com Maria Terezinha da Mota Batista - Assessora Técnica de Contabilidade e Luiz Arthur Medeiros Miguel - Gerente de Licitação e Contratos.
DESCRIPTION:
URL:https://www.goiasfomento.com/agenda/rufino-verissimo-diretor-presidente-em-substituicao-reuniao-com-maria-terezinha-da-mota-batista-assessora-tecnica-de-contabilidade-e-luiz-arthur-medeiros-miguel-gerente-de-licitacao-e/
LOCATION:Gabinete da Diretoria de Operações da GoiásFomento – Agência de Fomento de Goiás.
CATEGORIES:Presidência
END:VEVENT
END:VCALENDAR