BEGIN:VCALENDAR
VERSION:2.0
PRODID:-//GoiásFomento - Agência de Fomento - ECPv6.15.20//NONSGML v1.0//EN
CALSCALE:GREGORIAN
METHOD:PUBLISH
X-ORIGINAL-URL:https://www.goiasfomento.com
X-WR-CALDESC:Eventos para GoiásFomento - Agência de Fomento
REFRESH-INTERVAL;VALUE=DURATION:PT1H
X-Robots-Tag:noindex
X-PUBLISHED-TTL:PT1H
BEGIN:VTIMEZONE
TZID:America/Sao_Paulo
BEGIN:STANDARD
TZOFFSETFROM:-0300
TZOFFSETTO:-0300
TZNAME:-03
DTSTART:20240101T000000
END:STANDARD
END:VTIMEZONE
BEGIN:VEVENT
DTSTART;TZID=America/Sao_Paulo:20250327T100000
DTEND;TZID=America/Sao_Paulo:20250327T103000
DTSTAMP:20260421T064227
CREATED:20250327T164113Z
LAST-MODIFIED:20250327T164113Z
UID:41459-1743069600-1743071400@www.goiasfomento.com
SUMMARY:Rufino Veríssimo – Diretor Presidente (Em substituição): Reunião com Paulo Cesar Paiva – Assessor de Estratégia e Planejamento.
DESCRIPTION:
URL:https://www.goiasfomento.com/agenda/rufino-verissimo-diretor-presidente-em-substituicao-reuniao-com-paulo-cesar-paiva-assessor-de-estrategia-e-planejamento-6/
LOCATION:Gabinete da Diretoria de Operações da GoiásFomento – Agência de Fomento de Goiás.
CATEGORIES:Presidência
END:VEVENT
BEGIN:VEVENT
DTSTART;TZID=America/Sao_Paulo:20250327T103000
DTEND;TZID=America/Sao_Paulo:20250327T110000
DTSTAMP:20260421T064227
CREATED:20250327T165159Z
LAST-MODIFIED:20250327T165159Z
UID:41463-1743071400-1743073200@www.goiasfomento.com
SUMMARY:Rufino Veríssimo – Diretor Presidente (Em substituição): Despachos Internos.
DESCRIPTION:
URL:https://www.goiasfomento.com/agenda/rufino-verissimo-diretor-presidente-em-substituicao-despachos-internos-10/
LOCATION:Gabinete da Diretoria de Operações da GoiásFomento – Agência de Fomento de Goiás.
CATEGORIES:Presidência
END:VEVENT
BEGIN:VEVENT
DTSTART;TZID=America/Sao_Paulo:20250327T110000
DTEND;TZID=America/Sao_Paulo:20250327T113000
DTSTAMP:20260421T064227
CREATED:20250327T171023Z
LAST-MODIFIED:20250327T171023Z
UID:41465-1743073200-1743075000@www.goiasfomento.com
SUMMARY:Rufino Veríssimo – Diretor Presidente (Em substituição): Reunião com Darmélia Barbosa – Gerente de Comunicação.
DESCRIPTION:
URL:https://www.goiasfomento.com/agenda/rufino-verissimo-diretor-presidente-em-substituicao-reuniao-com-darmelia-barbosa-gerente-de-comunicacao-2/
LOCATION:Gabinete da Diretoria de Operações da GoiásFomento – Agência de Fomento de Goiás.
CATEGORIES:Presidência
END:VEVENT
BEGIN:VEVENT
DTSTART;TZID=America/Sao_Paulo:20250327T113000
DTEND;TZID=America/Sao_Paulo:20250327T120000
DTSTAMP:20260421T064227
CREATED:20250327T172655Z
LAST-MODIFIED:20250327T172655Z
UID:41469-1743075000-1743076800@www.goiasfomento.com
SUMMARY:Rufino Veríssimo – Diretor Presidente (Em substituição): Reunião com Rafael Soffa Rézio – Gerente de Programas e Políticas Sociais.
DESCRIPTION:
URL:https://www.goiasfomento.com/agenda/rufino-verissimo-diretor-presidente-em-substituicao-reuniao-com-rafael-soffa-rezio-gerente-de-programas-e-politicas-sociais-9/
LOCATION:Gabinete da Diretoria de Operações da GoiásFomento – Agência de Fomento de Goiás.
CATEGORIES:Presidência
END:VEVENT
BEGIN:VEVENT
DTSTART;TZID=America/Sao_Paulo:20250327T140000
DTEND;TZID=America/Sao_Paulo:20250327T150000
DTSTAMP:20260421T064227
CREATED:20250327T173932Z
LAST-MODIFIED:20250327T173932Z
UID:41473-1743084000-1743087600@www.goiasfomento.com
SUMMARY:Rufino Veríssimo – Diretor Presidente (Em substituição): Reunião com Camilo R. de Camargo Pires- Gerente de Recuperação de Ativos.
DESCRIPTION:
URL:https://www.goiasfomento.com/agenda/rufino-verissimo-diretor-presidente-em-substituicao-reuniao-com-camilo-r-de-camargo-pires-gerente-de-recuperacao-de-ativos/
LOCATION:Gabinete da Diretoria de Operações da GoiásFomento – Agência de Fomento de Goiás.
CATEGORIES:Presidência
END:VEVENT
BEGIN:VEVENT
DTSTART;TZID=America/Sao_Paulo:20250327T150000
DTEND;TZID=America/Sao_Paulo:20250327T153000
DTSTAMP:20260421T064227
CREATED:20250327T180631Z
LAST-MODIFIED:20250327T180631Z
UID:41480-1743087600-1743089400@www.goiasfomento.com
SUMMARY:Rufino Veríssimo – Diretor Presidente (Em substituição): Reunião com Maria Terezinha da Mota Batista – Assessora Técnica de Contabilidade.
DESCRIPTION:
URL:https://www.goiasfomento.com/agenda/rufino-verissimo-diretor-presidente-em-substituicao-reuniao-com-maria-terezinha-da-mota-batista-assessora-tecnica-de-contabilidade-5/
LOCATION:Gabinete da Diretoria de Operações da GoiásFomento – Agência de Fomento de Goiás.
CATEGORIES:Presidência
END:VEVENT
BEGIN:VEVENT
DTSTART;TZID=America/Sao_Paulo:20250327T153000
DTEND;TZID=America/Sao_Paulo:20250327T160000
DTSTAMP:20260421T064227
CREATED:20250327T182612Z
LAST-MODIFIED:20250327T182612Z
UID:41484-1743089400-1743091200@www.goiasfomento.com
SUMMARY:Rufino Veríssimo – Diretor Presidente (Em substituição): Despachos Internos.
DESCRIPTION:
URL:https://www.goiasfomento.com/agenda/rufino-verissimo-diretor-presidente-em-substituicao-despachos-internos-11/
LOCATION:Gabinete da Diretoria de Operações da GoiásFomento – Agência de Fomento de Goiás.
CATEGORIES:Presidência
END:VEVENT
BEGIN:VEVENT
DTSTART;TZID=America/Sao_Paulo:20250327T160000
DTEND;TZID=America/Sao_Paulo:20250327T190000
DTSTAMP:20260421T064227
CREATED:20250327T192044Z
LAST-MODIFIED:20250327T211922Z
UID:41488-1743091200-1743102000@www.goiasfomento.com
SUMMARY:Rufino Veríssimo – Diretor Presidente (Em substituição): Reunião da Diretoria Executiva com Empresa Inttegra.
DESCRIPTION:
URL:https://www.goiasfomento.com/agenda/rufino-verissimo-diretor-presidente-em-substituicao-reuniao-da-diretoria-executiva-com-empresa-inttegra/
LOCATION:Sala de Reuniões da Diretoria – Agência de Fomento de Goiás.
CATEGORIES:Presidência
END:VEVENT
BEGIN:VEVENT
DTSTART;TZID=America/Sao_Paulo:20250328T070000
DTEND;TZID=America/Sao_Paulo:20250328T083000
DTSTAMP:20260421T064227
CREATED:20250328T153521Z
LAST-MODIFIED:20250408T113520Z
UID:41502-1743145200-1743150600@www.goiasfomento.com
SUMMARY:Rufino Veríssimo – Diretor Presidente (Em substituição): Despachos Internos.
DESCRIPTION:
URL:https://www.goiasfomento.com/agenda/rufino-verissimo-diretor-presidente-em-substituicao-despachos-internos-12/
LOCATION:Gabinete da Diretoria de Operações da GoiásFomento – Agência de Fomento de Goiás.
CATEGORIES:Presidência
END:VEVENT
BEGIN:VEVENT
DTSTART;TZID=America/Sao_Paulo:20250328T083000
DTEND;TZID=America/Sao_Paulo:20250328T110000
DTSTAMP:20260421T064227
CREATED:20250328T154109Z
LAST-MODIFIED:20250328T154148Z
UID:41506-1743150600-1743159600@www.goiasfomento.com
SUMMARY:Rufino Veríssimo – Diretor Presidente (Em substituição): Externa: Café da Manhã com Governador Ronaldo Caiado e a Primeira Dama Gracinha Caiado.
DESCRIPTION:
URL:https://www.goiasfomento.com/agenda/rufino-verissimo-diretor-presidente-em-substituicao-externa-cafe-da-manha-com-governador-ronaldo-caiado-primeira-dama-gracinha-caiado/
LOCATION:Gabinete da Diretoria de Operações da GoiásFomento – Agência de Fomento de Goiás.
CATEGORIES:Presidência
END:VEVENT
BEGIN:VEVENT
DTSTART;TZID=America/Sao_Paulo:20250328T110000
DTEND;TZID=America/Sao_Paulo:20250328T120000
DTSTAMP:20260421T064227
CREATED:20250328T171357Z
LAST-MODIFIED:20250328T171357Z
UID:41514-1743159600-1743163200@www.goiasfomento.com
SUMMARY:Rufino Veríssimo – Diretor Presidente (Em substituição): Despachos Internos.
DESCRIPTION:
URL:https://www.goiasfomento.com/agenda/rufino-verissimo-diretor-presidente-em-substituicao-despachos-internos-13/
LOCATION:Gabinete da Diretoria de Operações da GoiásFomento – Agência de Fomento de Goiás.
CATEGORIES:Presidência
END:VEVENT
BEGIN:VEVENT
DTSTART;TZID=America/Sao_Paulo:20250328T140000
DTEND;TZID=America/Sao_Paulo:20250328T180000
DTSTAMP:20260421T064227
CREATED:20250328T173032Z
LAST-MODIFIED:20250328T173032Z
UID:41518-1743170400-1743184800@www.goiasfomento.com
SUMMARY:Rufino Veríssimo – Diretor Presidente (Em substituição): Despachos Internos.
DESCRIPTION:
URL:https://www.goiasfomento.com/agenda/rufino-verissimo-diretor-presidente-em-substituicao-despachos-internos-14/
LOCATION:Gabinete da Diretoria de Operações da GoiásFomento – Agência de Fomento de Goiás.
CATEGORIES:Presidência
END:VEVENT
BEGIN:VEVENT
DTSTART;TZID=America/Sao_Paulo:20250331T070000
DTEND;TZID=America/Sao_Paulo:20250331T093000
DTSTAMP:20260421T064227
CREATED:20250331T131203Z
LAST-MODIFIED:20250408T112002Z
UID:41535-1743404400-1743413400@www.goiasfomento.com
SUMMARY:Rufino Veríssimo – Diretor Presidente (Em substituição): Despachos Internos.
DESCRIPTION:
URL:https://www.goiasfomento.com/agenda/rufino-verissimo-diretor-presidente-em-substituicao-despachos-internos-15/
LOCATION:Gabinete da Diretoria de Operações da GoiásFomento – Agência de Fomento de Goiás.
CATEGORIES:Presidência
END:VEVENT
BEGIN:VEVENT
DTSTART;TZID=America/Sao_Paulo:20250331T093000
DTEND;TZID=America/Sao_Paulo:20250331T102000
DTSTAMP:20260421T064227
CREATED:20250331T131550Z
LAST-MODIFIED:20250331T131550Z
UID:41539-1743413400-1743416400@www.goiasfomento.com
SUMMARY:Rufino Veríssimo – Diretor Presidente (Em substituição): Reunião com o Pedro Leonardo - Secretário - SEAPA.
DESCRIPTION:
URL:https://www.goiasfomento.com/agenda/rufino-verissimo-diretor-presidente-em-substituicao-reuniao-com-o-pedro-leonardo-secretario-seapa/
LOCATION:Secretaria de Estado de Agricultura\, Pecuária e Abastecimento de Goiás – SEAPA
CATEGORIES:Presidência
END:VEVENT
BEGIN:VEVENT
DTSTART;TZID=America/Sao_Paulo:20250331T102000
DTEND;TZID=America/Sao_Paulo:20250331T113000
DTSTAMP:20260421T064227
CREATED:20250331T144959Z
LAST-MODIFIED:20250331T193439Z
UID:41543-1743416400-1743420600@www.goiasfomento.com
SUMMARY:Rufino Veríssimo – Diretor Presidente (Em substituição): Despachos Internos.
DESCRIPTION:
URL:https://www.goiasfomento.com/agenda/rufino-verissimo-diretor-presidente-em-substituicao-despachos-internos-16/
LOCATION:Gabinete da Diretoria de Operações da GoiásFomento – Agência de Fomento de Goiás.
CATEGORIES:Presidência
END:VEVENT
BEGIN:VEVENT
DTSTART;TZID=America/Sao_Paulo:20250331T113000
DTEND;TZID=America/Sao_Paulo:20250331T120000
DTSTAMP:20260421T064227
CREATED:20250331T145129Z
LAST-MODIFIED:20250331T145129Z
UID:41547-1743420600-1743422400@www.goiasfomento.com
SUMMARY:Rufino Veríssimo – Diretor Presidente (Em substituição): Reunião com Rafael Soffa Rézio – Gerente de Programas e Políticas Sociais.
DESCRIPTION:
URL:https://www.goiasfomento.com/agenda/rufino-verissimo-diretor-presidente-em-substituicao-reuniao-com-rafael-soffa-rezio-gerente-de-programas-e-politicas-sociais-10/
LOCATION:Gabinete da Diretoria de Operações da GoiásFomento – Agência de Fomento de Goiás.
CATEGORIES:Presidência
END:VEVENT
BEGIN:VEVENT
DTSTART;TZID=America/Sao_Paulo:20250331T120000
DTEND;TZID=America/Sao_Paulo:20250331T123000
DTSTAMP:20260421T064227
CREATED:20250331T145902Z
LAST-MODIFIED:20250331T145902Z
UID:41553-1743422400-1743424200@www.goiasfomento.com
SUMMARY:Rufino Veríssimo – Diretor Presidente (Em substituição): Reunião com Rafael Soffa Rézio – Gerente de Programas e Políticas Sociais e José Marco Ferreira de Barri - Gerente Financeiro.
DESCRIPTION:
URL:https://www.goiasfomento.com/agenda/rufino-verissimo-diretor-presidente-em-substituicao-reuniao-com-rafael-soffa-rezio-gerente-de-programas-e-politicas-sociais-e-jose-marco-ferreira-de-barri-gerente-financeiro-2/
LOCATION:Gabinete da Diretoria de Operações da GoiásFomento – Agência de Fomento de Goiás.
CATEGORIES:Presidência
END:VEVENT
BEGIN:VEVENT
DTSTART;TZID=America/Sao_Paulo:20250331T140000
DTEND;TZID=America/Sao_Paulo:20250331T143000
DTSTAMP:20260421T064227
CREATED:20250331T184543Z
LAST-MODIFIED:20250331T184543Z
UID:41561-1743429600-1743431400@www.goiasfomento.com
SUMMARY:Rufino Veríssimo – Diretor Presidente (Em substituição): Despachos Internos.
DESCRIPTION:
URL:https://www.goiasfomento.com/agenda/rufino-verissimo-diretor-presidente-em-substituicao-despachos-internos-17/
LOCATION:Gabinete da Diretoria de Operações da GoiásFomento – Agência de Fomento de Goiás.
CATEGORIES:Presidência
END:VEVENT
BEGIN:VEVENT
DTSTART;TZID=America/Sao_Paulo:20250331T143000
DTEND;TZID=America/Sao_Paulo:20250331T153000
DTSTAMP:20260421T064227
CREATED:20250331T184424Z
LAST-MODIFIED:20250331T184424Z
UID:41557-1743431400-1743435000@www.goiasfomento.com
SUMMARY:Rufino Veríssimo – Diretor Presidente (Em substituição): Reunião com Maria Terezinha - ASTEC\, Álvaro Augusto - ASCIC e Márcio Jacinto - AUDIN.
DESCRIPTION:
URL:https://www.goiasfomento.com/agenda/rufino-verissimo-diretor-presidente-em-substituicao-reuniao-com-maria-terezinha-astec-alvaro-augusto-ascic-e-marcio-jacinto-audin/
LOCATION:Gabinete da Diretoria de Operações da GoiásFomento – Agência de Fomento de Goiás.
CATEGORIES:Presidência
END:VEVENT
BEGIN:VEVENT
DTSTART;TZID=America/Sao_Paulo:20250331T153000
DTEND;TZID=America/Sao_Paulo:20250331T163000
DTSTAMP:20260421T064227
CREATED:20250331T193027Z
LAST-MODIFIED:20250331T193128Z
UID:41566-1743435000-1743438600@www.goiasfomento.com
SUMMARY:Rufino Veríssimo – Diretor Presidente (Em substituição): Reunião com Luiz  Sardinha - GETEC\, Bruno  Martins - GEATE  e Luiz Alberto - Gerente da Rede Credenciada.
DESCRIPTION:
URL:https://www.goiasfomento.com/agenda/rufino-verissimo-diretor-presidente-em-substituicao-reuniao-com-luiz-sardinha-getec-bruno-martins-geate-e-luiz-alberto-gerente-da-rede-credenciada/
LOCATION:Gabinete da Diretoria de Operações da GoiásFomento – Agência de Fomento de Goiás.
CATEGORIES:Presidência
END:VEVENT
BEGIN:VEVENT
DTSTART;TZID=America/Sao_Paulo:20250331T163000
DTEND;TZID=America/Sao_Paulo:20250331T180000
DTSTAMP:20260421T064227
CREATED:20250331T194817Z
LAST-MODIFIED:20250331T194817Z
UID:41571-1743438600-1743444000@www.goiasfomento.com
SUMMARY:Rufino Veríssimo – Diretor Presidente (Em substituição): Despachos Internos.
DESCRIPTION:
URL:https://www.goiasfomento.com/agenda/rufino-verissimo-diretor-presidente-em-substituicao-despachos-internos-18/
LOCATION:Gabinete da Diretoria de Operações da GoiásFomento – Agência de Fomento de Goiás.
CATEGORIES:Presidência
END:VEVENT
BEGIN:VEVENT
DTSTART;TZID=America/Sao_Paulo:20250401T070000
DTEND;TZID=America/Sao_Paulo:20250401T083000
DTSTAMP:20260421T064227
CREATED:20250401T125532Z
LAST-MODIFIED:20250408T111751Z
UID:41575-1743490800-1743496200@www.goiasfomento.com
SUMMARY:Rufino Veríssimo – Diretor Presidente (Em substituição): Despachos Internos.
DESCRIPTION:
URL:https://www.goiasfomento.com/agenda/rufino-verissimo-diretor-presidente-em-substituicao-despachos-internos-19/
LOCATION:Gabinete da Diretoria de Operações da GoiásFomento – Agência de Fomento de Goiás.
CATEGORIES:Presidência
END:VEVENT
BEGIN:VEVENT
DTSTART;TZID=America/Sao_Paulo:20250401T080000
DTEND;TZID=America/Sao_Paulo:20250401T170000
DTSTAMP:20260421T064227
CREATED:20250401T175626Z
LAST-MODIFIED:20250401T175626Z
UID:41632-1743494400-1743526800@www.goiasfomento.com
SUMMARY:Rufino Veríssimo – Diretor Presidente (Em substituição): Reunião com Márcio Jacinto de Deus - Auditor Interno.
DESCRIPTION:
URL:https://www.goiasfomento.com/agenda/rufino-verissimo-diretor-presidente-em-substituicao-reuniao-com-marcio-jacinto-de-deus-auditor-interno/
LOCATION:Gabinete da Diretoria de Operações da GoiásFomento – Agência de Fomento de Goiás.
CATEGORIES:Presidência
END:VEVENT
BEGIN:VEVENT
DTSTART;TZID=America/Sao_Paulo:20250401T083000
DTEND;TZID=America/Sao_Paulo:20250401T090000
DTSTAMP:20260421T064227
CREATED:20250401T125647Z
LAST-MODIFIED:20250401T125647Z
UID:41579-1743496200-1743498000@www.goiasfomento.com
SUMMARY:Rufino Veríssimo – Diretor Presidente (Em substituição): Reunião com Deivison Rodrigues da Costa Soares - Chefe de Gabinete.
DESCRIPTION:
URL:https://www.goiasfomento.com/agenda/rufino-verissimo-diretor-presidente-em-substituicao-reuniao-com-deivison-rodrigues-da-costa-soares-chefe-de-gabinete-2/
LOCATION:Gabinete da Diretoria de Operações da GoiásFomento – Agência de Fomento de Goiás.
CATEGORIES:Presidência
END:VEVENT
BEGIN:VEVENT
DTSTART;TZID=America/Sao_Paulo:20250401T090000
DTEND;TZID=America/Sao_Paulo:20250401T093000
DTSTAMP:20260421T064228
CREATED:20250401T125805Z
LAST-MODIFIED:20250401T125805Z
UID:41583-1743498000-1743499800@www.goiasfomento.com
SUMMARY:Rufino Veríssimo – Diretor Presidente (Em substituição): Reunião com Paulo Cesar Paiva – Assessor de Estratégia e Planejamento.
DESCRIPTION:
URL:https://www.goiasfomento.com/agenda/rufino-verissimo-diretor-presidente-em-substituicao-reuniao-com-paulo-cesar-paiva-assessor-de-estrategia-e-planejamento-7/
LOCATION:Gabinete da Diretoria de Operações da GoiásFomento – Agência de Fomento de Goiás.
CATEGORIES:Presidência
END:VEVENT
BEGIN:VEVENT
DTSTART;TZID=America/Sao_Paulo:20250401T093000
DTEND;TZID=America/Sao_Paulo:20250401T100000
DTSTAMP:20260421T064228
CREATED:20250401T131119Z
LAST-MODIFIED:20250401T131119Z
UID:41597-1743499800-1743501600@www.goiasfomento.com
SUMMARY:Rufino Veríssimo – Diretor Presidente (Em substituição): Reunião com Wagner Siqueira Coelho – Gerente de Prospecção de Negócios
DESCRIPTION:
URL:https://www.goiasfomento.com/agenda/rufino-verissimo-diretor-presidente-em-substituicao-reuniao-com-wagner-siqueira-coelho-gerente-de-prospeccao-de-negocios-2/
LOCATION:Gabinete da Diretoria de Operações da GoiásFomento – Agência de Fomento de Goiás.
CATEGORIES:Presidência
END:VEVENT
BEGIN:VEVENT
DTSTART;TZID=America/Sao_Paulo:20250401T100000
DTEND;TZID=America/Sao_Paulo:20250401T103000
DTSTAMP:20260421T064228
CREATED:20250401T131330Z
LAST-MODIFIED:20250401T131330Z
UID:41602-1743501600-1743503400@www.goiasfomento.com
SUMMARY:Rufino Veríssimo – Diretor Presidente (Em substituição): Reunião com Rafael Soffa Rézio – Gerente de Programas e Políticas Sociais.
DESCRIPTION:
URL:https://www.goiasfomento.com/agenda/rufino-verissimo-diretor-presidente-em-substituicao-reuniao-com-rafael-soffa-rezio-gerente-de-programas-e-politicas-sociais-11/
LOCATION:Gabinete da Diretoria de Operações da GoiásFomento – Agência de Fomento de Goiás.
CATEGORIES:Presidência
END:VEVENT
BEGIN:VEVENT
DTSTART;TZID=America/Sao_Paulo:20250401T103000
DTEND;TZID=America/Sao_Paulo:20250401T113000
DTSTAMP:20260421T064228
CREATED:20250401T143445Z
LAST-MODIFIED:20250401T143445Z
UID:41607-1743503400-1743507000@www.goiasfomento.com
SUMMARY:Rufino Veríssimo – Diretor Presidente (Em substituição): Despachos Internos.
DESCRIPTION:
URL:https://www.goiasfomento.com/agenda/rufino-verissimo-diretor-presidente-em-substituicao-despachos-internos-20/
LOCATION:Gabinete da Diretoria de Operações da GoiásFomento – Agência de Fomento de Goiás.
CATEGORIES:Presidência
END:VEVENT
BEGIN:VEVENT
DTSTART;TZID=America/Sao_Paulo:20250401T113000
DTEND;TZID=America/Sao_Paulo:20250401T120000
DTSTAMP:20260421T064228
CREATED:20250401T152738Z
LAST-MODIFIED:20250401T152738Z
UID:41613-1743507000-1743508800@www.goiasfomento.com
SUMMARY:Rufino Veríssimo – Diretor Presidente (Em substituição): Reunião com Rafael Soffa Rézio – Gerente de Programas e Políticas Sociais.
DESCRIPTION:
URL:https://www.goiasfomento.com/agenda/rufino-verissimo-diretor-presidente-em-substituicao-reuniao-com-rafael-soffa-rezio-gerente-de-programas-e-politicas-sociais-12/
LOCATION:Gabinete da Diretoria de Operações da GoiásFomento – Agência de Fomento de Goiás.
CATEGORIES:Presidência
END:VEVENT
BEGIN:VEVENT
DTSTART;TZID=America/Sao_Paulo:20250401T120000
DTEND;TZID=America/Sao_Paulo:20250401T123000
DTSTAMP:20260421T064228
CREATED:20250401T152900Z
LAST-MODIFIED:20250401T152900Z
UID:41617-1743508800-1743510600@www.goiasfomento.com
SUMMARY:Rufino Veríssimo – Diretor Presidente (Em substituição): Reunião com Paulo Cesar Paiva – Assessor de Estratégia e Planejamento.
DESCRIPTION:
URL:https://www.goiasfomento.com/agenda/rufino-verissimo-diretor-presidente-em-substituicao-reuniao-com-paulo-cesar-paiva-assessor-de-estrategia-e-planejamento-8/
LOCATION:Gabinete da Diretoria de Operações da GoiásFomento – Agência de Fomento de Goiás.
CATEGORIES:Presidência
END:VEVENT
END:VCALENDAR