BEGIN:VCALENDAR
VERSION:2.0
PRODID:-//GoiásFomento - Agência de Fomento - ECPv6.15.20//NONSGML v1.0//EN
CALSCALE:GREGORIAN
METHOD:PUBLISH
X-WR-CALNAME:GoiásFomento - Agência de Fomento
X-ORIGINAL-URL:https://www.goiasfomento.com
X-WR-CALDESC:Eventos para GoiásFomento - Agência de Fomento
REFRESH-INTERVAL;VALUE=DURATION:PT1H
X-Robots-Tag:noindex
X-PUBLISHED-TTL:PT1H
BEGIN:VTIMEZONE
TZID:America/Sao_Paulo
BEGIN:STANDARD
TZOFFSETFROM:-0300
TZOFFSETTO:-0300
TZNAME:-03
DTSTART:20250101T000000
END:STANDARD
END:VTIMEZONE
BEGIN:VEVENT
DTSTART;TZID=America/Sao_Paulo:20260408T080000
DTEND;TZID=America/Sao_Paulo:20260408T120000
DTSTAMP:20260423T224139
CREATED:20260410T140106Z
LAST-MODIFIED:20260410T140106Z
UID:49618-1775635200-1775649600@www.goiasfomento.com
SUMMARY:Rivael Aguiar Pereira: Atendimentos e Despachos Internos
DESCRIPTION:
URL:https://www.goiasfomento.com/agenda/rivael-aguiar-pereira-atendimentos-e-despachos-internos-340/
CATEGORIES:Presidência
END:VEVENT
BEGIN:VEVENT
DTSTART;TZID=America/Sao_Paulo:20260408T140000
DTEND;TZID=America/Sao_Paulo:20260408T190000
DTSTAMP:20260423T224139
CREATED:20260410T140239Z
LAST-MODIFIED:20260410T140251Z
UID:49620-1775656800-1775674800@www.goiasfomento.com
SUMMARY:Rivael Aguiar Pereira: Conecta GoiasFomento 2026 no SEBRAE
DESCRIPTION:O encontro será um momento importante de alinhamento institucional\, no qual os diretores apresentarão as principais novidades\, as ações em andamento\, os planos estratégicos e as diretrizes da GoiásFomento para o próximo período.\nSerá também o momento de darmos as boas-vindas aos novos servidores aprovados no concurso de 2025.
URL:https://www.goiasfomento.com/agenda/rivael-aguiar-pereira-conecta-goiasfomento-2026-no-sebrae/
CATEGORIES:Presidência
END:VEVENT
END:VCALENDAR