BEGIN:VCALENDAR
VERSION:2.0
PRODID:-//GoiásFomento - Agência de Fomento - ECPv6.15.20//NONSGML v1.0//EN
CALSCALE:GREGORIAN
METHOD:PUBLISH
X-ORIGINAL-URL:https://www.goiasfomento.com
X-WR-CALDESC:Eventos para GoiásFomento - Agência de Fomento
REFRESH-INTERVAL;VALUE=DURATION:PT1H
X-Robots-Tag:noindex
X-PUBLISHED-TTL:PT1H
BEGIN:VTIMEZONE
TZID:America/Sao_Paulo
BEGIN:STANDARD
TZOFFSETFROM:-0300
TZOFFSETTO:-0300
TZNAME:-03
DTSTART:20250101T000000
END:STANDARD
END:VTIMEZONE
BEGIN:VEVENT
DTSTART;TZID=America/Sao_Paulo:20260331T080000
DTEND;TZID=America/Sao_Paulo:20260331T120000
DTSTAMP:20260423T212726
CREATED:20260331T183417Z
LAST-MODIFIED:20260331T183417Z
UID:49511-1774944000-1774958400@www.goiasfomento.com
SUMMARY:Rivael Aguiar Pereira: Atendimentos e Despachos Internos
DESCRIPTION:
URL:https://www.goiasfomento.com/agenda/rivael-aguiar-pereira-atendimentos-e-despachos-internos-334/
CATEGORIES:Presidência
END:VEVENT
BEGIN:VEVENT
DTSTART;TZID=America/Sao_Paulo:20260331T140000
DTEND;TZID=America/Sao_Paulo:20260331T180000
DTSTAMP:20260423T212726
CREATED:20260406T115143Z
LAST-MODIFIED:20260406T115143Z
UID:49525-1774965600-1774980000@www.goiasfomento.com
SUMMARY:Rivael Aguiar Pereira: Solenidade de Posse e Transmissão de Cargo do Vice-Governador Daniel Vilela no cargo de Governador do Estado de Goiás.
DESCRIPTION:
URL:https://www.goiasfomento.com/agenda/rivael-aguiar-pereira-solenidade-de-posse-e-transmissao-de-cargo-do-vice-governador-daniel-vilela-no-cargo-de-governador-do-estado-de-goias/
CATEGORIES:Presidência
END:VEVENT
END:VCALENDAR