BEGIN:VCALENDAR
VERSION:2.0
PRODID:-//GoiásFomento - Agência de Fomento - ECPv6.15.20//NONSGML v1.0//EN
CALSCALE:GREGORIAN
METHOD:PUBLISH
X-WR-CALNAME:GoiásFomento - Agência de Fomento
X-ORIGINAL-URL:https://www.goiasfomento.com
X-WR-CALDESC:Eventos para GoiásFomento - Agência de Fomento
REFRESH-INTERVAL;VALUE=DURATION:PT1H
X-Robots-Tag:noindex
X-PUBLISHED-TTL:PT1H
BEGIN:VTIMEZONE
TZID:America/Sao_Paulo
BEGIN:STANDARD
TZOFFSETFROM:-0300
TZOFFSETTO:-0300
TZNAME:-03
DTSTART:20250101T000000
END:STANDARD
END:VTIMEZONE
BEGIN:VEVENT
DTSTART;TZID=America/Sao_Paulo:20260325T080000
DTEND;TZID=America/Sao_Paulo:20260325T120000
DTSTAMP:20260423T225237
CREATED:20260325T130342Z
LAST-MODIFIED:20260325T130342Z
UID:49421-1774425600-1774440000@www.goiasfomento.com
SUMMARY:Rivael Aguiar Pereira: Atendimentos e Despachos Internos
DESCRIPTION:
URL:https://www.goiasfomento.com/agenda/rivael-aguiar-pereira-atendimentos-e-despachos-internos-325/
CATEGORIES:Presidência
END:VEVENT
BEGIN:VEVENT
DTSTART;TZID=America/Sao_Paulo:20260325T140000
DTEND;TZID=America/Sao_Paulo:20260325T160000
DTSTAMP:20260423T225237
CREATED:20260325T130532Z
LAST-MODIFIED:20260325T130532Z
UID:49424-1774447200-1774454400@www.goiasfomento.com
SUMMARY:Rivael Aguiar Pereira: Inauguração do Centro de Excelência em Saúde Unica - CESU AGRO
DESCRIPTION:
URL:https://www.goiasfomento.com/agenda/rivael-aguiar-pereira-inauguracao-do-centro-de-excelencia-em-saude-unica-cesu-agro/
CATEGORIES:Presidência
END:VEVENT
BEGIN:VEVENT
DTSTART;TZID=America/Sao_Paulo:20260325T160000
DTEND;TZID=America/Sao_Paulo:20260325T183000
DTSTAMP:20260423T225237
CREATED:20260325T130656Z
LAST-MODIFIED:20260325T130656Z
UID:49427-1774454400-1774463400@www.goiasfomento.com
SUMMARY:Rivael Aguiar Pereira:  4º Encontro Estadual de Primeiras-Damas do Estado de Goiás
DESCRIPTION:
URL:https://www.goiasfomento.com/agenda/rivael-aguiar-pereira-4o-encontro-estadual-de-primeiras-damas-do-estado-de-goias/
CATEGORIES:Presidência
END:VEVENT
END:VCALENDAR