BEGIN:VCALENDAR
VERSION:2.0
PRODID:-//GoiásFomento - Agência de Fomento - ECPv6.15.20//NONSGML v1.0//EN
CALSCALE:GREGORIAN
METHOD:PUBLISH
X-ORIGINAL-URL:https://www.goiasfomento.com
X-WR-CALDESC:Eventos para GoiásFomento - Agência de Fomento
REFRESH-INTERVAL;VALUE=DURATION:PT1H
X-Robots-Tag:noindex
X-PUBLISHED-TTL:PT1H
BEGIN:VTIMEZONE
TZID:America/Sao_Paulo
BEGIN:STANDARD
TZOFFSETFROM:-0300
TZOFFSETTO:-0300
TZNAME:-03
DTSTART:20250101T000000
END:STANDARD
END:VTIMEZONE
BEGIN:VEVENT
DTSTART;TZID=America/Sao_Paulo:20260324T080000
DTEND;TZID=America/Sao_Paulo:20260324T120000
DTSTAMP:20260423T225255
CREATED:20260325T124902Z
LAST-MODIFIED:20260325T124902Z
UID:49414-1774339200-1774353600@www.goiasfomento.com
SUMMARY:Rivael Aguiar Pereira:  GOIÁS SOCIAL - SENADOR CANEDO
DESCRIPTION:
URL:https://www.goiasfomento.com/agenda/rivael-aguiar-pereira-goias-social-senador-canedo/
LOCATION:Paço Municipal de Senador Canedo – Goiás.
CATEGORIES:Presidência
END:VEVENT
BEGIN:VEVENT
DTSTART;TZID=America/Sao_Paulo:20260324T123000
DTEND;TZID=America/Sao_Paulo:20260324T133000
DTSTAMP:20260423T225255
CREATED:20260325T125102Z
LAST-MODIFIED:20260325T125102Z
UID:49417-1774355400-1774359000@www.goiasfomento.com
SUMMARY:Rivael Aguiar Pereira: CONVITE - ALMOÇO COM EMBAIXADA EUA NA SGPA
DESCRIPTION:
URL:https://www.goiasfomento.com/agenda/rivael-aguiar-pereira-convite-almoco-com-embaixada-eua-na-sgpa/
CATEGORIES:Presidência
END:VEVENT
BEGIN:VEVENT
DTSTART;TZID=America/Sao_Paulo:20260324T140000
DTEND;TZID=America/Sao_Paulo:20260324T180000
DTSTAMP:20260423T225255
CREATED:20260325T125352Z
LAST-MODIFIED:20260325T125352Z
UID:49419-1774360800-1774375200@www.goiasfomento.com
SUMMARY:Rivael Aguiar Pereira: Atendimentos e Despachos Internos
DESCRIPTION:
URL:https://www.goiasfomento.com/agenda/rivael-aguiar-pereira-atendimentos-e-despachos-internos-324/
CATEGORIES:Presidência
END:VEVENT
END:VCALENDAR