BEGIN:VCALENDAR
VERSION:2.0
PRODID:-//GoiásFomento - Agência de Fomento - ECPv6.15.20//NONSGML v1.0//EN
CALSCALE:GREGORIAN
METHOD:PUBLISH
X-ORIGINAL-URL:https://www.goiasfomento.com
X-WR-CALDESC:Eventos para GoiásFomento - Agência de Fomento
REFRESH-INTERVAL;VALUE=DURATION:PT1H
X-Robots-Tag:noindex
X-PUBLISHED-TTL:PT1H
BEGIN:VTIMEZONE
TZID:America/Sao_Paulo
BEGIN:STANDARD
TZOFFSETFROM:-0300
TZOFFSETTO:-0300
TZNAME:-03
DTSTART:20250101T000000
END:STANDARD
END:VTIMEZONE
BEGIN:VEVENT
DTSTART;TZID=America/Sao_Paulo:20260318T080000
DTEND;TZID=America/Sao_Paulo:20260318T120000
DTSTAMP:20260423T225254
CREATED:20260318T135655Z
LAST-MODIFIED:20260318T135655Z
UID:49308-1773820800-1773835200@www.goiasfomento.com
SUMMARY:Rivael Aguiar Pereira: Evento Finep pelo Brasil  - HUB GOIÁS
DESCRIPTION:
URL:https://www.goiasfomento.com/agenda/rivael-aguiar-pereira-evento-finep-pelo-brasil-hub-goias/
LOCATION:rua 261\, 384 setor leste universitário
CATEGORIES:Presidência
END:VEVENT
BEGIN:VEVENT
DTSTART;TZID=America/Sao_Paulo:20260318T140000
DTEND;TZID=America/Sao_Paulo:20260318T180000
DTSTAMP:20260423T225254
CREATED:20260318T135927Z
LAST-MODIFIED:20260318T135927Z
UID:49311-1773842400-1773856800@www.goiasfomento.com
SUMMARY:Rivael Aguiar Pereira: Atendimentos e Despachos Internos
DESCRIPTION:
URL:https://www.goiasfomento.com/agenda/rivael-aguiar-pereira-atendimentos-e-despachos-internos-319/
LOCATION:Agência de Fomento de Goiás.
CATEGORIES:Presidência
END:VEVENT
END:VCALENDAR