BEGIN:VCALENDAR
VERSION:2.0
PRODID:-//GoiásFomento - Agência de Fomento - ECPv6.15.20//NONSGML v1.0//EN
CALSCALE:GREGORIAN
METHOD:PUBLISH
X-ORIGINAL-URL:https://www.goiasfomento.com
X-WR-CALDESC:Eventos para GoiásFomento - Agência de Fomento
REFRESH-INTERVAL;VALUE=DURATION:PT1H
X-Robots-Tag:noindex
X-PUBLISHED-TTL:PT1H
BEGIN:VTIMEZONE
TZID:America/Sao_Paulo
BEGIN:STANDARD
TZOFFSETFROM:-0300
TZOFFSETTO:-0300
TZNAME:-03
DTSTART:20250101T000000
END:STANDARD
END:VTIMEZONE
BEGIN:VEVENT
DTSTART;TZID=America/Sao_Paulo:20260224T080000
DTEND;TZID=America/Sao_Paulo:20260224T100000
DTSTAMP:20260423T225922
CREATED:20260225T130118Z
LAST-MODIFIED:20260225T130118Z
UID:48687-1771920000-1771927200@www.goiasfomento.com
SUMMARY:Rivael Aguiar Pereira: Atendimentos e Despachos Internos
DESCRIPTION:
URL:https://www.goiasfomento.com/agenda/rivael-aguiar-pereira-atendimentos-e-despachos-internos-288/
CATEGORIES:Presidência
END:VEVENT
BEGIN:VEVENT
DTSTART;TZID=America/Sao_Paulo:20260224T100000
DTEND;TZID=America/Sao_Paulo:20260224T120000
DTSTAMP:20260423T225922
CREATED:20260225T131014Z
LAST-MODIFIED:20260225T131014Z
UID:48689-1771927200-1771934400@www.goiasfomento.com
SUMMARY:Rivael Aguiar Pereira:  Reunião de alinhamento e planejamento estratégico com o Sebrae.
DESCRIPTION:Participantes da GoiásFomento:  \nVinícius de Cecílio Luz – Diretor de Operações\nBruno Alvarenga Campos Martins –  Gerente de Atendimento\nWagner Siqueira Coelho –  Gerente de Prospecção de Negócios\nRaphaella Ferreira Guimarães – Gerente de Parcerias e Operações Estruturadas\nFabiana Cristina Benatti – Assessora de Orientação e Apoio ao Empreendedor\nLuiz Alberto de Sousa Filho – Gerente da Rede Credenciada\nKamilla da Silva Vilarinho – Gerente de Cobrança Extrajudicial \nParticipante do Sebrae:\nGustavo Ribeiro
URL:https://www.goiasfomento.com/agenda/rivael-aguiar-pereira-reuniao-de-alinhamento-e-planejamento-estrategico-com-o-sebrae/
CATEGORIES:Presidência
END:VEVENT
BEGIN:VEVENT
DTSTART;TZID=America/Sao_Paulo:20260224T140000
DTEND;TZID=America/Sao_Paulo:20260224T180000
DTSTAMP:20260423T225922
CREATED:20260225T131102Z
LAST-MODIFIED:20260225T131102Z
UID:48692-1771941600-1771956000@www.goiasfomento.com
SUMMARY:Rivael Aguiar Pereira: Atendimentos e Despachos Internos
DESCRIPTION:
URL:https://www.goiasfomento.com/agenda/rivael-aguiar-pereira-atendimentos-e-despachos-internos-289/
CATEGORIES:Presidência
END:VEVENT
END:VCALENDAR