BEGIN:VCALENDAR
VERSION:2.0
PRODID:-//GoiásFomento - Agência de Fomento - ECPv6.15.20//NONSGML v1.0//EN
CALSCALE:GREGORIAN
METHOD:PUBLISH
X-ORIGINAL-URL:https://www.goiasfomento.com
X-WR-CALDESC:Eventos para GoiásFomento - Agência de Fomento
REFRESH-INTERVAL;VALUE=DURATION:PT1H
X-Robots-Tag:noindex
X-PUBLISHED-TTL:PT1H
BEGIN:VTIMEZONE
TZID:America/Sao_Paulo
BEGIN:STANDARD
TZOFFSETFROM:-0300
TZOFFSETTO:-0300
TZNAME:-03
DTSTART:20250101T000000
END:STANDARD
END:VTIMEZONE
BEGIN:VEVENT
DTSTART;TZID=America/Sao_Paulo:20260223T080000
DTEND;TZID=America/Sao_Paulo:20260223T120000
DTSTAMP:20260423T225922
CREATED:20260223T125959Z
LAST-MODIFIED:20260223T125959Z
UID:48561-1771833600-1771848000@www.goiasfomento.com
SUMMARY:Rivael Aguiar Pereira: Atendimentos e Despachos Internos
DESCRIPTION:
URL:https://www.goiasfomento.com/agenda/rivael-aguiar-pereira-atendimentos-e-despachos-internos-286/
CATEGORIES:Presidência
END:VEVENT
BEGIN:VEVENT
DTSTART;TZID=America/Sao_Paulo:20260223T140000
DTEND;TZID=America/Sao_Paulo:20260223T180000
DTSTAMP:20260423T225922
CREATED:20260223T130055Z
LAST-MODIFIED:20260223T130055Z
UID:48563-1771855200-1771869600@www.goiasfomento.com
SUMMARY:Rivael Aguiar Pereira: Atendimentos e Despachos Internos
DESCRIPTION:
URL:https://www.goiasfomento.com/agenda/rivael-aguiar-pereira-atendimentos-e-despachos-internos-287/
CATEGORIES:Presidência
END:VEVENT
END:VCALENDAR