BEGIN:VCALENDAR
VERSION:2.0
PRODID:-//GoiásFomento - Agência de Fomento - ECPv6.15.20//NONSGML v1.0//EN
CALSCALE:GREGORIAN
METHOD:PUBLISH
X-ORIGINAL-URL:https://www.goiasfomento.com
X-WR-CALDESC:Eventos para GoiásFomento - Agência de Fomento
REFRESH-INTERVAL;VALUE=DURATION:PT1H
X-Robots-Tag:noindex
X-PUBLISHED-TTL:PT1H
BEGIN:VTIMEZONE
TZID:America/Sao_Paulo
BEGIN:STANDARD
TZOFFSETFROM:-0300
TZOFFSETTO:-0300
TZNAME:-03
DTSTART:20250101T000000
END:STANDARD
END:VTIMEZONE
BEGIN:VEVENT
DTSTART;TZID=America/Sao_Paulo:20260128T080000
DTEND;TZID=America/Sao_Paulo:20260128T100000
DTSTAMP:20260424T015703
CREATED:20260128T185044Z
LAST-MODIFIED:20260128T185044Z
UID:48236-1769587200-1769594400@www.goiasfomento.com
SUMMARY:Rivael Aguiar Pereira: Atendimentos e Despachos Internos
DESCRIPTION:
URL:https://www.goiasfomento.com/agenda/rivael-aguiar-pereira-atendimentos-e-despachos-internos-254/
LOCATION:goias fomento
CATEGORIES:Presidência
END:VEVENT
BEGIN:VEVENT
DTSTART;TZID=America/Sao_Paulo:20260128T100000
DTEND;TZID=America/Sao_Paulo:20260128T120000
DTSTAMP:20260424T015703
CREATED:20260127T120942Z
LAST-MODIFIED:20260128T182018Z
UID:48196-1769594400-1769601600@www.goiasfomento.com
SUMMARY:Rivael Aguiar Pereira: Reunião com a Equipe a SGPA e Sebrae
DESCRIPTION:Parceria junto a SGPA e Sebrae para participação na agropecuária 2026.
URL:https://www.goiasfomento.com/agenda/rivael-aguiar-pereira-atendimentos-e-despachos-internos-252/
LOCATION:Agência de Fomento de Goiás
CATEGORIES:Presidência
END:VEVENT
BEGIN:VEVENT
DTSTART;TZID=America/Sao_Paulo:20260128T140000
DTEND;TZID=America/Sao_Paulo:20260128T180000
DTSTAMP:20260424T015703
CREATED:20260127T121005Z
LAST-MODIFIED:20260127T121005Z
UID:48198-1769608800-1769623200@www.goiasfomento.com
SUMMARY:Rivael Aguiar Pereira: Atendimentos e Despachos Internos
DESCRIPTION:
URL:https://www.goiasfomento.com/agenda/rivael-aguiar-pereira-atendimentos-e-despachos-internos-253/
LOCATION:Agência de Fomento de Goiás
CATEGORIES:Presidência
END:VEVENT
END:VCALENDAR