BEGIN:VCALENDAR
VERSION:2.0
PRODID:-//GoiásFomento - Agência de Fomento - ECPv6.15.20//NONSGML v1.0//EN
CALSCALE:GREGORIAN
METHOD:PUBLISH
X-WR-CALNAME:GoiásFomento - Agência de Fomento
X-ORIGINAL-URL:https://www.goiasfomento.com
X-WR-CALDESC:Eventos para GoiásFomento - Agência de Fomento
REFRESH-INTERVAL;VALUE=DURATION:PT1H
X-Robots-Tag:noindex
X-PUBLISHED-TTL:PT1H
BEGIN:VTIMEZONE
TZID:America/Sao_Paulo
BEGIN:STANDARD
TZOFFSETFROM:-0300
TZOFFSETTO:-0300
TZNAME:-03
DTSTART:20250101T000000
END:STANDARD
END:VTIMEZONE
BEGIN:VEVENT
DTSTART;TZID=America/Sao_Paulo:20260123T080000
DTEND;TZID=America/Sao_Paulo:20260123T120000
DTSTAMP:20260424T015647
CREATED:20260123T122632Z
LAST-MODIFIED:20260127T122731Z
UID:48175-1769155200-1769169600@www.goiasfomento.com
SUMMARY:Rivael Aguiar Pereira: Curso - FIAGRO como Ferramenta de Gestão dos Negócios no Campo - Módulo II Normas jurídicas e administrativas para constituição\, gestão e operação de um FIAGRO
DESCRIPTION:
URL:https://www.goiasfomento.com/agenda/rivael-aguiar-pereira-fiagro-como-ferramenta-de-gestao-dos-negocios-no-campo-modulo-ii-normas-juridicas-e-administrativas-para-constituicao-gestao-e-operacao-de-um-fiagro/
CATEGORIES:Presidência
END:VEVENT
BEGIN:VEVENT
DTSTART;TZID=America/Sao_Paulo:20260123T140000
DTEND;TZID=America/Sao_Paulo:20260123T180000
DTSTAMP:20260424T015647
CREATED:20260123T122746Z
LAST-MODIFIED:20260123T122746Z
UID:48177-1769176800-1769191200@www.goiasfomento.com
SUMMARY:Rivael Aguiar Pereira: Atendimentos e Despachos Internos
DESCRIPTION:
URL:https://www.goiasfomento.com/agenda/rivael-aguiar-pereira-atendimentos-e-despachos-internos-248/
LOCATION:goias fomento
CATEGORIES:Presidência
END:VEVENT
END:VCALENDAR