BEGIN:VCALENDAR
VERSION:2.0
PRODID:-//GoiásFomento - Agência de Fomento - ECPv6.15.20//NONSGML v1.0//EN
CALSCALE:GREGORIAN
METHOD:PUBLISH
X-ORIGINAL-URL:https://www.goiasfomento.com
X-WR-CALDESC:Eventos para GoiásFomento - Agência de Fomento
REFRESH-INTERVAL;VALUE=DURATION:PT1H
X-Robots-Tag:noindex
X-PUBLISHED-TTL:PT1H
BEGIN:VTIMEZONE
TZID:America/Sao_Paulo
BEGIN:STANDARD
TZOFFSETFROM:-0300
TZOFFSETTO:-0300
TZNAME:-03
DTSTART:20240101T000000
END:STANDARD
END:VTIMEZONE
BEGIN:VEVENT
DTSTART;TZID=America/Sao_Paulo:20251124T080000
DTEND;TZID=America/Sao_Paulo:20251124T110000
DTSTAMP:20260424T044557
CREATED:20251124T165806Z
LAST-MODIFIED:20251124T165806Z
UID:47167-1763971200-1763982000@www.goiasfomento.com
SUMMARY:Rivael Aguiar Pereira: Atendimentos e Despachos Internos
DESCRIPTION:
URL:https://www.goiasfomento.com/agenda/rivael-aguiar-pereira-atendimentos-e-despachos-internos-175/
LOCATION:Agência de Fomento de Goiás
CATEGORIES:Presidência
END:VEVENT
BEGIN:VEVENT
DTSTART;TZID=America/Sao_Paulo:20251124T110000
DTEND;TZID=America/Sao_Paulo:20251124T120000
DTSTAMP:20260424T044557
CREATED:20251124T170315Z
LAST-MODIFIED:20251124T170315Z
UID:47169-1763982000-1763985600@www.goiasfomento.com
SUMMARY:Rivael Aguiar Pereira: Reunião com Charleston Pimentel\, presidente da ABIH\, a Associação Brasileira da Indústria de Hotéis.
DESCRIPTION:
URL:https://www.goiasfomento.com/agenda/rivael-aguiar-pereira-reuniao-com-charleston-pimentel-presidente-da-abih-a-associacao-brasileira-da-industria-de-hoteis/
LOCATION:Presidência – Agência de Fomento de Goiás
CATEGORIES:Presidência
END:VEVENT
BEGIN:VEVENT
DTSTART;TZID=America/Sao_Paulo:20251124T140000
DTEND;TZID=America/Sao_Paulo:20251124T180000
DTSTAMP:20260424T044557
CREATED:20251124T170530Z
LAST-MODIFIED:20251124T170530Z
UID:47171-1763992800-1764007200@www.goiasfomento.com
SUMMARY:Rivael Aguiar Pereira: Atendimentos e Despachos Internos
DESCRIPTION:
URL:https://www.goiasfomento.com/agenda/rivael-aguiar-pereira-atendimentos-e-despachos-internos-176/
CATEGORIES:Presidência
END:VEVENT
END:VCALENDAR