BEGIN:VCALENDAR
VERSION:2.0
PRODID:-//GoiásFomento - Agência de Fomento - ECPv6.15.20//NONSGML v1.0//EN
CALSCALE:GREGORIAN
METHOD:PUBLISH
X-WR-CALNAME:GoiásFomento - Agência de Fomento
X-ORIGINAL-URL:https://www.goiasfomento.com
X-WR-CALDESC:Eventos para GoiásFomento - Agência de Fomento
REFRESH-INTERVAL;VALUE=DURATION:PT1H
X-Robots-Tag:noindex
X-PUBLISHED-TTL:PT1H
BEGIN:VTIMEZONE
TZID:America/Sao_Paulo
BEGIN:STANDARD
TZOFFSETFROM:-0300
TZOFFSETTO:-0300
TZNAME:-03
DTSTART:20240101T000000
END:STANDARD
END:VTIMEZONE
BEGIN:VEVENT
DTSTART;TZID=America/Sao_Paulo:20251104T080000
DTEND;TZID=America/Sao_Paulo:20251104T090000
DTSTAMP:20260424T044536
CREATED:20251104T174212Z
LAST-MODIFIED:20251104T174212Z
UID:46866-1762243200-1762246800@www.goiasfomento.com
SUMMARY:Rivael Aguiar Pereira: Atendimentos e Despachos Internos
DESCRIPTION:
URL:https://www.goiasfomento.com/agenda/rivael-aguiar-pereira-atendimentos-e-despachos-internos-155/
LOCATION:Gabinete da Presidência da GoiásFomento – Agência de Fomento de Goiás.
CATEGORIES:Presidência
END:VEVENT
BEGIN:VEVENT
DTSTART;TZID=America/Sao_Paulo:20251104T090000
DTEND;TZID=America/Sao_Paulo:20251104T110000
DTSTAMP:20260424T044536
CREATED:20251104T174403Z
LAST-MODIFIED:20251104T174403Z
UID:46868-1762246800-1762254000@www.goiasfomento.com
SUMMARY:Rivael Aguiar Pereira: Evento de lançamento do Programa GoiásFomento Até Você.
DESCRIPTION:
URL:https://www.goiasfomento.com/agenda/rivael-aguiar-pereira-evento-de-lancamento-do-programa-goiasfomento-ate-voce/
LOCATION:Praça  Civíca – Praça Dr. Pedro Ludovico Teixeira – St. Central\, Goiânia – GO\, 74003-010
CATEGORIES:Presidência
END:VEVENT
BEGIN:VEVENT
DTSTART;TZID=America/Sao_Paulo:20251104T110000
DTEND;TZID=America/Sao_Paulo:20251104T120000
DTSTAMP:20260424T044536
CREATED:20251104T174445Z
LAST-MODIFIED:20251104T174445Z
UID:46875-1762254000-1762257600@www.goiasfomento.com
SUMMARY:Rivael Aguiar Pereira: Atendimentos e Despachos Internos
DESCRIPTION:
URL:https://www.goiasfomento.com/agenda/rivael-aguiar-pereira-atendimentos-e-despachos-internos-156/
LOCATION:Gabinete da Presidência da GoiásFomento – Agência de Fomento de Goiás.
CATEGORIES:Presidência
END:VEVENT
BEGIN:VEVENT
DTSTART;TZID=America/Sao_Paulo:20251104T140000
DTEND;TZID=America/Sao_Paulo:20251104T180000
DTSTAMP:20260424T044536
CREATED:20251104T174523Z
LAST-MODIFIED:20251104T174523Z
UID:46878-1762264800-1762279200@www.goiasfomento.com
SUMMARY:Rivael Aguiar Pereira: Atendimentos e Despachos Internos
DESCRIPTION:
URL:https://www.goiasfomento.com/agenda/rivael-aguiar-pereira-atendimentos-e-despachos-internos-157/
LOCATION:Gabinete da Presidência da GoiásFomento – Agência de Fomento de Goiás.
CATEGORIES:Presidência
END:VEVENT
END:VCALENDAR