BEGIN:VCALENDAR
VERSION:2.0
PRODID:-//GoiásFomento - Agência de Fomento - ECPv6.15.20//NONSGML v1.0//EN
CALSCALE:GREGORIAN
METHOD:PUBLISH
X-ORIGINAL-URL:https://www.goiasfomento.com
X-WR-CALDESC:Eventos para GoiásFomento - Agência de Fomento
REFRESH-INTERVAL;VALUE=DURATION:PT1H
X-Robots-Tag:noindex
X-PUBLISHED-TTL:PT1H
BEGIN:VTIMEZONE
TZID:America/Sao_Paulo
BEGIN:STANDARD
TZOFFSETFROM:-0300
TZOFFSETTO:-0300
TZNAME:-03
DTSTART:20240101T000000
END:STANDARD
END:VTIMEZONE
BEGIN:VEVENT
DTSTART;TZID=America/Sao_Paulo:20251022T070000
DTEND;TZID=America/Sao_Paulo:20251022T071500
DTSTAMP:20260424T062904
CREATED:20251021T175746Z
LAST-MODIFIED:20251021T175746Z
UID:46706-1761116400-1761117300@www.goiasfomento.com
SUMMARY:Rivael Aguiar Pereira: ENTREVISTA JORNAL DA PAZ POR LIGAÇÃO - GoiásFomento e FGM promovem parcerias
DESCRIPTION:– Apresentadores: Márcia Alves e Luiz Alberto\n– Programa: Jornal da Paz na Rádio Paz FM 89\,5
URL:https://www.goiasfomento.com/agenda/rivael-aguiar-pereira-entrevista-jornal-da-paz-por-ligacao-goiasfomento-e-fgm-promovem-parcerias/
CATEGORIES:Presidência
END:VEVENT
BEGIN:VEVENT
DTSTART;TZID=America/Sao_Paulo:20251022T080000
DTEND;TZID=America/Sao_Paulo:20251022T120000
DTSTAMP:20260424T062904
CREATED:20251020T133748Z
LAST-MODIFIED:20251020T133748Z
UID:46681-1761120000-1761134400@www.goiasfomento.com
SUMMARY:Rivael Aguiar Pereira: Atendimentos e Despachos Internos
DESCRIPTION:
URL:https://www.goiasfomento.com/agenda/rivael-aguiar-pereira-atendimentos-e-despachos-internos-141/
LOCATION:Gabinete da Presidência da GoiásFomento – Agência de Fomento de Goiás.
CATEGORIES:Presidência
END:VEVENT
BEGIN:VEVENT
DTSTART;TZID=America/Sao_Paulo:20251022T110000
DTEND;TZID=America/Sao_Paulo:20251022T111500
DTSTAMP:20260424T062904
CREATED:20251021T180007Z
LAST-MODIFIED:20251021T180007Z
UID:46708-1761130800-1761131700@www.goiasfomento.com
SUMMARY:Rivael Aguiar Pereira: ENTREVISTA - Rádio Nova Liberdade - Catalão GO
DESCRIPTION:ENTREVISTADOR: Cláudio Lima\nPAUTA: GoiásFomento e FGM promovem parcerias
URL:https://www.goiasfomento.com/agenda/rivael-aguiar-pereira-entrevista-radio-nova-liberdade-catalao-go/
CATEGORIES:Presidência
END:VEVENT
BEGIN:VEVENT
DTSTART;TZID=America/Sao_Paulo:20251022T140000
DTEND;TZID=America/Sao_Paulo:20251022T180000
DTSTAMP:20260424T062904
CREATED:20251020T133823Z
LAST-MODIFIED:20251020T133823Z
UID:46683-1761141600-1761156000@www.goiasfomento.com
SUMMARY:Rivael Aguiar Pereira: Atendimentos e Despachos Internos
DESCRIPTION:
URL:https://www.goiasfomento.com/agenda/rivael-aguiar-pereira-atendimentos-e-despachos-internos-142/
LOCATION:Gabinete da Presidência da GoiásFomento – Agência de Fomento de Goiás.
CATEGORIES:Presidência
END:VEVENT
END:VCALENDAR