BEGIN:VCALENDAR
VERSION:2.0
PRODID:-//GoiásFomento - Agência de Fomento - ECPv6.15.20//NONSGML v1.0//EN
CALSCALE:GREGORIAN
METHOD:PUBLISH
X-ORIGINAL-URL:https://www.goiasfomento.com
X-WR-CALDESC:Eventos para GoiásFomento - Agência de Fomento
REFRESH-INTERVAL;VALUE=DURATION:PT1H
X-Robots-Tag:noindex
X-PUBLISHED-TTL:PT1H
BEGIN:VTIMEZONE
TZID:America/Sao_Paulo
BEGIN:STANDARD
TZOFFSETFROM:-0300
TZOFFSETTO:-0300
TZNAME:-03
DTSTART:20240101T000000
END:STANDARD
END:VTIMEZONE
BEGIN:VEVENT
DTSTART;TZID=America/Sao_Paulo:20250725T080000
DTEND;TZID=America/Sao_Paulo:20250725T103000
DTSTAMP:20260424T124123
CREATED:20250725T141224Z
LAST-MODIFIED:20250725T141224Z
UID:45191-1753430400-1753439400@www.goiasfomento.com
SUMMARY:Rivael Aguiar Pereira: Atendimentos e Despachos Internos
DESCRIPTION:
URL:https://www.goiasfomento.com/agenda/rivael-aguiar-pereira-atendimentos-e-despachos-internos-30/
CATEGORIES:Presidência
END:VEVENT
BEGIN:VEVENT
DTSTART;TZID=America/Sao_Paulo:20250725T103000
DTEND;TZID=America/Sao_Paulo:20250725T113000
DTSTAMP:20260424T124123
CREATED:20250725T141528Z
LAST-MODIFIED:20250725T141528Z
UID:45193-1753439400-1753443000@www.goiasfomento.com
SUMMARY:Rivael Aguiar Pereira: Reunião com a Secretária de Estado da Cultura (SECULT) -  Yara Nunes dos Santos
DESCRIPTION:
URL:https://www.goiasfomento.com/agenda/rivael-aguiar-pereira-reuniao-com-a-secretaria-de-estado-da-cultura-secult-yara-nunes-dos-santos/
CATEGORIES:Presidência
END:VEVENT
BEGIN:VEVENT
DTSTART;TZID=America/Sao_Paulo:20250725T113000
DTEND;TZID=America/Sao_Paulo:20250725T120000
DTSTAMP:20260424T124123
CREATED:20250725T141729Z
LAST-MODIFIED:20250725T141729Z
UID:45195-1753443000-1753444800@www.goiasfomento.com
SUMMARY:Rivael Aguiar Pereira: Atendimentos e Despachos Internos
DESCRIPTION:
URL:https://www.goiasfomento.com/agenda/rivael-aguiar-pereira-atendimentos-e-despachos-internos-31/
CATEGORIES:Presidência
END:VEVENT
BEGIN:VEVENT
DTSTART;TZID=America/Sao_Paulo:20250725T140000
DTEND;TZID=America/Sao_Paulo:20250725T180000
DTSTAMP:20260424T124123
CREATED:20250725T141813Z
LAST-MODIFIED:20250725T141813Z
UID:45197-1753452000-1753466400@www.goiasfomento.com
SUMMARY:Rivael Aguiar Pereira: Atendimentos e Despachos Internos
DESCRIPTION:
URL:https://www.goiasfomento.com/agenda/rivael-aguiar-pereira-atendimentos-e-despachos-internos-32/
CATEGORIES:Presidência
END:VEVENT
END:VCALENDAR