BEGIN:VCALENDAR
VERSION:2.0
PRODID:-//GoiásFomento - Agência de Fomento - ECPv6.15.20//NONSGML v1.0//EN
CALSCALE:GREGORIAN
METHOD:PUBLISH
X-ORIGINAL-URL:https://www.goiasfomento.com
X-WR-CALDESC:Eventos para GoiásFomento - Agência de Fomento
REFRESH-INTERVAL;VALUE=DURATION:PT1H
X-Robots-Tag:noindex
X-PUBLISHED-TTL:PT1H
BEGIN:VTIMEZONE
TZID:America/Sao_Paulo
BEGIN:STANDARD
TZOFFSETFROM:-0300
TZOFFSETTO:-0300
TZNAME:-03
DTSTART:20240101T000000
END:STANDARD
END:VTIMEZONE
BEGIN:VEVENT
DTSTART;TZID=America/Sao_Paulo:20250724T080000
DTEND;TZID=America/Sao_Paulo:20250724T090000
DTSTAMP:20260424T124124
CREATED:20250724T140117Z
LAST-MODIFIED:20250724T140117Z
UID:45128-1753344000-1753347600@www.goiasfomento.com
SUMMARY:Rivael Aguiar Pereira: Atendimentos e Despachos Internos
DESCRIPTION:
URL:https://www.goiasfomento.com/agenda/rivael-aguiar-pereira-atendimentos-e-despachos-internos-28/
CATEGORIES:Presidência
END:VEVENT
BEGIN:VEVENT
DTSTART;TZID=America/Sao_Paulo:20250724T090000
DTEND;TZID=America/Sao_Paulo:20250724T100000
DTSTAMP:20260424T124124
CREATED:20250724T140334Z
LAST-MODIFIED:20250724T140334Z
UID:45130-1753347600-1753351200@www.goiasfomento.com
SUMMARY:Rivael Aguiar Pereira: Reunião com a Presidente do CRC GO - Sucena Hummel
DESCRIPTION:Pauta: Assinatura de termo aditivo ao CONTRATO DE PARCERIA entre CRC GO e GoiásFomento
URL:https://www.goiasfomento.com/agenda/rivael-aguiar-pereira-reuniao-com-a-presidente-do-crc-go-sucena-hummel/
LOCATION:Agência de Fomento de Goiás
CATEGORIES:Presidência
END:VEVENT
BEGIN:VEVENT
DTSTART;TZID=America/Sao_Paulo:20250724T100000
DTEND;TZID=America/Sao_Paulo:20250724T120000
DTSTAMP:20260424T124124
CREATED:20250724T140515Z
LAST-MODIFIED:20250724T140515Z
UID:45132-1753351200-1753358400@www.goiasfomento.com
SUMMARY:Rivael Aguiar Pereira: 12ª Reunião Extraordinária do Conselho Deliberativo do FUNDEQ
DESCRIPTION:
URL:https://www.goiasfomento.com/agenda/rivael-aguiar-pereira-12a-reuniao-extraordinaria-do-conselho-deliberativo-do-fundeq/
LOCATION:Secretaria de Estado da Retomada.
CATEGORIES:Presidência
END:VEVENT
BEGIN:VEVENT
DTSTART;TZID=America/Sao_Paulo:20250724T140000
DTEND;TZID=America/Sao_Paulo:20250724T180000
DTSTAMP:20260424T124124
CREATED:20250724T140731Z
LAST-MODIFIED:20250724T140731Z
UID:45134-1753365600-1753380000@www.goiasfomento.com
SUMMARY:Rivael Aguiar Pereira: Atendimentos e Despachos Internos
DESCRIPTION:
URL:https://www.goiasfomento.com/agenda/rivael-aguiar-pereira-atendimentos-e-despachos-internos-29/
CATEGORIES:Presidência
END:VEVENT
END:VCALENDAR