BEGIN:VCALENDAR
VERSION:2.0
PRODID:-//GoiásFomento - Agência de Fomento - ECPv6.15.20//NONSGML v1.0//EN
CALSCALE:GREGORIAN
METHOD:PUBLISH
X-WR-CALNAME:GoiásFomento - Agência de Fomento
X-ORIGINAL-URL:https://www.goiasfomento.com
X-WR-CALDESC:Eventos para GoiásFomento - Agência de Fomento
REFRESH-INTERVAL;VALUE=DURATION:PT1H
X-Robots-Tag:noindex
X-PUBLISHED-TTL:PT1H
BEGIN:VTIMEZONE
TZID:America/Sao_Paulo
BEGIN:STANDARD
TZOFFSETFROM:-0300
TZOFFSETTO:-0300
TZNAME:-03
DTSTART:20240101T000000
END:STANDARD
END:VTIMEZONE
BEGIN:VEVENT
DTSTART;TZID=America/Sao_Paulo:20250722T080000
DTEND;TZID=America/Sao_Paulo:20250722T100000
DTSTAMP:20260424T124009
CREATED:20250721T174030Z
LAST-MODIFIED:20250721T174030Z
UID:45067-1753171200-1753178400@www.goiasfomento.com
SUMMARY:Rivael Aguiar Pereira: Atendimentos e Despachos Internos
DESCRIPTION:
URL:https://www.goiasfomento.com/agenda/rivael-aguiar-pereira-atendimentos-e-despachos-internos-24/
CATEGORIES:Presidência
END:VEVENT
BEGIN:VEVENT
DTSTART;TZID=America/Sao_Paulo:20250722T100000
DTEND;TZID=America/Sao_Paulo:20250722T120000
DTSTAMP:20260424T124009
CREATED:20250721T174415Z
LAST-MODIFIED:20250721T174415Z
UID:45069-1753178400-1753185600@www.goiasfomento.com
SUMMARY:Rivael Aguiar Pereira:  Visita Técnica à Empresa Zyontech
DESCRIPTION:
URL:https://www.goiasfomento.com/agenda/rivael-aguiar-pereira-visita-tecnica-a-empresa-zyontech/
CATEGORIES:Presidência
END:VEVENT
BEGIN:VEVENT
DTSTART;TZID=America/Sao_Paulo:20250722T140000
DTEND;TZID=America/Sao_Paulo:20250722T180000
DTSTAMP:20260424T124009
CREATED:20250721T175034Z
LAST-MODIFIED:20250721T175034Z
UID:45076-1753192800-1753207200@www.goiasfomento.com
SUMMARY:Rivael Aguiar Pereira: Atendimentos e Despachos Internos
DESCRIPTION:
URL:https://www.goiasfomento.com/agenda/rivael-aguiar-pereira-atendimentos-e-despachos-internos-25/
CATEGORIES:Presidência
END:VEVENT
END:VCALENDAR