BEGIN:VCALENDAR
VERSION:2.0
PRODID:-//GoiásFomento - Agência de Fomento - ECPv6.15.20//NONSGML v1.0//EN
CALSCALE:GREGORIAN
METHOD:PUBLISH
X-ORIGINAL-URL:https://www.goiasfomento.com
X-WR-CALDESC:Eventos para GoiásFomento - Agência de Fomento
REFRESH-INTERVAL;VALUE=DURATION:PT1H
X-Robots-Tag:noindex
X-PUBLISHED-TTL:PT1H
BEGIN:VTIMEZONE
TZID:America/Sao_Paulo
BEGIN:STANDARD
TZOFFSETFROM:-0300
TZOFFSETTO:-0300
TZNAME:-03
DTSTART:20240101T000000
END:STANDARD
END:VTIMEZONE
BEGIN:VEVENT
DTSTART;TZID=America/Sao_Paulo:20250626T080000
DTEND;TZID=America/Sao_Paulo:20250626T120000
DTSTAMP:20260424T140807
CREATED:20250626T154835Z
LAST-MODIFIED:20250626T154835Z
UID:44368-1750924800-1750939200@www.goiasfomento.com
SUMMARY:Rivael Aguiar Pereira: Atendimentos e Despachos Interno.
DESCRIPTION:
URL:https://www.goiasfomento.com/agenda/rivael-aguiar-pereira-atendimentos-e-despachos-interno-52/
LOCATION:Gabinete da Presidência.
CATEGORIES:Presidência
END:VEVENT
BEGIN:VEVENT
DTSTART;TZID=America/Sao_Paulo:20250626T140000
DTEND;TZID=America/Sao_Paulo:20250626T150000
DTSTAMP:20260424T140807
CREATED:20250626T154935Z
LAST-MODIFIED:20250626T154935Z
UID:44370-1750946400-1750950000@www.goiasfomento.com
SUMMARY:Rivael Aguiar Pereira: Atendimentos e Despachos Interno.
DESCRIPTION:
URL:https://www.goiasfomento.com/agenda/rivael-aguiar-pereira-atendimentos-e-despachos-interno-53/
LOCATION:Gabinete da Presidência.
CATEGORIES:Presidência
END:VEVENT
BEGIN:VEVENT
DTSTART;TZID=America/Sao_Paulo:20250626T150000
DTEND;TZID=America/Sao_Paulo:20250626T180000
DTSTAMP:20260424T140807
CREATED:20250626T155053Z
LAST-MODIFIED:20250626T155248Z
UID:44372-1750950000-1750960800@www.goiasfomento.com
SUMMARY:Rivael Aguiar Pereira: Abertura do Centro de apoio ao Romeiro - CAR.
DESCRIPTION:
URL:https://www.goiasfomento.com/agenda/rivael-aguiar-pereira-abertura-do-centro-de-apoio-ao-romeiro-car/
LOCATION:Trindade – GO.
CATEGORIES:Presidência
END:VEVENT
END:VCALENDAR