BEGIN:VCALENDAR
VERSION:2.0
PRODID:-//GoiásFomento - Agência de Fomento - ECPv6.15.20//NONSGML v1.0//EN
CALSCALE:GREGORIAN
METHOD:PUBLISH
X-ORIGINAL-URL:https://www.goiasfomento.com
X-WR-CALDESC:Eventos para GoiásFomento - Agência de Fomento
REFRESH-INTERVAL;VALUE=DURATION:PT1H
X-Robots-Tag:noindex
X-PUBLISHED-TTL:PT1H
BEGIN:VTIMEZONE
TZID:America/Sao_Paulo
BEGIN:STANDARD
TZOFFSETFROM:-0300
TZOFFSETTO:-0300
TZNAME:-03
DTSTART:20240101T000000
END:STANDARD
END:VTIMEZONE
BEGIN:VEVENT
DTSTART;TZID=America/Sao_Paulo:20250613T080000
DTEND;TZID=America/Sao_Paulo:20250613T110000
DTSTAMP:20260424T140333
CREATED:20250613T182035Z
LAST-MODIFIED:20250613T182035Z
UID:44147-1749801600-1749812400@www.goiasfomento.com
SUMMARY:Rivael Aguiar Pereira: Reunião com o Marcos Paulo da Vinícula Jabuticabal.
DESCRIPTION:
URL:https://www.goiasfomento.com/agenda/rivael-aguiar-pereira-reuniao-com-o-marcos-paulo-da-vinicula-jabuticabal/
LOCATION:Sala de reuniões da Diretoria.
CATEGORIES:Presidência
END:VEVENT
BEGIN:VEVENT
DTSTART;TZID=America/Sao_Paulo:20250613T110000
DTEND;TZID=America/Sao_Paulo:20250613T120000
DTSTAMP:20260424T140333
CREATED:20250613T182556Z
LAST-MODIFIED:20250613T182652Z
UID:44149-1749812400-1749816000@www.goiasfomento.com
SUMMARY:Rivael Aguiar Pereira: Reunião com o Deputado Cairo Salim e o Prefeito de Campinaçu Dr. Douglas.
DESCRIPTION:
URL:https://www.goiasfomento.com/agenda/rivael-aguiar-pereira-reuniao-com-o-deputado-cairo-salim-e-o-prefeito-de-campinacu-dr-douglas/
LOCATION:Gabinete da Presidência.
CATEGORIES:Presidência
END:VEVENT
BEGIN:VEVENT
DTSTART;TZID=America/Sao_Paulo:20250613T140000
DTEND;TZID=America/Sao_Paulo:20250613T180000
DTSTAMP:20260424T140333
CREATED:20250611T171423Z
LAST-MODIFIED:20250612T193536Z
UID:44051-1749823200-1749837600@www.goiasfomento.com
SUMMARY:Rivael Aguiar Pereira: Atendimentos e Despachos Interno.
DESCRIPTION:
URL:https://www.goiasfomento.com/agenda/rivael-aguiar-pereira-atendimentos-e-despachos-interno-35/
LOCATION:Gabinete da Presidência.
CATEGORIES:Presidência
END:VEVENT
END:VCALENDAR