BEGIN:VCALENDAR
VERSION:2.0
PRODID:-//GoiásFomento - Agência de Fomento - ECPv6.15.20//NONSGML v1.0//EN
CALSCALE:GREGORIAN
METHOD:PUBLISH
X-ORIGINAL-URL:https://www.goiasfomento.com
X-WR-CALDESC:Eventos para GoiásFomento - Agência de Fomento
REFRESH-INTERVAL;VALUE=DURATION:PT1H
X-Robots-Tag:noindex
X-PUBLISHED-TTL:PT1H
BEGIN:VTIMEZONE
TZID:America/Sao_Paulo
BEGIN:STANDARD
TZOFFSETFROM:-0300
TZOFFSETTO:-0300
TZNAME:-03
DTSTART:20240101T000000
END:STANDARD
END:VTIMEZONE
BEGIN:VEVENT
DTSTART;TZID=America/Sao_Paulo:20250402T070000
DTEND;TZID=America/Sao_Paulo:20250402T083000
DTSTAMP:20260424T171255
CREATED:20250402T125231Z
LAST-MODIFIED:20250408T111622Z
UID:41643-1743577200-1743582600@www.goiasfomento.com
SUMMARY:Rufino Veríssimo – Diretor Presidente (Em substituição): Despachos Internos.
DESCRIPTION:
URL:https://www.goiasfomento.com/agenda/rufino-verissimo-diretor-presidente-em-substituicao-despachos-internos-22/
LOCATION:Gabinete da Diretoria de Operações da GoiásFomento – Agência de Fomento de Goiás.
CATEGORIES:Presidência
END:VEVENT
BEGIN:VEVENT
DTSTART;TZID=America/Sao_Paulo:20250402T083000
DTEND;TZID=America/Sao_Paulo:20250402T090000
DTSTAMP:20260424T171255
CREATED:20250402T125530Z
LAST-MODIFIED:20250402T125530Z
UID:41647-1743582600-1743584400@www.goiasfomento.com
SUMMARY:Rufino Veríssimo – Diretor Presidente (Em substituição): Reunião com Luiz Arthur Medeiros Miguel - Gerente de Licitação.
DESCRIPTION:
URL:https://www.goiasfomento.com/agenda/rufino-verissimo-diretor-presidente-em-substituicao-reuniao-com-luiz-arthur-medeiros-miguel-gerente-de-licitacao/
LOCATION:Gabinete da Diretoria de Operações da GoiásFomento – Agência de Fomento de Goiás.
CATEGORIES:Presidência
END:VEVENT
BEGIN:VEVENT
DTSTART;TZID=America/Sao_Paulo:20250402T090000
DTEND;TZID=America/Sao_Paulo:20250402T093000
DTSTAMP:20260424T171255
CREATED:20250402T125812Z
LAST-MODIFIED:20250402T125812Z
UID:41651-1743584400-1743586200@www.goiasfomento.com
SUMMARY:Rufino Veríssimo – Diretor Presidente (Em substituição): Reunião com Deivison Rodrigues da Costa Soares – Chefe de Gabinete.
DESCRIPTION:
URL:https://www.goiasfomento.com/agenda/rufino-verissimo-diretor-presidente-em-substituicao-reuniao-com-deivison-rodrigues-da-costa-soares-chefe-de-gabinete-3/
LOCATION:Gabinete da Diretoria de Operações da GoiásFomento – Agência de Fomento de Goiás.
CATEGORIES:Presidência
END:VEVENT
BEGIN:VEVENT
DTSTART;TZID=America/Sao_Paulo:20250402T093000
DTEND;TZID=America/Sao_Paulo:20250402T100000
DTSTAMP:20260424T171255
CREATED:20250402T130658Z
LAST-MODIFIED:20250402T130658Z
UID:41663-1743586200-1743588000@www.goiasfomento.com
SUMMARY:Rufino Veríssimo – Diretor Presidente (Em substituição): Despachos Internos.
DESCRIPTION:
URL:https://www.goiasfomento.com/agenda/rufino-verissimo-diretor-presidente-em-substituicao-despachos-internos-23/
LOCATION:Gabinete da Diretoria de Operações da GoiásFomento – Agência de Fomento de Goiás.
CATEGORIES:Presidência
END:VEVENT
BEGIN:VEVENT
DTSTART;TZID=America/Sao_Paulo:20250402T100000
DTEND;TZID=America/Sao_Paulo:20250402T103000
DTSTAMP:20260424T171255
CREATED:20250402T131353Z
LAST-MODIFIED:20250402T132323Z
UID:41667-1743588000-1743589800@www.goiasfomento.com
SUMMARY:Rufino Veríssimo – Diretor Presidente (Em substituição): Reunião com Camilo R. de Camargo Pires - Gerente de Recuperação de Ativos.
DESCRIPTION:
URL:https://www.goiasfomento.com/agenda/rufino-verissimo-diretor-presidente-em-substituicao-reuniao-com-camilo-r-de-camargo-pires-gerente-de-recuperacao-de-ativos-2/
LOCATION:Gabinete da Diretoria de Operações da GoiásFomento – Agência de Fomento de Goiás.
CATEGORIES:Presidência
END:VEVENT
BEGIN:VEVENT
DTSTART;TZID=America/Sao_Paulo:20250402T103000
DTEND;TZID=America/Sao_Paulo:20250402T110000
DTSTAMP:20260424T171255
CREATED:20250402T134251Z
LAST-MODIFIED:20250402T134251Z
UID:41671-1743589800-1743591600@www.goiasfomento.com
SUMMARY:Rufino Veríssimo – Diretor Presidente (Em substituição): Reunião com Maria Terezinha da Mota Batista – Assessora Técnica de Contabilidade.
DESCRIPTION:
URL:https://www.goiasfomento.com/agenda/rufino-verissimo-diretor-presidente-em-substituicao-reuniao-com-maria-terezinha-da-mota-batista-assessora-tecnica-de-contabilidade-6/
LOCATION:Gabinete da Diretoria de Operações da GoiásFomento – Agência de Fomento de Goiás.
CATEGORIES:Presidência
END:VEVENT
BEGIN:VEVENT
DTSTART;TZID=America/Sao_Paulo:20250402T110000
DTEND;TZID=America/Sao_Paulo:20250402T123000
DTSTAMP:20260424T171255
CREATED:20250402T141756Z
LAST-MODIFIED:20250402T192009Z
UID:41675-1743591600-1743597000@www.goiasfomento.com
SUMMARY:Rufino Veríssimo – Diretor Presidente (Em substituição): Reunião com Agência de Fomento\, SEDS e a Empresa Inttegra.
DESCRIPTION:
URL:https://www.goiasfomento.com/agenda/rufino-verissimo-diretor-presidente-em-substituicao-reuniao-com-agencia-de-fomento-seds-e-a-empresa-inttegra/
LOCATION:Sala de Reuniões da Diretoria – Agência de Fomento de Goiás.
CATEGORIES:Presidência
END:VEVENT
BEGIN:VEVENT
DTSTART;TZID=America/Sao_Paulo:20250402T140000
DTEND;TZID=America/Sao_Paulo:20250402T143000
DTSTAMP:20260424T171255
CREATED:20250402T191610Z
LAST-MODIFIED:20250402T191610Z
UID:41699-1743602400-1743604200@www.goiasfomento.com
SUMMARY:Rufino Veríssimo – Diretor Presidente (Em substituição): Reunião com Paulo Cesar Paiva - Assessor de Estratégia e Planejamento.
DESCRIPTION:
URL:https://www.goiasfomento.com/agenda/rufino-verissimo-diretor-presidente-em-substituicao-reuniao-com-paulo-cesar-paiva-assessor-de-estrategia-e-planejamento-9/
LOCATION:Gabinete da Diretoria de Operações da GoiásFomento – Agência de Fomento de Goiás.
CATEGORIES:Presidência
END:VEVENT
BEGIN:VEVENT
DTSTART;TZID=America/Sao_Paulo:20250402T143000
DTEND;TZID=America/Sao_Paulo:20250402T150000
DTSTAMP:20260424T171255
CREATED:20250402T191810Z
LAST-MODIFIED:20250402T191810Z
UID:41703-1743604200-1743606000@www.goiasfomento.com
SUMMARY:Rufino Veríssimo – Diretor Presidente (Em substituição): Reunião com Luiz Carlos dos Santos Sardinha - Gerente de Tecnologia da Informação.
DESCRIPTION:
URL:https://www.goiasfomento.com/agenda/rufino-verissimo-diretor-presidente-em-substituicao-reuniao-com-luiz-carlos-dos-santos-sardinha-gerente-de-tecnologia-da-informacao/
LOCATION:Gabinete da Diretoria de Operações da GoiásFomento – Agência de Fomento de Goiás.
CATEGORIES:Presidência
END:VEVENT
BEGIN:VEVENT
DTSTART;TZID=America/Sao_Paulo:20250402T150000
DTEND;TZID=America/Sao_Paulo:20250402T180000
DTSTAMP:20260424T171255
CREATED:20250402T195011Z
LAST-MODIFIED:20250402T195011Z
UID:41710-1743606000-1743616800@www.goiasfomento.com
SUMMARY:Rufino Veríssimo – Diretor Presidente (Em substituição): Despachos Internos.
DESCRIPTION:
URL:https://www.goiasfomento.com/agenda/rufino-verissimo-diretor-presidente-em-substituicao-despachos-internos-24/
LOCATION:Gabinete da Diretoria de Operações da GoiásFomento – Agência de Fomento de Goiás.
CATEGORIES:Presidência
END:VEVENT
END:VCALENDAR