BEGIN:VCALENDAR
VERSION:2.0
PRODID:-//GoiásFomento - Agência de Fomento - ECPv6.15.20//NONSGML v1.0//EN
CALSCALE:GREGORIAN
METHOD:PUBLISH
X-WR-CALNAME:GoiásFomento - Agência de Fomento
X-ORIGINAL-URL:https://www.goiasfomento.com
X-WR-CALDESC:Eventos para GoiásFomento - Agência de Fomento
REFRESH-INTERVAL;VALUE=DURATION:PT1H
X-Robots-Tag:noindex
X-PUBLISHED-TTL:PT1H
BEGIN:VTIMEZONE
TZID:America/Sao_Paulo
BEGIN:STANDARD
TZOFFSETFROM:-0300
TZOFFSETTO:-0300
TZNAME:-03
DTSTART:20240101T000000
END:STANDARD
END:VTIMEZONE
BEGIN:VEVENT
DTSTART;TZID=America/Sao_Paulo:20250307T080000
DTEND;TZID=America/Sao_Paulo:20250307T083000
DTSTAMP:20260424T184638
CREATED:20250307T141113Z
LAST-MODIFIED:20250307T141113Z
UID:40721-1741334400-1741336200@www.goiasfomento.com
SUMMARY:Lucas Fernandes – Diretor Presidente (Interino): Despachos Internos.
DESCRIPTION:
URL:https://www.goiasfomento.com/agenda/lucas-fernandes-diretor-presidente-interino-despachos-internos-302/
LOCATION:Gabinete da Presidência da GoiásFomento – Agência de Fomento de Goiás.
CATEGORIES:Presidência
END:VEVENT
BEGIN:VEVENT
DTSTART;TZID=America/Sao_Paulo:20250307T083000
DTEND;TZID=America/Sao_Paulo:20250307T090000
DTSTAMP:20260424T184638
CREATED:20250307T141312Z
LAST-MODIFIED:20250307T141312Z
UID:40725-1741336200-1741338000@www.goiasfomento.com
SUMMARY:Lucas Fernandes – Diretor Presidente (Interino): Reunião com Darmélia Barbosa - Gerente de Comunicação.
DESCRIPTION:
URL:https://www.goiasfomento.com/agenda/lucas-fernandes-diretor-presidente-interino-reuniao-com-darmelia-barbosa-gerente-de-comunicacao-2/
LOCATION:Gabinete da Presidência da GoiásFomento – Agência de Fomento de Goiás.
CATEGORIES:Presidência
END:VEVENT
BEGIN:VEVENT
DTSTART;TZID=America/Sao_Paulo:20250307T090000
DTEND;TZID=America/Sao_Paulo:20250307T100000
DTSTAMP:20260424T184638
CREATED:20250307T141447Z
LAST-MODIFIED:20250307T141447Z
UID:40729-1741338000-1741341600@www.goiasfomento.com
SUMMARY:Lucas Fernandes – Diretor Presidente (Interino): Reunião com Gibran Carvalho Abrão - Gerente de Serviços Gerais e Patrimônio.
DESCRIPTION:
URL:https://www.goiasfomento.com/agenda/lucas-fernandes-diretor-presidente-interino-reuniao-com-gibran-carvalho-abrao-gerente-de-servicos-gerais-e-patrimonio/
LOCATION:Gabinete da Presidência da GoiásFomento – Agência de Fomento de Goiás.
CATEGORIES:Presidência
END:VEVENT
BEGIN:VEVENT
DTSTART;TZID=America/Sao_Paulo:20250307T100000
DTEND;TZID=America/Sao_Paulo:20250307T113000
DTSTAMP:20260424T184638
CREATED:20250307T141659Z
LAST-MODIFIED:20250307T141659Z
UID:40733-1741341600-1741347000@www.goiasfomento.com
SUMMARY:Lucas Fernandes – Diretor Presidente (Interino): Reunião com Deivison Rodrigues da Costa Soares - Chefe de Gabinete.
DESCRIPTION:
URL:https://www.goiasfomento.com/agenda/lucas-fernandes-diretor-presidente-interino-reuniao-com-deivison-rodrigues-da-costa-soares-chefe-de-gabinete/
LOCATION:Gabinete da Presidência da GoiásFomento – Agência de Fomento de Goiás.
CATEGORIES:Presidência
END:VEVENT
BEGIN:VEVENT
DTSTART;TZID=America/Sao_Paulo:20250307T113000
DTEND;TZID=America/Sao_Paulo:20250307T120000
DTSTAMP:20260424T184638
CREATED:20250307T144119Z
LAST-MODIFIED:20250307T144119Z
UID:40743-1741347000-1741348800@www.goiasfomento.com
SUMMARY:Lucas Fernandes – Diretor Presidente (Interino): Despachos Internos.
DESCRIPTION:
URL:https://www.goiasfomento.com/agenda/lucas-fernandes-diretor-presidente-interino-despachos-internos-303/
LOCATION:Gabinete da Presidência da GoiásFomento – Agência de Fomento de Goiás.
CATEGORIES:Presidência
END:VEVENT
BEGIN:VEVENT
DTSTART;TZID=America/Sao_Paulo:20250307T130000
DTEND;TZID=America/Sao_Paulo:20250307T133000
DTSTAMP:20260424T184638
CREATED:20250307T150657Z
LAST-MODIFIED:20250307T151007Z
UID:40756-1741352400-1741354200@www.goiasfomento.com
SUMMARY:Lucas Fernandes – Diretor Presidente (Interino): ENTREVISTA: Linha de Crédito Mulher Empreendedora - Jornal Band Cidade.
DESCRIPTION:
URL:https://www.goiasfomento.com/agenda/lucas-fernandes-diretor-presidente-interino-entrevista-linha-de-credito-mulher-empreendedora-jornal-band-cidade/
LOCATION:Band TV Sucesso.
CATEGORIES:Presidência
END:VEVENT
BEGIN:VEVENT
DTSTART;TZID=America/Sao_Paulo:20250307T140000
DTEND;TZID=America/Sao_Paulo:20250307T153000
DTSTAMP:20260424T184638
CREATED:20250307T151110Z
LAST-MODIFIED:20250307T192245Z
UID:40761-1741356000-1741361400@www.goiasfomento.com
SUMMARY:Lucas Fernandes – Diretor Presidente (Interino): Despachos Internos.
DESCRIPTION:
URL:https://www.goiasfomento.com/agenda/lucas-fernandes-diretor-presidente-interino-despachos-internos-304/
LOCATION:Gabinete da Presidência da GoiásFomento – Agência de Fomento de Goiás.
CATEGORIES:Presidência
END:VEVENT
BEGIN:VEVENT
DTSTART;TZID=America/Sao_Paulo:20250307T153000
DTEND;TZID=America/Sao_Paulo:20250307T170000
DTSTAMP:20260424T184638
CREATED:20250307T194327Z
LAST-MODIFIED:20250307T194327Z
UID:40770-1741361400-1741366800@www.goiasfomento.com
SUMMARY:Lucas Fernandes – Diretor Presidente (Interino): Reunião da Diretoria Executiva com Gálbia do Amor Divino Rosa - Gerente Jurídica e Luiz Arthur Medeiros Miguel - Gerente de Licitação e Contratos.
DESCRIPTION:
URL:https://www.goiasfomento.com/agenda/lucas-fernandes-diretor-presidente-interino-reuniao-da-diretoria-executiva-com-galbia-do-amor-divino-rosa-gerente-juridica-e-luiz-arthur-medeiros-miguel-gerente-de-licitacao-e-contrat/
LOCATION:Gabinete da Presidência da GoiásFomento – Agência de Fomento de Goiás.
CATEGORIES:Presidência
END:VEVENT
BEGIN:VEVENT
DTSTART;TZID=America/Sao_Paulo:20250307T170000
DTEND;TZID=America/Sao_Paulo:20250307T180000
DTSTAMP:20260424T184638
CREATED:20250307T194754Z
LAST-MODIFIED:20250307T194754Z
UID:40778-1741366800-1741370400@www.goiasfomento.com
SUMMARY:Lucas Fernandes – Diretor Presidente (Interino): Reunião da Diretoria Executiva com Rafael Soffa Rézio – Gerente de Programas e Políticas Sociais.
DESCRIPTION:
URL:https://www.goiasfomento.com/agenda/lucas-fernandes-diretor-presidente-interino-reuniao-da-diretoria-executiva-com-rafael-soffa-rezio-gerente-de-programas-e-politicas-sociais/
LOCATION:Gabinete da Presidência da GoiásFomento – Agência de Fomento de Goiás.
CATEGORIES:Presidência
END:VEVENT
END:VCALENDAR