BEGIN:VCALENDAR
VERSION:2.0
PRODID:-//GoiásFomento - Agência de Fomento - ECPv6.15.20//NONSGML v1.0//EN
CALSCALE:GREGORIAN
METHOD:PUBLISH
X-ORIGINAL-URL:https://www.goiasfomento.com
X-WR-CALDESC:Eventos para GoiásFomento - Agência de Fomento
REFRESH-INTERVAL;VALUE=DURATION:PT1H
X-Robots-Tag:noindex
X-PUBLISHED-TTL:PT1H
BEGIN:VTIMEZONE
TZID:America/Sao_Paulo
BEGIN:STANDARD
TZOFFSETFROM:-0300
TZOFFSETTO:-0300
TZNAME:-03
DTSTART:20240101T000000
END:STANDARD
END:VTIMEZONE
BEGIN:VEVENT
DTSTART;TZID=America/Sao_Paulo:20250224T063000
DTEND;TZID=America/Sao_Paulo:20250224T123000
DTSTAMP:20260424T184215
CREATED:20250225T114142Z
LAST-MODIFIED:20250225T120046Z
UID:40426-1740378600-1740400200@www.goiasfomento.com
SUMMARY:Lucas Fernandes – Diretor Presidente (Interino): Abertura da Semana do Crédito da GoiásFomento em Itumbiara-Goiás.
DESCRIPTION:
URL:https://www.goiasfomento.com/agenda/lucas-fernandes-diretor-presidente-interino-abertura-da-semana-do-credito-da-goiasfomento-em-itumbiara-goias/
LOCATION:Itumbiara – GO
CATEGORIES:Presidência
END:VEVENT
BEGIN:VEVENT
DTSTART;TZID=America/Sao_Paulo:20250224T140000
DTEND;TZID=America/Sao_Paulo:20250224T180000
DTSTAMP:20260424T184215
CREATED:20250225T114304Z
LAST-MODIFIED:20250225T114304Z
UID:40430-1740405600-1740420000@www.goiasfomento.com
SUMMARY:Lucas Fernandes – Diretor Presidente (Interino): Despachos Internos.
DESCRIPTION:
URL:https://www.goiasfomento.com/agenda/lucas-fernandes-diretor-presidente-interino-despachos-internos-287/
LOCATION:Gabinete da Presidência da GoiásFomento – Agência de Fomento de Goiás.
CATEGORIES:Presidência
END:VEVENT
END:VCALENDAR