BEGIN:VCALENDAR
VERSION:2.0
PRODID:-//GoiásFomento - Agência de Fomento - ECPv6.15.20//NONSGML v1.0//EN
CALSCALE:GREGORIAN
METHOD:PUBLISH
X-ORIGINAL-URL:https://www.goiasfomento.com
X-WR-CALDESC:Eventos para GoiásFomento - Agência de Fomento
REFRESH-INTERVAL;VALUE=DURATION:PT1H
X-Robots-Tag:noindex
X-PUBLISHED-TTL:PT1H
BEGIN:VTIMEZONE
TZID:America/Sao_Paulo
BEGIN:STANDARD
TZOFFSETFROM:-0300
TZOFFSETTO:-0300
TZNAME:-03
DTSTART:20240101T000000
END:STANDARD
END:VTIMEZONE
BEGIN:VEVENT
DTSTART;TZID=America/Sao_Paulo:20250221T080000
DTEND;TZID=America/Sao_Paulo:20250221T100000
DTSTAMP:20260424T195709
CREATED:20250221T151344Z
LAST-MODIFIED:20250221T151509Z
UID:40368-1740124800-1740132000@www.goiasfomento.com
SUMMARY:Lucas Fernandes – Diretor Presidente (Interino): Despachos Internos.
DESCRIPTION:
URL:https://www.goiasfomento.com/agenda/lucas-fernandes-diretor-presidente-interino-despachos-internos-284/
LOCATION:Gabinete da Presidência.
CATEGORIES:Presidência
END:VEVENT
BEGIN:VEVENT
DTSTART;TZID=America/Sao_Paulo:20250221T100000
DTEND;TZID=America/Sao_Paulo:20250221T110000
DTSTAMP:20260424T195709
CREATED:20250221T152040Z
LAST-MODIFIED:20250221T152040Z
UID:40372-1740132000-1740135600@www.goiasfomento.com
SUMMARY:Lucas Fernandes – Diretor Presidente (Interino): Reunião com Serginho da Granja - Vice-Prefeito Por Bela Vista de Goiás.
DESCRIPTION:
URL:https://www.goiasfomento.com/agenda/lucas-fernandes-diretor-presidente-interino-reuniao-com-serginho-da-granja-vice-prefeito-por-bela-vista-de-goias/
LOCATION:Gabinete da Presidência.
CATEGORIES:Presidência
END:VEVENT
BEGIN:VEVENT
DTSTART;TZID=America/Sao_Paulo:20250221T110000
DTEND;TZID=America/Sao_Paulo:20250221T120000
DTSTAMP:20260424T195709
CREATED:20250221T152314Z
LAST-MODIFIED:20250221T152314Z
UID:40376-1740135600-1740139200@www.goiasfomento.com
SUMMARY:Lucas Fernandes – Diretor Presidente (Interino): Despachos Internos.
DESCRIPTION:
URL:https://www.goiasfomento.com/agenda/lucas-fernandes-diretor-presidente-interino-despachos-internos-285/
LOCATION:Gabinete da Presidência.
CATEGORIES:Presidência
END:VEVENT
BEGIN:VEVENT
DTSTART;TZID=America/Sao_Paulo:20250221T140000
DTEND;TZID=America/Sao_Paulo:20250221T180000
DTSTAMP:20260424T195709
CREATED:20250221T152459Z
LAST-MODIFIED:20250221T152459Z
UID:40380-1740146400-1740160800@www.goiasfomento.com
SUMMARY:Lucas Fernandes – Diretor Presidente (Interino): Despachos Internos.
DESCRIPTION:
URL:https://www.goiasfomento.com/agenda/lucas-fernandes-diretor-presidente-interino-despachos-internos-286/
LOCATION:Gabinete da Presidência.
CATEGORIES:Presidência
END:VEVENT
END:VCALENDAR