BEGIN:VCALENDAR
VERSION:2.0
PRODID:-//GoiásFomento - Agência de Fomento - ECPv6.15.20//NONSGML v1.0//EN
CALSCALE:GREGORIAN
METHOD:PUBLISH
X-ORIGINAL-URL:https://www.goiasfomento.com
X-WR-CALDESC:Eventos para GoiásFomento - Agência de Fomento
REFRESH-INTERVAL;VALUE=DURATION:PT1H
X-Robots-Tag:noindex
X-PUBLISHED-TTL:PT1H
BEGIN:VTIMEZONE
TZID:America/Sao_Paulo
BEGIN:STANDARD
TZOFFSETFROM:-0300
TZOFFSETTO:-0300
TZNAME:-03
DTSTART:20240101T000000
END:STANDARD
END:VTIMEZONE
BEGIN:VEVENT
DTSTART;TZID=America/Sao_Paulo:20250211T080000
DTEND;TZID=America/Sao_Paulo:20250211T093000
DTSTAMP:20260424T200130
CREATED:20250211T142009Z
LAST-MODIFIED:20250211T142009Z
UID:40035-1739260800-1739266200@www.goiasfomento.com
SUMMARY:Lucas Fernandes – Diretor Presidente (Interino): Despachos Internos.
DESCRIPTION:
URL:https://www.goiasfomento.com/agenda/lucas-fernandes-diretor-presidente-interino-despachos-internos-263/
LOCATION:Gabinete da Presidência.
CATEGORIES:Presidência
END:VEVENT
BEGIN:VEVENT
DTSTART;TZID=America/Sao_Paulo:20250211T093000
DTEND;TZID=America/Sao_Paulo:20250211T100000
DTSTAMP:20260424T200130
CREATED:20250211T144124Z
LAST-MODIFIED:20250211T144124Z
UID:40043-1739266200-1739268000@www.goiasfomento.com
SUMMARY:Lucas Fernandes – Diretor Presidente (Interino): Reunião da Direx com Rafael Soffa Rézio – Gerente de Programas e Políticas Sociais.
DESCRIPTION:
URL:https://www.goiasfomento.com/agenda/lucas-fernandes-diretor-presidente-interino-reuniao-da-direx-com-rafael-soffa-rezio-gerente-de-programas-e-politicas-sociais-4/
LOCATION:Gabinete da Presidência.
CATEGORIES:Presidência
END:VEVENT
BEGIN:VEVENT
DTSTART;TZID=America/Sao_Paulo:20250211T100000
DTEND;TZID=America/Sao_Paulo:20250211T110000
DTSTAMP:20260424T200130
CREATED:20250211T143457Z
LAST-MODIFIED:20250211T143457Z
UID:40039-1739268000-1739271600@www.goiasfomento.com
SUMMARY:Lucas Fernandes – Diretor Presidente (Interino): Reunião com Divino Lemes – Ex-Prefeito de Senador Canedo e a Empresária Cleo. Pauta: Linhas de Crédito.
DESCRIPTION:
URL:https://www.goiasfomento.com/agenda/lucas-fernandes-diretor-presidente-interino-reuniao-com-divino-lemes-ex-prefeito-de-senador-canedo-e-a-empresaria-cleo-pauta-linhas-de-credito/
LOCATION:Gabinete da Presidência.
CATEGORIES:Presidência
END:VEVENT
BEGIN:VEVENT
DTSTART;TZID=America/Sao_Paulo:20250211T110000
DTEND;TZID=America/Sao_Paulo:20250211T120000
DTSTAMP:20260424T200130
CREATED:20250211T150730Z
LAST-MODIFIED:20250211T150730Z
UID:40047-1739271600-1739275200@www.goiasfomento.com
SUMMARY:Lucas Fernandes – Diretor Presidente (Interino): Reunião com a Professora Gláucia Oliveira da Universidade Evangelica de Goiás | UniEVANGÉLICA ·
DESCRIPTION:
URL:https://www.goiasfomento.com/agenda/lucas-fernandes-diretor-presidente-interino-reuniao-com-a-professora-glaucia-oliveira-da-universidade-evangelica-de-goias-unievangelica-%c2%b7/
LOCATION:Gabinete da Presidência.
CATEGORIES:Presidência
END:VEVENT
BEGIN:VEVENT
DTSTART;TZID=America/Sao_Paulo:20250211T140000
DTEND;TZID=America/Sao_Paulo:20250211T160000
DTSTAMP:20260424T200130
CREATED:20250211T151539Z
LAST-MODIFIED:20250211T151539Z
UID:40058-1739282400-1739289600@www.goiasfomento.com
SUMMARY:Lucas Fernandes – Diretor Presidente (Interino): Despachos Externo-Bela Vista de Goiás.
DESCRIPTION:
URL:https://www.goiasfomento.com/agenda/lucas-fernandes-diretor-presidente-interino-despachos-externo-bela-vista-de-goias/
LOCATION:Bela Vista de Goiás.
CATEGORIES:Presidência
END:VEVENT
BEGIN:VEVENT
DTSTART;TZID=America/Sao_Paulo:20250211T160000
DTEND;TZID=America/Sao_Paulo:20250211T180000
DTSTAMP:20260424T200130
CREATED:20250211T151823Z
LAST-MODIFIED:20250211T151823Z
UID:40065-1739289600-1739296800@www.goiasfomento.com
SUMMARY:Lucas Fernandes – Diretor Presidente (Interino): Despachos Internos.
DESCRIPTION:
URL:https://www.goiasfomento.com/agenda/lucas-fernandes-diretor-presidente-interino-despachos-internos-264/
LOCATION:Gabinete da Presidência.
CATEGORIES:Presidência
END:VEVENT
END:VCALENDAR