BEGIN:VCALENDAR
VERSION:2.0
PRODID:-//GoiásFomento - Agência de Fomento - ECPv6.15.20//NONSGML v1.0//EN
CALSCALE:GREGORIAN
METHOD:PUBLISH
X-ORIGINAL-URL:https://www.goiasfomento.com
X-WR-CALDESC:Eventos para GoiásFomento - Agência de Fomento
REFRESH-INTERVAL;VALUE=DURATION:PT1H
X-Robots-Tag:noindex
X-PUBLISHED-TTL:PT1H
BEGIN:VTIMEZONE
TZID:America/Sao_Paulo
BEGIN:STANDARD
TZOFFSETFROM:-0300
TZOFFSETTO:-0300
TZNAME:-03
DTSTART:20240101T000000
END:STANDARD
END:VTIMEZONE
BEGIN:VEVENT
DTSTART;TZID=America/Sao_Paulo:20250207T080000
DTEND;TZID=America/Sao_Paulo:20250207T103000
DTSTAMP:20260424T195611
CREATED:20250207T195248Z
LAST-MODIFIED:20250207T195248Z
UID:39956-1738915200-1738924200@www.goiasfomento.com
SUMMARY:Lucas Fernandes – Diretor Presidente (Interino): Despachos Internos.
DESCRIPTION:
URL:https://www.goiasfomento.com/agenda/lucas-fernandes-diretor-presidente-interino-despachos-internos-257/
LOCATION:Gabinete da Presidência.
CATEGORIES:Presidência
END:VEVENT
BEGIN:VEVENT
DTSTART;TZID=America/Sao_Paulo:20250207T103000
DTEND;TZID=America/Sao_Paulo:20250207T110000
DTSTAMP:20260424T195611
CREATED:20250207T195456Z
LAST-MODIFIED:20250207T195456Z
UID:39958-1738924200-1738926000@www.goiasfomento.com
SUMMARY:Lucas Fernandes – Diretor Presidente (Interino): Reunião: Aline Gomes Ferreira Primeira Dama - Rialma - Pauta: Cartão Social.
DESCRIPTION:
URL:https://www.goiasfomento.com/agenda/lucas-fernandes-diretor-presidente-interino-reuniao-aline-gomes-ferreira-primeira-dama-rialma-pauta-cartao-social/
LOCATION:Gabinete da Presidência.
CATEGORIES:Presidência
END:VEVENT
BEGIN:VEVENT
DTSTART;TZID=America/Sao_Paulo:20250207T110000
DTEND;TZID=America/Sao_Paulo:20250207T120000
DTSTAMP:20260424T195611
CREATED:20250207T195552Z
LAST-MODIFIED:20250207T195552Z
UID:39960-1738926000-1738929600@www.goiasfomento.com
SUMMARY:Lucas Fernandes – Diretor Presidente (Interino): Despachos Internos.
DESCRIPTION:
URL:https://www.goiasfomento.com/agenda/lucas-fernandes-diretor-presidente-interino-despachos-internos-258/
LOCATION:Gabinete da Presidência.
CATEGORIES:Presidência
END:VEVENT
BEGIN:VEVENT
DTSTART;TZID=America/Sao_Paulo:20250207T140000
DTEND;TZID=America/Sao_Paulo:20250207T180000
DTSTAMP:20260424T195611
CREATED:20250207T195625Z
LAST-MODIFIED:20250207T195625Z
UID:39962-1738936800-1738951200@www.goiasfomento.com
SUMMARY:Lucas Fernandes – Diretor Presidente (Interino): Despachos Internos.
DESCRIPTION:
URL:https://www.goiasfomento.com/agenda/lucas-fernandes-diretor-presidente-interino-despachos-internos-259/
LOCATION:Gabinete da Presidência.
CATEGORIES:Presidência
END:VEVENT
END:VCALENDAR