BEGIN:VCALENDAR
VERSION:2.0
PRODID:-//GoiásFomento - Agência de Fomento - ECPv6.15.20//NONSGML v1.0//EN
CALSCALE:GREGORIAN
METHOD:PUBLISH
X-WR-CALNAME:GoiásFomento - Agência de Fomento
X-ORIGINAL-URL:https://www.goiasfomento.com
X-WR-CALDESC:Eventos para GoiásFomento - Agência de Fomento
REFRESH-INTERVAL;VALUE=DURATION:PT1H
X-Robots-Tag:noindex
X-PUBLISHED-TTL:PT1H
BEGIN:VTIMEZONE
TZID:America/Sao_Paulo
BEGIN:STANDARD
TZOFFSETFROM:-0300
TZOFFSETTO:-0300
TZNAME:-03
DTSTART:20240101T000000
END:STANDARD
END:VTIMEZONE
BEGIN:VEVENT
DTSTART;TZID=America/Sao_Paulo:20250206T080000
DTEND;TZID=America/Sao_Paulo:20250206T090000
DTSTAMP:20260424T195536
CREATED:20250206T184629Z
LAST-MODIFIED:20250206T184629Z
UID:39878-1738828800-1738832400@www.goiasfomento.com
SUMMARY:Lucas Fernandes – Diretor Presidente (Interino): Despachos Internos.
DESCRIPTION:
URL:https://www.goiasfomento.com/agenda/lucas-fernandes-diretor-presidente-interino-despachos-internos-254/
LOCATION:Gabinete da Presidência.
CATEGORIES:Presidência
END:VEVENT
BEGIN:VEVENT
DTSTART;TZID=America/Sao_Paulo:20250206T090000
DTEND;TZID=America/Sao_Paulo:20250206T110000
DTSTAMP:20260424T195536
CREATED:20250206T184755Z
LAST-MODIFIED:20250206T185017Z
UID:39880-1738832400-1738839600@www.goiasfomento.com
SUMMARY:Lucas Fernandes – Diretor Presidente (Interino): Reunião da Diretoria com a Empresa Inttegrar
DESCRIPTION:
URL:https://www.goiasfomento.com/agenda/lucas-fernandes-diretor-presidente-interino-reuniao-da-diretoria-com-a-empresa-inttegrar/
LOCATION:Inttegrar House Rua Jussara\, Qd.33a\, Lt. 24\, Vila Brasilia Aparecida de Goiânia\, GO 74905-500 Brasil
CATEGORIES:Presidência
END:VEVENT
BEGIN:VEVENT
DTSTART;TZID=America/Sao_Paulo:20250206T110000
DTEND;TZID=America/Sao_Paulo:20250206T120000
DTSTAMP:20260424T195536
CREATED:20250206T184851Z
LAST-MODIFIED:20250206T185346Z
UID:39882-1738839600-1738843200@www.goiasfomento.com
SUMMARY:Lucas Fernandes – Diretor Presidente (Interino): Reunião com Geferson Abel- Vereador por Goiânia e Empresários.
DESCRIPTION:
URL:https://www.goiasfomento.com/agenda/lucas-fernandes-diretor-presidente-interino-despachos-internos-255/
LOCATION:Gabinete da Presidência.
CATEGORIES:Presidência
END:VEVENT
BEGIN:VEVENT
DTSTART;TZID=America/Sao_Paulo:20250206T140000
DTEND;TZID=America/Sao_Paulo:20250206T180000
DTSTAMP:20260424T195536
CREATED:20250206T185501Z
LAST-MODIFIED:20250206T185501Z
UID:39887-1738850400-1738864800@www.goiasfomento.com
SUMMARY:Lucas Fernandes – Diretor Presidente (Interino): Despachos Internos.
DESCRIPTION:
URL:https://www.goiasfomento.com/agenda/lucas-fernandes-diretor-presidente-interino-despachos-internos-256/
LOCATION:Gabinete da Presidência.
CATEGORIES:Presidência
END:VEVENT
END:VCALENDAR