BEGIN:VCALENDAR
VERSION:2.0
PRODID:-//GoiásFomento - Agência de Fomento - ECPv6.15.20//NONSGML v1.0//EN
CALSCALE:GREGORIAN
METHOD:PUBLISH
X-WR-CALNAME:GoiásFomento - Agência de Fomento
X-ORIGINAL-URL:https://www.goiasfomento.com
X-WR-CALDESC:Eventos para GoiásFomento - Agência de Fomento
REFRESH-INTERVAL;VALUE=DURATION:PT1H
X-Robots-Tag:noindex
X-PUBLISHED-TTL:PT1H
BEGIN:VTIMEZONE
TZID:America/Sao_Paulo
BEGIN:STANDARD
TZOFFSETFROM:-0300
TZOFFSETTO:-0300
TZNAME:-03
DTSTART:20240101T000000
END:STANDARD
END:VTIMEZONE
BEGIN:VEVENT
DTSTART;VALUE=DATE:20250203
DTEND;VALUE=DATE:20250204
DTSTAMP:20260424T200035
CREATED:20250217T194033Z
LAST-MODIFIED:20250217T194033Z
UID:40220-1738540800-1738627199@www.goiasfomento.com
SUMMARY:Lucas Fernandes – Diretor Presidente (Interino): Ponto Facultativo\, segundo Decreto Estadual nº 10.644 de 7 de fevereiro de 2025.
DESCRIPTION:
URL:https://www.goiasfomento.com/agenda/lucas-fernandes-diretor-presidente-interino-ponto-facultativo-segundo-decreto-estadual-no-10-644-de-7-de-fevereiro-de-2025/
LOCATION:Gabinete da Presidência da GoiásFomento – Agência de Fomento de Goiás.
CATEGORIES:Presidência
END:VEVENT
BEGIN:VEVENT
DTSTART;TZID=America/Sao_Paulo:20250203T080000
DTEND;TZID=America/Sao_Paulo:20250203T103000
DTSTAMP:20260424T200035
CREATED:20250203T180505Z
LAST-MODIFIED:20250203T180505Z
UID:39710-1738569600-1738578600@www.goiasfomento.com
SUMMARY:Lucas Fernandes – Diretor Presidente (Interino): Despachos Internos.
DESCRIPTION:
URL:https://www.goiasfomento.com/agenda/lucas-fernandes-diretor-presidente-interino-despachos-internos-245/
LOCATION:Gabinete da Presidência.
CATEGORIES:Presidência
END:VEVENT
BEGIN:VEVENT
DTSTART;TZID=America/Sao_Paulo:20250203T103000
DTEND;TZID=America/Sao_Paulo:20250203T110000
DTSTAMP:20260424T200035
CREATED:20250203T180632Z
LAST-MODIFIED:20250203T180632Z
UID:39712-1738578600-1738580400@www.goiasfomento.com
SUMMARY:Lucas Fernandes – Diretor Presidente (Interino): Reunião da Direx com Rafael Soffa Rézio – Gerente de Programas e Políticas Sociais.
DESCRIPTION:
URL:https://www.goiasfomento.com/agenda/lucas-fernandes-diretor-presidente-interino-reuniao-da-direx-com-rafael-soffa-rezio-gerente-de-programas-e-politicas-sociais-3/
LOCATION:Gabinete da Presidência.
CATEGORIES:Presidência
END:VEVENT
BEGIN:VEVENT
DTSTART;TZID=America/Sao_Paulo:20250203T110000
DTEND;TZID=America/Sao_Paulo:20250203T120000
DTSTAMP:20260424T200035
CREATED:20250203T181026Z
LAST-MODIFIED:20250203T181026Z
UID:39714-1738580400-1738584000@www.goiasfomento.com
SUMMARY:Lucas Fernandes – Diretor Presidente (Interino): Despachos Internos.
DESCRIPTION:
URL:https://www.goiasfomento.com/agenda/lucas-fernandes-diretor-presidente-interino-despachos-internos-246/
LOCATION:Gabinete da Presidência.
CATEGORIES:Presidência
END:VEVENT
BEGIN:VEVENT
DTSTART;TZID=America/Sao_Paulo:20250203T140000
DTEND;TZID=America/Sao_Paulo:20250203T180000
DTSTAMP:20260424T200035
CREATED:20250203T181059Z
LAST-MODIFIED:20250203T181059Z
UID:39716-1738591200-1738605600@www.goiasfomento.com
SUMMARY:Lucas Fernandes – Diretor Presidente (Interino): Despachos Internos.
DESCRIPTION:
URL:https://www.goiasfomento.com/agenda/lucas-fernandes-diretor-presidente-interino-despachos-internos-247/
LOCATION:Gabinete da Presidência.
CATEGORIES:Presidência
END:VEVENT
END:VCALENDAR