BEGIN:VCALENDAR
VERSION:2.0
PRODID:-//GoiásFomento - Agência de Fomento - ECPv6.15.20//NONSGML v1.0//EN
CALSCALE:GREGORIAN
METHOD:PUBLISH
X-ORIGINAL-URL:https://www.goiasfomento.com
X-WR-CALDESC:Eventos para GoiásFomento - Agência de Fomento
REFRESH-INTERVAL;VALUE=DURATION:PT1H
X-Robots-Tag:noindex
X-PUBLISHED-TTL:PT1H
BEGIN:VTIMEZONE
TZID:America/Sao_Paulo
BEGIN:STANDARD
TZOFFSETFROM:-0300
TZOFFSETTO:-0300
TZNAME:-03
DTSTART:20240101T000000
END:STANDARD
END:VTIMEZONE
BEGIN:VEVENT
DTSTART;TZID=America/Sao_Paulo:20250123T073000
DTEND;TZID=America/Sao_Paulo:20250123T080000
DTSTAMP:20260424T214017
CREATED:20250122T180050Z
LAST-MODIFIED:20250122T180050Z
UID:39446-1737617400-1737619200@www.goiasfomento.com
SUMMARY:Lucas Fernandes – Diretor Presidente (Interino): Entrevista na Rádio Vinha - Crescimento da Liberação de Crédito para Empreendedores.
DESCRIPTION:
URL:https://www.goiasfomento.com/agenda/lucas-fernandes-diretor-presidente-interino-entrevista-na-radio-vinha-crescimento-da-liberacao-de-credito-para-empreendedores/
LOCATION:: Av T- 3 (Rua do Sebrae)
CATEGORIES:Presidência
END:VEVENT
BEGIN:VEVENT
DTSTART;TZID=America/Sao_Paulo:20250123T080000
DTEND;TZID=America/Sao_Paulo:20250123T120000
DTSTAMP:20260424T214017
CREATED:20250122T180200Z
LAST-MODIFIED:20250122T180810Z
UID:39449-1737619200-1737633600@www.goiasfomento.com
SUMMARY:Lucas Fernandes – Diretor Presidente (Interino): Despachos Internos.
DESCRIPTION:
URL:https://www.goiasfomento.com/agenda/lucas-fernandes-diretor-presidente-interino-despachos-internos-232/
LOCATION:Gabinete da Presidência.
CATEGORIES:Presidência
END:VEVENT
BEGIN:VEVENT
DTSTART;TZID=America/Sao_Paulo:20250123T130000
DTEND;TZID=America/Sao_Paulo:20250123T180000
DTSTAMP:20260424T214017
CREATED:20250122T182411Z
LAST-MODIFIED:20250122T182447Z
UID:39452-1737637200-1737655200@www.goiasfomento.com
SUMMARY:Lucas Fernandes – Diretor Presidente (Interino): GOIÁS SOCIAL em Itapuranga-GO.
DESCRIPTION:
URL:https://www.goiasfomento.com/agenda/lucas-fernandes-diretor-presidente-interino-goias-social-em-itapuranga-go/
LOCATION:Itapuranga GO.
CATEGORIES:Presidência
END:VEVENT
END:VCALENDAR