BEGIN:VCALENDAR
VERSION:2.0
PRODID:-//GoiásFomento - Agência de Fomento - ECPv6.15.20//NONSGML v1.0//EN
CALSCALE:GREGORIAN
METHOD:PUBLISH
X-ORIGINAL-URL:https://www.goiasfomento.com
X-WR-CALDESC:Eventos para GoiásFomento - Agência de Fomento
REFRESH-INTERVAL;VALUE=DURATION:PT1H
X-Robots-Tag:noindex
X-PUBLISHED-TTL:PT1H
BEGIN:VTIMEZONE
TZID:America/Sao_Paulo
BEGIN:STANDARD
TZOFFSETFROM:-0300
TZOFFSETTO:-0300
TZNAME:-03
DTSTART:20240101T000000
END:STANDARD
END:VTIMEZONE
BEGIN:VEVENT
DTSTART;TZID=America/Sao_Paulo:20250122T080000
DTEND;TZID=America/Sao_Paulo:20250122T090000
DTSTAMP:20260424T214017
CREATED:20250121T151254Z
LAST-MODIFIED:20250121T151327Z
UID:39413-1737532800-1737536400@www.goiasfomento.com
SUMMARY:Lucas Fernandes – Diretor Presidente (Interino): Entrevista Programao Mundo em Casa. Entrevistadores: Mariana Távora e Alex Atanásio Pauta: Crescimento da Liberação de Crédito para Empreendedores.
DESCRIPTION:
URL:https://www.goiasfomento.com/agenda/lucas-fernandes-diretor-presidente-interino-entrevista-programao-mundo-em-casa-entrevistadores-mariana-tavora-e-alex-atanasio-pauta-crescimento-da-liberacao-de-credito-para-empreendedo/
LOCATION:Estudio da TV Brasil Central.
CATEGORIES:Presidência
END:VEVENT
BEGIN:VEVENT
DTSTART;TZID=America/Sao_Paulo:20250122T090000
DTEND;TZID=America/Sao_Paulo:20250122T120000
DTSTAMP:20260424T214017
CREATED:20250122T131741Z
LAST-MODIFIED:20250122T131741Z
UID:39433-1737536400-1737547200@www.goiasfomento.com
SUMMARY:Lucas Fernandes – Diretor Presidente (Interino): Despachos Internos.
DESCRIPTION:
URL:https://www.goiasfomento.com/agenda/lucas-fernandes-diretor-presidente-interino-despachos-internos-230/
LOCATION:Gabinete da Presidência.
CATEGORIES:Presidência
END:VEVENT
BEGIN:VEVENT
DTSTART;TZID=America/Sao_Paulo:20250122T140000
DTEND;TZID=America/Sao_Paulo:20250122T180000
DTSTAMP:20260424T214017
CREATED:20250122T131836Z
LAST-MODIFIED:20250122T180639Z
UID:39435-1737554400-1737568800@www.goiasfomento.com
SUMMARY:Lucas Fernandes – Diretor Presidente (Interino): Despachos Internos.
DESCRIPTION:
URL:https://www.goiasfomento.com/agenda/lucas-fernandes-diretor-presidente-interino-despachos-internos-231/
LOCATION:Gabinete da Presidência.
CATEGORIES:Presidência
END:VEVENT
END:VCALENDAR