BEGIN:VCALENDAR
VERSION:2.0
PRODID:-//GoiásFomento - Agência de Fomento - ECPv6.15.20//NONSGML v1.0//EN
CALSCALE:GREGORIAN
METHOD:PUBLISH
X-WR-CALNAME:GoiásFomento - Agência de Fomento
X-ORIGINAL-URL:https://www.goiasfomento.com
X-WR-CALDESC:Eventos para GoiásFomento - Agência de Fomento
REFRESH-INTERVAL;VALUE=DURATION:PT1H
X-Robots-Tag:noindex
X-PUBLISHED-TTL:PT1H
BEGIN:VTIMEZONE
TZID:America/Sao_Paulo
BEGIN:STANDARD
TZOFFSETFROM:-0300
TZOFFSETTO:-0300
TZNAME:-03
DTSTART:20240101T000000
END:STANDARD
END:VTIMEZONE
BEGIN:VEVENT
DTSTART;TZID=America/Sao_Paulo:20250109T080000
DTEND;TZID=America/Sao_Paulo:20250109T090000
DTSTAMP:20260424T213852
CREATED:20250109T124821Z
LAST-MODIFIED:20250109T124821Z
UID:39164-1736409600-1736413200@www.goiasfomento.com
SUMMARY:Lucas Fernandes – Diretor Presidente (Interino): Despachos Internos.
DESCRIPTION:
URL:https://www.goiasfomento.com/agenda/lucas-fernandes-diretor-presidente-interino-despachos-internos-211/
LOCATION:Gabinete da Presidência.
CATEGORIES:Presidência
END:VEVENT
BEGIN:VEVENT
DTSTART;TZID=America/Sao_Paulo:20250109T090000
DTEND;TZID=America/Sao_Paulo:20250109T120000
DTSTAMP:20260424T213853
CREATED:20250109T152749Z
LAST-MODIFIED:20250109T152749Z
UID:39179-1736413200-1736424000@www.goiasfomento.com
SUMMARY:Lucas Fernandes – Diretor Presidente (Interino): Reunião com o Prefeito de Bela Vista de Goiás\, Eurípedes do Carmo\, para Alinhar Parceria  com a GoiásFomento.
DESCRIPTION:
URL:https://www.goiasfomento.com/agenda/lucas-fernandes-diretor-presidente-interino-reuniao-com-o-prefeito-de-bela-vista-de-goias-euripedes-do-carmo-para-alinhar-parceria-com-a-goiasfomento/
LOCATION:Prefeitura de Bela Vista de Goiás.
CATEGORIES:Presidência
END:VEVENT
BEGIN:VEVENT
DTSTART;TZID=America/Sao_Paulo:20250109T140000
DTEND;TZID=America/Sao_Paulo:20250109T180000
DTSTAMP:20260424T213853
CREATED:20250109T152913Z
LAST-MODIFIED:20250109T152913Z
UID:39182-1736431200-1736445600@www.goiasfomento.com
SUMMARY:Lucas Fernandes – Diretor Presidente (Interino): Despachos Internos.
DESCRIPTION:
URL:https://www.goiasfomento.com/agenda/lucas-fernandes-diretor-presidente-interino-despachos-internos-212/
LOCATION:Gabinete da Presidência.
CATEGORIES:Presidência
END:VEVENT
END:VCALENDAR