BEGIN:VCALENDAR
VERSION:2.0
PRODID:-//GoiásFomento - Agência de Fomento - ECPv6.15.20//NONSGML v1.0//EN
CALSCALE:GREGORIAN
METHOD:PUBLISH
X-WR-CALNAME:GoiásFomento - Agência de Fomento
X-ORIGINAL-URL:https://www.goiasfomento.com
X-WR-CALDESC:Eventos para GoiásFomento - Agência de Fomento
REFRESH-INTERVAL;VALUE=DURATION:PT1H
X-Robots-Tag:noindex
X-PUBLISHED-TTL:PT1H
BEGIN:VTIMEZONE
TZID:America/Sao_Paulo
BEGIN:STANDARD
TZOFFSETFROM:-0300
TZOFFSETTO:-0300
TZNAME:-03
DTSTART:20230101T000000
END:STANDARD
END:VTIMEZONE
BEGIN:VEVENT
DTSTART;TZID=America/Sao_Paulo:20241129T080000
DTEND;TZID=America/Sao_Paulo:20241129T120000
DTSTAMP:20260424T231525
CREATED:20241129T193049Z
LAST-MODIFIED:20241129T193049Z
UID:38447-1732867200-1732881600@www.goiasfomento.com
SUMMARY:Lucas Fernandes – Diretor Presidente (Interino): Representar o Excelentíssimo Senhor Governador do Estado de Goiás\, Ronaldo Ramos Caiado na Síntese de Pastores em Caldas Novas-GO.
DESCRIPTION:
URL:https://www.goiasfomento.com/agenda/lucas-fernandes-diretor-presidente-interino-representar-o-excelentissimo-senhor-governador-do-estado-de-goias-ronaldo-ramos-caiado-na-sintese-de-pastores-em-caldas-novas-go-2/
LOCATION:Caldas Novas GO.
CATEGORIES:Presidência
END:VEVENT
BEGIN:VEVENT
DTSTART;TZID=America/Sao_Paulo:20241129T140000
DTEND;TZID=America/Sao_Paulo:20241129T180000
DTSTAMP:20260424T231525
CREATED:20241129T113958Z
LAST-MODIFIED:20241129T131804Z
UID:38403-1732888800-1732903200@www.goiasfomento.com
SUMMARY:Lucas Fernandes – Diretor Presidente (Interino): Evento com o Prefeito Eleito Eurípedes do Carmo.
DESCRIPTION:
URL:https://www.goiasfomento.com/agenda/lucas-fernandes-diretor-presidente-interino-despachos-internos-169/
LOCATION:Bela Vista de Goiás.
CATEGORIES:Presidência
END:VEVENT
END:VCALENDAR