BEGIN:VCALENDAR
VERSION:2.0
PRODID:-//GoiásFomento - Agência de Fomento - ECPv6.15.20//NONSGML v1.0//EN
CALSCALE:GREGORIAN
METHOD:PUBLISH
X-WR-CALNAME:GoiásFomento - Agência de Fomento
X-ORIGINAL-URL:https://www.goiasfomento.com
X-WR-CALDESC:Eventos para GoiásFomento - Agência de Fomento
REFRESH-INTERVAL;VALUE=DURATION:PT1H
X-Robots-Tag:noindex
X-PUBLISHED-TTL:PT1H
BEGIN:VTIMEZONE
TZID:America/Sao_Paulo
BEGIN:STANDARD
TZOFFSETFROM:-0300
TZOFFSETTO:-0300
TZNAME:-03
DTSTART:20230101T000000
END:STANDARD
END:VTIMEZONE
BEGIN:VEVENT
DTSTART;TZID=America/Sao_Paulo:20241114T080000
DTEND;TZID=America/Sao_Paulo:20241114T093000
DTSTAMP:20260425T005926
CREATED:20241114T121915Z
LAST-MODIFIED:20241114T125146Z
UID:38124-1731571200-1731576600@www.goiasfomento.com
SUMMARY:Lucas Fernandes – Diretor Presidente (Interino): Despachos Internos.
DESCRIPTION:
URL:https://www.goiasfomento.com/agenda/lucas-fernandes-diretor-presidente-interino-despachos-internos-147/
LOCATION:Gabinete da Presidência da GoiásFomento – Agência de Fomento de Goiás.
CATEGORIES:Presidência
END:VEVENT
BEGIN:VEVENT
DTSTART;TZID=America/Sao_Paulo:20241114T093000
DTEND;TZID=America/Sao_Paulo:20241114T103000
DTSTAMP:20260425T005926
CREATED:20241114T125556Z
LAST-MODIFIED:20241114T125556Z
UID:38139-1731576600-1731580200@www.goiasfomento.com
SUMMARY:Lucas Fernandes – Diretor Presidente (Interino): Reunião da Direx.
DESCRIPTION:
URL:https://www.goiasfomento.com/agenda/lucas-fernandes-diretor-presidente-interino-reuniao-da-direx/
LOCATION:Gabinete da Presidência da GoiásFomento – Agência de Fomento de Goiás.
CATEGORIES:Presidência
END:VEVENT
BEGIN:VEVENT
DTSTART;TZID=America/Sao_Paulo:20241114T103000
DTEND;TZID=America/Sao_Paulo:20241114T120000
DTSTAMP:20260425T005926
CREATED:20241114T130340Z
LAST-MODIFIED:20241114T130340Z
UID:38143-1731580200-1731585600@www.goiasfomento.com
SUMMARY:Lucas Fernandes – Diretor Presidente (Interino): Despachos Internos.
DESCRIPTION:
URL:https://www.goiasfomento.com/agenda/lucas-fernandes-diretor-presidente-interino-despachos-internos-149/
LOCATION:Gabinete da Presidência da GoiásFomento – Agência de Fomento de Goiás.
CATEGORIES:Presidência
END:VEVENT
BEGIN:VEVENT
DTSTART;TZID=America/Sao_Paulo:20241114T140000
DTEND;TZID=America/Sao_Paulo:20241114T170000
DTSTAMP:20260425T005926
CREATED:20241114T121941Z
LAST-MODIFIED:20241114T122358Z
UID:38126-1731592800-1731603600@www.goiasfomento.com
SUMMARY:Lucas Fernandes – Diretor Presidente (Interino): Despachos Internos.
DESCRIPTION:
URL:https://www.goiasfomento.com/agenda/lucas-fernandes-diretor-presidente-interino-despachos-internos-148/
LOCATION:Gabinete da Presidência da GoiásFomento – Agência de Fomento de Goiás.
CATEGORIES:Presidência
END:VEVENT
BEGIN:VEVENT
DTSTART;TZID=America/Sao_Paulo:20241114T170000
DTEND;TZID=America/Sao_Paulo:20241114T200000
DTSTAMP:20260425T005926
CREATED:20241114T122536Z
LAST-MODIFIED:20241114T122536Z
UID:38132-1731603600-1731614400@www.goiasfomento.com
SUMMARY:Lucas Fernandes – Diretor Presidente (Interino): Abertura do Natal do Bem 2024.
DESCRIPTION:
URL:https://www.goiasfomento.com/agenda/lucas-fernandes-diretor-presidente-interino-abertura-do-natal-do-bem-2024/
LOCATION:Centro Cultural Oscar Niemeyer\, Av. Dep. Jamel Cecílio\, Km 01 – Chácaras Alto da Glória\, Goiânia – GO\, 74891-135\, Brasil
CATEGORIES:Presidência
END:VEVENT
END:VCALENDAR