BEGIN:VCALENDAR
VERSION:2.0
PRODID:-//GoiásFomento - Agência de Fomento - ECPv6.15.20//NONSGML v1.0//EN
CALSCALE:GREGORIAN
METHOD:PUBLISH
X-ORIGINAL-URL:https://www.goiasfomento.com
X-WR-CALDESC:Eventos para GoiásFomento - Agência de Fomento
REFRESH-INTERVAL;VALUE=DURATION:PT1H
X-Robots-Tag:noindex
X-PUBLISHED-TTL:PT1H
BEGIN:VTIMEZONE
TZID:America/Sao_Paulo
BEGIN:STANDARD
TZOFFSETFROM:-0300
TZOFFSETTO:-0300
TZNAME:-03
DTSTART:20230101T000000
END:STANDARD
END:VTIMEZONE
BEGIN:VEVENT
DTSTART;TZID=America/Sao_Paulo:20241113T080000
DTEND;TZID=America/Sao_Paulo:20241113T090000
DTSTAMP:20260425T005902
CREATED:20241113T114405Z
LAST-MODIFIED:20241113T114422Z
UID:38104-1731484800-1731488400@www.goiasfomento.com
SUMMARY:Lucas Fernandes – Diretor Presidente (Interino): Despachos Internos.
DESCRIPTION:
URL:https://www.goiasfomento.com/agenda/lucas-fernandes-diretor-presidente-interino-despachos-internos-144/
LOCATION:Gabinete da Presidência da GoiásFomento – Agência de Fomento de Goiás.
CATEGORIES:Presidência
END:VEVENT
BEGIN:VEVENT
DTSTART;TZID=America/Sao_Paulo:20241113T090000
DTEND;TZID=America/Sao_Paulo:20241113T103000
DTSTAMP:20260425T005902
CREATED:20241113T115627Z
LAST-MODIFIED:20241113T115627Z
UID:38116-1731488400-1731493800@www.goiasfomento.com
SUMMARY:Lucas Fernandes – Diretor Presidente (Interino): Reunião com Wellington Matos de Lima - Secretaria de Desenvolvimento Social - SEDS.
DESCRIPTION:
URL:https://www.goiasfomento.com/agenda/lucas-fernandes-diretor-presidente-interino-reuniao-com-wellington-matos-de-lima-secretaria-de-desenvolvimento-social-seds/
LOCATION:Secretaria de Desenvolvimento Social – SEDS.
CATEGORIES:Presidência
END:VEVENT
BEGIN:VEVENT
DTSTART;TZID=America/Sao_Paulo:20241113T103000
DTEND;TZID=America/Sao_Paulo:20241113T120000
DTSTAMP:20260425T005902
CREATED:20241113T114611Z
LAST-MODIFIED:20241113T114611Z
UID:38108-1731493800-1731499200@www.goiasfomento.com
SUMMARY:Lucas Fernandes – Diretor Presidente (Interino): Despachos Internos.
DESCRIPTION:
URL:https://www.goiasfomento.com/agenda/lucas-fernandes-diretor-presidente-interino-despachos-internos-145/
LOCATION:Gabinete da Presidência da GoiásFomento – Agência de Fomento de Goiás.
CATEGORIES:Presidência
END:VEVENT
BEGIN:VEVENT
DTSTART;TZID=America/Sao_Paulo:20241113T140000
DTEND;TZID=America/Sao_Paulo:20241113T180000
DTSTAMP:20260425T005902
CREATED:20241113T114633Z
LAST-MODIFIED:20241113T114633Z
UID:38110-1731506400-1731520800@www.goiasfomento.com
SUMMARY:Lucas Fernandes – Diretor Presidente (Interino): Despachos Internos.
DESCRIPTION:
URL:https://www.goiasfomento.com/agenda/lucas-fernandes-diretor-presidente-interino-despachos-internos-146/
LOCATION:Gabinete da Presidência da GoiásFomento – Agência de Fomento de Goiás.
CATEGORIES:Presidência
END:VEVENT
END:VCALENDAR