BEGIN:VCALENDAR
VERSION:2.0
PRODID:-//GoiásFomento - Agência de Fomento - ECPv6.15.20//NONSGML v1.0//EN
CALSCALE:GREGORIAN
METHOD:PUBLISH
X-ORIGINAL-URL:https://www.goiasfomento.com
X-WR-CALDESC:Eventos para GoiásFomento - Agência de Fomento
REFRESH-INTERVAL;VALUE=DURATION:PT1H
X-Robots-Tag:noindex
X-PUBLISHED-TTL:PT1H
BEGIN:VTIMEZONE
TZID:America/Sao_Paulo
BEGIN:STANDARD
TZOFFSETFROM:-0300
TZOFFSETTO:-0300
TZNAME:-03
DTSTART:20230101T000000
END:STANDARD
END:VTIMEZONE
BEGIN:VEVENT
DTSTART;TZID=America/Sao_Paulo:20241111T080000
DTEND;TZID=America/Sao_Paulo:20241111T113000
DTSTAMP:20260425T005903
CREATED:20241111T114803Z
LAST-MODIFIED:20241111T174216Z
UID:38019-1731312000-1731324600@www.goiasfomento.com
SUMMARY:Lucas Fernandes – Diretor Presidente (Interino): Despachos Internos.
DESCRIPTION:
URL:https://www.goiasfomento.com/agenda/lucas-fernandes-diretor-presidente-interino-despachos-internos-138/
LOCATION:Gabinete da Presidência da GoiásFomento – Agência de Fomento de Goiás.
CATEGORIES:Presidência
END:VEVENT
BEGIN:VEVENT
DTSTART;TZID=America/Sao_Paulo:20241111T113000
DTEND;TZID=America/Sao_Paulo:20241111T120000
DTSTAMP:20260425T005903
CREATED:20241111T174528Z
LAST-MODIFIED:20241111T181316Z
UID:38044-1731324600-1731326400@www.goiasfomento.com
SUMMARY:Lucas Fernandes – Diretor Presidente (Interino): Reunião da Direx  com Rafael Soffa Rézio – Gerente de Programas e Políticas Sociais.
DESCRIPTION:
URL:https://www.goiasfomento.com/agenda/lucas-fernandes-diretor-presidente-interino-reuniao-da-direx-e-com-rafael-soffa-rezio-gerente-de-programas-e-politicas-sociais/
LOCATION:Diretoria Administrativa e Financeira da GoiásFomento – Agência de Fomento de Goiás.
CATEGORIES:Presidência
END:VEVENT
BEGIN:VEVENT
DTSTART;TZID=America/Sao_Paulo:20241111T140000
DTEND;TZID=America/Sao_Paulo:20241111T180000
DTSTAMP:20260425T005903
CREATED:20241111T114826Z
LAST-MODIFIED:20241111T130959Z
UID:38021-1731333600-1731348000@www.goiasfomento.com
SUMMARY:Lucas Fernandes – Diretor Presidente (Interino): Reunião com a Equipe de Transição do Prefeito Eleito Sandro Mabel.
DESCRIPTION:
URL:https://www.goiasfomento.com/agenda/lucas-fernandes-diretor-presidente-interino-despachos-internos-139/
LOCATION:Auditório do Paço Municipal – Goiãnia-Goiás.
CATEGORIES:Presidência
END:VEVENT
END:VCALENDAR