BEGIN:VCALENDAR
VERSION:2.0
PRODID:-//GoiásFomento - Agência de Fomento - ECPv6.15.20//NONSGML v1.0//EN
CALSCALE:GREGORIAN
METHOD:PUBLISH
X-WR-CALNAME:GoiásFomento - Agência de Fomento
X-ORIGINAL-URL:https://www.goiasfomento.com
X-WR-CALDESC:Eventos para GoiásFomento - Agência de Fomento
REFRESH-INTERVAL;VALUE=DURATION:PT1H
X-Robots-Tag:noindex
X-PUBLISHED-TTL:PT1H
BEGIN:VTIMEZONE
TZID:America/Sao_Paulo
BEGIN:STANDARD
TZOFFSETFROM:-0300
TZOFFSETTO:-0300
TZNAME:-03
DTSTART:20230101T000000
END:STANDARD
END:VTIMEZONE
BEGIN:VEVENT
DTSTART;TZID=America/Sao_Paulo:20241109T080000
DTEND;TZID=America/Sao_Paulo:20241109T120000
DTSTAMP:20260425T005836
CREATED:20241104T114515Z
LAST-MODIFIED:20241104T114515Z
UID:37843-1731139200-1731153600@www.goiasfomento.com
SUMMARY:Lucas Fernandes – Diretor Presidente (Interino): GOIÁS SOCIAL.
DESCRIPTION:
URL:https://www.goiasfomento.com/agenda/lucas-fernandes-diretor-presidente-interino-goias-social-11/
LOCATION:Avenida Buenos Aires Chácara Botafgo – Estacionamento de Ônibus Ao lado do terminal do Jardim Novo Mundo-Goiânia-GO.
CATEGORIES:Presidência
END:VEVENT
END:VCALENDAR