BEGIN:VCALENDAR
VERSION:2.0
PRODID:-//GoiásFomento - Agência de Fomento - ECPv6.15.20//NONSGML v1.0//EN
CALSCALE:GREGORIAN
METHOD:PUBLISH
X-WR-CALNAME:GoiásFomento - Agência de Fomento
X-ORIGINAL-URL:https://www.goiasfomento.com
X-WR-CALDESC:Eventos para GoiásFomento - Agência de Fomento
REFRESH-INTERVAL;VALUE=DURATION:PT1H
X-Robots-Tag:noindex
X-PUBLISHED-TTL:PT1H
BEGIN:VTIMEZONE
TZID:America/Sao_Paulo
BEGIN:STANDARD
TZOFFSETFROM:-0300
TZOFFSETTO:-0300
TZNAME:-03
DTSTART:20230101T000000
END:STANDARD
END:VTIMEZONE
BEGIN:VEVENT
DTSTART;TZID=America/Sao_Paulo:20241028T080000
DTEND;TZID=America/Sao_Paulo:20241028T120000
DTSTAMP:20260425T005927
CREATED:20241025T110346Z
LAST-MODIFIED:20241025T110346Z
UID:37671-1730102400-1730116800@www.goiasfomento.com
SUMMARY:Lucas Fernandes – Diretor Presidente (Interino): Goiás Social.
DESCRIPTION:
URL:https://www.goiasfomento.com/agenda/lucas-fernandes-diretor-presidente-interino-goias-social-9/
LOCATION:Rua GB-7 Qd. 27 – Centro Esportivo e Lazer Jardim Guanabara II – Goiânia-Goiás.
CATEGORIES:Presidência
END:VEVENT
BEGIN:VEVENT
DTSTART;TZID=America/Sao_Paulo:20241028T140000
DTEND;TZID=America/Sao_Paulo:20241028T180000
DTSTAMP:20260425T005928
CREATED:20241028T112611Z
LAST-MODIFIED:20241028T112611Z
UID:37695-1730124000-1730138400@www.goiasfomento.com
SUMMARY:Lucas Fernandes – Diretor Presidente (Interino): Despachos Internos.
DESCRIPTION:
URL:https://www.goiasfomento.com/agenda/lucas-fernandes-diretor-presidente-interino-despachos-internos-121/
LOCATION:Gabinete da Presidência da GoiásFomento – Agência de Fomento de Goiás.
CATEGORIES:Presidência
END:VEVENT
END:VCALENDAR